Workbook

Sheet 2027年間カレンダー
B2: 2027 | L2: 令和9年 丁未(ひつじ年) | W2: ANNUAL CALENDAR
B5: 1月 | E5: January 睦月 | J5: 2月 | M5: February 如月 | R5: 3月 | U5: March 弥生 | Z5: 4月 | AC5: April 卯月
B6: 日 | C6: 月 | D6: 火 | E6: 水 | F6: 木 | G6: 金 | H6: 土 | J6: 日 | K6: 月 | L6: 火 | M6: 水 | N6: 木 | O6: 金 | P6: 土 | R6: 日 | S6: 月 | T6: 火 | U6: 水 | V6: 木 | W6: 金 | X6: 土 | Z6: 日 | AA6: 月 | AB6: 火 | AC6: 水 | AD6: 木 | AE6: 金 | AF6: 土
G7: 46388 | H7: 46389 | K7: 46419 | L7: 46420 | M7: 46421 | N7: 46422 | O7: 46423 | P7: 46424 | S7: 46447 | T7: 46448 | U7: 46449 | V7: 46450 | W7: 46451 | X7: 46452 | AD7: 46478 | AE7: 46479 | AF7: 46480
B8: 46390 | C8: 46391 | D8: 46392 | E8: 46393 | F8: 46394 | G8: 46395 | H8: 46396 | J8: 46425 | K8: 46426 | L8: 46427 | M8: 46428 | N8: 46429 | O8: 46430 | P8: 46431 | R8: 46453 | S8: 46454 | T8: 46455 | U8: 46456 | V8: 46457 | W8: 46458 | X8: 46459 | Z8: 46481 | AA8: 46482 | AB8: 46483 | AC8: 46484 | AD8: 46485 | AE8: 46486 | AF8: 46487
B9: 46397 | C9: 46398 | D9: 46399 | E9: 46400 | F9: 46401 | G9: 46402 | H9: 46403 | J9: 46432 | K9: 46433 | L9: 46434 | M9: 46435 | N9: 46436 | O9: 46437 | P9: 46438 | R9: 46460 | S9: 46461 | T9: 46462 | U9: 46463 | V9: 46464 | W9: 46465 | X9: 46466 | Z9: 46488 | AA9: 46489 | AB9: 46490 | AC9: 46491 | AD9: 46492 | AE9: 46493 | AF9: 46494
B10: 46404 | C10: 46405 | D10: 46406 | E10: 46407 | F10: 46408 | G10: 46409 | H10: 46410 | J10: 46439 | K10: 46440 | L10: 46441 | M10: 46442 | N10: 46443 | O10: 46444 | P10: 46445 | R10: 46467 | S10: 46468 | T10: 46469 | U10: 46470 | V10: 46471 | W10: 46472 | X10: 46473 | Z10: 46495 | AA10: 46496 | AB10: 46497 | AC10: 46498 | AD10: 46499 | AE10: 46500 | AF10: 46501
B11: 46411 | C11: 46412 | D11: 46413 | E11: 46414 | F11: 46415 | G11: 46416 | H11: 46417 | J11: 46446 | R11: 46474 | S11: 46475 | T11: 46476 | U11: 46477 | Z11: 46502 | AA11: 46503 | AB11: 46504 | AC11: 46505 | AD11: 46506 | AE11: 46507
B12: 46418
B14: 5月 | E14: May 皐月 | J14: 6月 | M14: June 水無月 | R14: 7月 | U14: July 文月 | Z14: 8月 | AC14: August 葉月
B15: 日 | C15: 月 | D15: 火 | E15: 水 | F15: 木 | G15: 金 | H15: 土 | J15: 日 | K15: 月 | L15: 火 | M15: 水 | N15: 木 | O15: 金 | P15: 土 | R15: 日 | S15: 月 | T15: 火 | U15: 水 | V15: 木 | W15: 金 | X15: 土 | Z15: 日 | AA15: 月 | AB15: 火 | AC15: 水 | AD15: 木 | AE15: 金 | AF15: 土
H16: 46508 | L16: 46539 | M16: 46540 | N16: 46541 | O16: 46542 | P16: 46543 | V16: 46569 | W16: 46570 | X16: 46571 | Z16: 46600 | AA16: 46601 | AB16: 46602 | AC16: 46603 | AD16: 46604 | AE16: 46605 | AF16: 46606
B17: 46509 | C17: 46510 | D17: 46511 | E17: 46512 | F17: 46513 | G17: 46514 | H17: 46515 | J17: 46544 | K17: 46545 | L17: 46546 | M17: 46547 | N17: 46548 | O17: 46549 | P17: 46550 | R17: 46572 | S17: 46573 | T17: 46574 | U17: 46575 | V17: 46576 | W17: 46577 | X17: 46578 | Z17: 46607 | AA17: 46608 | AB17: 46609 | AC17: 46610 | AD17: 46611 | AE17: 46612 | AF17: 46613
B18: 46516 | C18: 46517 | D18: 46518 | E18: 46519 | F18: 46520 | G18: 46521 | H18: 46522 | J18: 46551 | K18: 46552 | L18: 46553 | M18: 46554 | N18: 46555 | O18: 46556 | P18: 46557 | R18: 46579 | S18: 46580 | T18: 46581 | U18: 46582 | V18: 46583 | W18: 46584 | X18: 46585 | Z18: 46614 | AA18: 46615 | AB18: 46616 | AC18: 46617 | AD18: 46618 | AE18: 46619 | AF18: 46620
B19: 46523 | C19: 46524 | D19: 46525 | E19: 46526 | F19: 46527 | G19: 46528 | H19: 46529 | J19: 46558 | K19: 46559 | L19: 46560 | M19: 46561 | N19: 46562 | O19: 46563 | P19: 46564 | R19: 46586 | S19: 46587 | T19: 46588 | U19: 46589 | V19: 46590 | W19: 46591 | X19: 46592 | Z19: 46621 | AA19: 46622 | AB19: 46623 | AC19: 46624 | AD19: 46625 | AE19: 46626 | AF19: 46627
B20: 46530 | C20: 46531 | D20: 46532 | E20: 46533 | F20: 46534 | G20: 46535 | H20: 46536 | J20: 46565 | K20: 46566 | L20: 46567 | M20: 46568 | R20: 46593 | S20: 46594 | T20: 46595 | U20: 46596 | V20: 46597 | W20: 46598 | X20: 46599 | Z20: 46628 | AA20: 46629 | AB20: 46630
B21: 46537 | C21: 46538
B23: 9月 | E23: September 長月 | J23: 10月 | M23: October 神無月 | R23: 11月 | U23: November 霜月 | Z23: 12月 | AC23: December 師走
B24: 日 | C24: 月 | D24: 火 | E24: 水 | F24: 木 | G24: 金 | H24: 土 | J24: 日 | K24: 月 | L24: 火 | M24: 水 | N24: 木 | O24: 金 | P24: 土 | R24: 日 | S24: 月 | T24: 火 | U24: 水 | V24: 木 | W24: 金 | X24: 土 | Z24: 日 | AA24: 月 | AB24: 火 | AC24: 水 | AD24: 木 | AE24: 金 | AF24: 土
E25: 46631 | F25: 46632 | G25: 46633 | H25: 46634 | O25: 46661 | P25: 46662 | S25: 46692 | T25: 46693 | U25: 46694 | V25: 46695 | W25: 46696 | X25: 46697 | AC25: 46722 | AD25: 46723 | AE25: 46724 | AF25: 46725
B26: 46635 | C26: 46636 | D26: 46637 | E26: 46638 | F26: 46639 | G26: 46640 | H26: 46641 | J26: 46663 | K26: 46664 | L26: 46665 | M26: 46666 | N26: 46667 | O26: 46668 | P26: 46669 | R26: 46698 | S26: 46699 | T26: 46700 | U26: 46701 | V26: 46702 | W26: 46703 | X26: 46704 | Z26: 46726 | AA26: 46727 | AB26: 46728 | AC26: 46729 | AD26: 46730 | AE26: 46731 | AF26: 46732
B27: 46642 | C27: 46643 | D27: 46644 | E27: 46645 | F27: 46646 | G27: 46647 | H27: 46648 | J27: 46670 | K27: 46671 | L27: 46672 | M27: 46673 | N27: 46674 | O27: 46675 | P27: 46676 | R27: 46705 | S27: 46706 | T27: 46707 | U27: 46708 | V27: 46709 | W27: 46710 | X27: 46711 | Z27: 46733 | AA27: 46734 | AB27: 46735 | AC27: 46736 | AD27: 46737 | AE27: 46738 | AF27: 46739
B28: 46649 | C28: 46650 | D28: 46651 | E28: 46652 | F28: 46653 | G28: 46654 | H28: 46655 | J28: 46677 | K28: 46678 | L28: 46679 | M28: 46680 | N28: 46681 | O28: 46682 | P28: 46683 | R28: 46712 | S28: 46713 | T28: 46714 | U28: 46715 | V28: 46716 | W28: 46717 | X28: 46718 | Z28: 46740 | AA28: 46741 | AB28: 46742 | AC28: 46743 | AD28: 46744 | AE28: 46745 | AF28: 46746
B29: 46656 | C29: 46657 | D29: 46658 | E29: 46659 | F29: 46660 | J29: 46684 | K29: 46685 | L29: 46686 | M29: 46687 | N29: 46688 | O29: 46689 | P29: 46690 | R29: 46719 | S29: 46720 | T29: 46721 | Z29: 46747 | AA29: 46748 | AB29: 46749 | AC29: 46750 | AD29: 46751 | AE29: 46752
J30: 46691
B33: 2027年の祝日
B34: =IF('祝日'!A5="","",MONTH('祝日'!A5)&"/"&DAY('祝日'!A5)&"("&CHOOSE(WEEKDAY('祝日'!A5),"日","月","火","水","木","金","土")&")") | E34: =IF('祝日'!C5="","",'祝日'!C5) | J34: =IF('祝日'!A10="","",MONTH('祝日'!A10)&"/"&DAY('祝日'!A10)&"("&CHOOSE(WEEKDAY('祝日'!A10),"日","月","火","水","木","金","土")&")") | M34: =IF('祝日'!C10="","",'祝日'!C10) | R34: =IF('祝日'!A15="","",MONTH('祝日'!A15)&"/"&DAY('祝日'!A15)&"("&CHOOSE(WEEKDAY('祝日'!A15),"日","月","火","水","木","金","土")&")") | U34: =IF('祝日'!C15="","",'祝日'!C15) | Z34: =IF('祝日'!A20="","",MONTH('祝日'!A20)&"/"&DAY('祝日'!A20)&"("&CHOOSE(WEEKDAY('祝日'!A20),"日","月","火","水","木","金","土")&")") | AC34: =IF('祝日'!C20="","",'祝日'!C20)
B35: =IF('祝日'!A6="","",MONTH('祝日'!A6)&"/"&DAY('祝日'!A6)&"("&CHOOSE(WEEKDAY('祝日'!A6),"日","月","火","水","木","金","土")&")") | E35: =IF('祝日'!C6="","",'祝日'!C6) | J35: =IF('祝日'!A11="","",MONTH('祝日'!A11)&"/"&DAY('祝日'!A11)&"("&CHOOSE(WEEKDAY('祝日'!A11),"日","月","火","水","木","金","土")&")") | M35: =IF('祝日'!C11="","",'祝日'!C11) | R35: =IF('祝日'!A16="","",MONTH('祝日'!A16)&"/"&DAY('祝日'!A16)&"("&CHOOSE(WEEKDAY('祝日'!A16),"日","月","火","水","木","金","土")&")") | U35: =IF('祝日'!C16="","",'祝日'!C16) | Z35: =IF('祝日'!A21="","",MONTH('祝日'!A21)&"/"&DAY('祝日'!A21)&"("&CHOOSE(WEEKDAY('祝日'!A21),"日","月","火","水","木","金","土")&")") | AC35: =IF('祝日'!C21="","",'祝日'!C21)
B36: =IF('祝日'!A7="","",MONTH('祝日'!A7)&"/"&DAY('祝日'!A7)&"("&CHOOSE(WEEKDAY('祝日'!A7),"日","月","火","水","木","金","土")&")") | E36: =IF('祝日'!C7="","",'祝日'!C7) | J36: =IF('祝日'!A12="","",MONTH('祝日'!A12)&"/"&DAY('祝日'!A12)&"("&CHOOSE(WEEKDAY('祝日'!A12),"日","月","火","水","木","金","土")&")") | M36: =IF('祝日'!C12="","",'祝日'!C12) | R36: =IF('祝日'!A17="","",MONTH('祝日'!A17)&"/"&DAY('祝日'!A17)&"("&CHOOSE(WEEKDAY('祝日'!A17),"日","月","火","水","木","金","土")&")") | U36: =IF('祝日'!C17="","",'祝日'!C17) | Z36: =IF('祝日'!A22="","",MONTH('祝日'!A22)&"/"&DAY('祝日'!A22)&"("&CHOOSE(WEEKDAY('祝日'!A22),"日","月","火","水","木","金","土")&")") | AC36: =IF('祝日'!C22="","",'祝日'!C22)
B37: =IF('祝日'!A8="","",MONTH('祝日'!A8)&"/"&DAY('祝日'!A8)&"("&CHOOSE(WEEKDAY('祝日'!A8),"日","月","火","水","木","金","土")&")") | E37: =IF('祝日'!C8="","",'祝日'!C8) | J37: =IF('祝日'!A13="","",MONTH('祝日'!A13)&"/"&DAY('祝日'!A13)&"("&CHOOSE(WEEKDAY('祝日'!A13),"日","月","火","水","木","金","土")&")") | M37: =IF('祝日'!C13="","",'祝日'!C13) | R37: =IF('祝日'!A18="","",MONTH('祝日'!A18)&"/"&DAY('祝日'!A18)&"("&CHOOSE(WEEKDAY('祝日'!A18),"日","月","火","水","木","金","土")&")") | U37: =IF('祝日'!C18="","",'祝日'!C18) | Z37: =IF('祝日'!A23="","",MONTH('祝日'!A23)&"/"&DAY('祝日'!A23)&"("&CHOOSE(WEEKDAY('祝日'!A23),"日","月","火","水","木","金","土")&")") | AC37: =IF('祝日'!C23="","",'祝日'!C23)
B38: =IF('祝日'!A9="","",MONTH('祝日'!A9)&"/"&DAY('祝日'!A9)&"("&CHOOSE(WEEKDAY('祝日'!A9),"日","月","火","水","木","金","土")&")") | E38: =IF('祝日'!C9="","",'祝日'!C9) | J38: =IF('祝日'!A14="","",MONTH('祝日'!A14)&"/"&DAY('祝日'!A14)&"("&CHOOSE(WEEKDAY('祝日'!A14),"日","月","火","水","木","金","土")&")") | M38: =IF('祝日'!C14="","",'祝日'!C14) | R38: =IF('祝日'!A19="","",MONTH('祝日'!A19)&"/"&DAY('祝日'!A19)&"("&CHOOSE(WEEKDAY('祝日'!A19),"日","月","火","水","木","金","土")&")") | U38: =IF('祝日'!C19="","",'祝日'!C19) | Z38: =IF('祝日'!A24="","",MONTH('祝日'!A24)&"/"&DAY('祝日'!A24)&"("&CHOOSE(WEEKDAY('祝日'!A24),"日","月","火","水","木","金","土")&")") | AC38: =IF('祝日'!C24="","",'祝日'!C24)
B40: ※ 祝日は「祝日」シートの一覧に連動しています(色分け・一覧とも自動反映)。春分・秋分の日は国立天文台「令和9年暦要項」(令和8年2月2日発表)に基づきます。

Sheet 祝日
A1: 2027年(令和9年) 国民の祝日
A2: ※ この一覧を参照して各カレンダーの祝日色・祝日名が決まります。黄色いセルは編集可(行の追加も可、40行目まで)。
A3: 出典: 内閣府「国民の祝日」／国立天文台 令和9年(2027)暦要項(令和8年2月2日発表: 春分の日3/21・秋分の日9/23)
A4: 日付 | B4: 曜日 | C4: 名称 | D4: 備考
A5: 46388 | B5: =IF(A5="","",CHOOSE(WEEKDAY(A5),"日","月","火","水","木","金","土")) | C5: 元日
A6: 46398 | B6: =IF(A6="","",CHOOSE(WEEKDAY(A6),"日","月","火","水","木","金","土")) | C6: 成人の日
A7: 46429 | B7: =IF(A7="","",CHOOSE(WEEKDAY(A7),"日","月","火","水","木","金","土")) | C7: 建国記念の日
A8: 46441 | B8: =IF(A8="","",CHOOSE(WEEKDAY(A8),"日","月","火","水","木","金","土")) | C8: 天皇誕生日
A9: 46467 | B9: =IF(A9="","",CHOOSE(WEEKDAY(A9),"日","月","火","水","木","金","土")) | C9: 春分の日
A10: 46468 | B10: =IF(A10="","",CHOOSE(WEEKDAY(A10),"日","月","火","水","木","金","土")) | C10: 振替休日 | D10: 春分の日(3/21・日曜)の振替休日
A11: 46506 | B11: =IF(A11="","",CHOOSE(WEEKDAY(A11),"日","月","火","水","木","金","土")) | C11: 昭和の日
A12: 46510 | B12: =IF(A12="","",CHOOSE(WEEKDAY(A12),"日","月","火","水","木","金","土")) | C12: 憲法記念日
A13: 46511 | B13: =IF(A13="","",CHOOSE(WEEKDAY(A13),"日","月","火","水","木","金","土")) | C13: みどりの日 | D13: 5/1(土)〜5/5(水)は5連休
A14: 46512 | B14: =IF(A14="","",CHOOSE(WEEKDAY(A14),"日","月","火","水","木","金","土")) | C14: こどもの日
A15: 46587 | B15: =IF(A15="","",CHOOSE(WEEKDAY(A15),"日","月","火","水","木","金","土")) | C15: 海の日
A16: 46610 | B16: =IF(A16="","",CHOOSE(WEEKDAY(A16),"日","月","火","水","木","金","土")) | C16: 山の日
A17: 46650 | B17: =IF(A17="","",CHOOSE(WEEKDAY(A17),"日","月","火","水","木","金","土")) | C17: 敬老の日
A18: 46653 | B18: =IF(A18="","",CHOOSE(WEEKDAY(A18),"日","月","火","水","木","金","土")) | C18: 秋分の日
A19: 46671 | B19: =IF(A19="","",CHOOSE(WEEKDAY(A19),"日","月","火","水","木","金","土")) | C19: スポーツの日
A20: 46694 | B20: =IF(A20="","",CHOOSE(WEEKDAY(A20),"日","月","火","水","木","金","土")) | C20: 文化の日
A21: 46714 | B21: =IF(A21="","",CHOOSE(WEEKDAY(A21),"日","月","火","水","木","金","土")) | C21: 勤労感謝の日
B22: =IF(A22="","",CHOOSE(WEEKDAY(A22),"日","月","火","水","木","金","土"))
B23: =IF(A23="","",CHOOSE(WEEKDAY(A23),"日","月","火","水","木","金","土"))
B24: =IF(A24="","",CHOOSE(WEEKDAY(A24),"日","月","火","水","木","金","土"))
B25: =IF(A25="","",CHOOSE(WEEKDAY(A25),"日","月","火","水","木","金","土"))
B26: =IF(A26="","",CHOOSE(WEEKDAY(A26),"日","月","火","水","木","金","土"))
B27: =IF(A27="","",CHOOSE(WEEKDAY(A27),"日","月","火","水","木","金","土"))
B28: =IF(A28="","",CHOOSE(WEEKDAY(A28),"日","月","火","水","木","金","土"))
B29: =IF(A29="","",CHOOSE(WEEKDAY(A29),"日","月","火","水","木","金","土"))
B30: =IF(A30="","",CHOOSE(WEEKDAY(A30),"日","月","火","水","木","金","土"))
B31: =IF(A31="","",CHOOSE(WEEKDAY(A31),"日","月","火","水","木","金","土"))
B32: =IF(A32="","",CHOOSE(WEEKDAY(A32),"日","月","火","水","木","金","土"))
B33: =IF(A33="","",CHOOSE(WEEKDAY(A33),"日","月","火","水","木","金","土"))
... B40: =IF(A40="","",CHOOSE(WEEKDAY(A40),"日","月","火","水","木","金","土"))
