Workbook

Sheet 1月
B1: 1 | K1: 【写真を入れるには】 左の色帯の上に画像を挿入(挿入→画像)し、帯の大きさに合わせてください。
D2: JANUARY
D4: 睦月
D6: 2027 令和9年
B10: 日 | C10: 月 | D10: 火 | E10: 水 | F10: 木 | G10: 金 | H10: 土
G11: 46388 | H11: 46389
G12: =IF(G11="","",IFERROR(INDEX(祝日!$C$5:$C$40,MATCH(G11,祝日!$A$5:$A$40,0)),"")) -> 元日 | H12: =IF(H11="","",IFERROR(INDEX(祝日!$C$5:$C$40,MATCH(H11,祝日!$A$5:$A$40,0)),""))
B13: 46390 | C13: 46391 | D13: 46392 | E13: 46393 | F13: 46394 | G13: 46395 | H13: 46396
B14: =IF(B13="","",IFERROR(INDEX(祝日!$C$5:$C$40,MATCH(B13,祝日!$A$5:$A$40,0)),"")) | C14: =IF(C13="","",IFERROR(INDEX(祝日!$C$5:$C$40,MATCH(C13,祝日!$A$5:$A$40,0)),"")) | D14: =IF(D13="","",IFERROR(INDEX(祝日!$C$5:$C$40,MATCH(D13,祝日!$A$5:$A$40,0)),"")) | E14: =IF(E13="","",IFERROR(INDEX(祝日!$C$5:$C$40,MATCH(E13,祝日!$A$5:$A$40,0)),"")) | F14: =IF(F13="","",IFERROR(INDEX(祝日!$C$5:$C$40,MATCH(F13,祝日!$A$5:$A$40,0)),"")) | G14: =IF(G13="","",IFERROR(INDEX(祝日!$C$5:$C$40,MATCH(G13,祝日!$A$5:$A$40,0)),"")) | H14: =IF(H13="","",IFERROR(INDEX(祝日!$C$5:$C$40,MATCH(H13,祝日!$A$5:$A$40,0)),""))
B15: 46397 | C15: 46398 | D15: 46399 | E15: 46400 | F15: 46401 | G15: 46402 | H15: 46403
B16: =IF(B15="","",IFERROR(INDEX(祝日!$C$5:$C$40,MATCH(B15,祝日!$A$5:$A$40,0)),"")) | C16: =IF(C15="","",IFERROR(INDEX(祝日!$C$5:$C$40,MATCH(C15,祝日!$A$5:$A$40,0)),"")) -> 成人の日 | D16: =IF(D15="","",IFERROR(INDEX(祝日!$C$5:$C$40,MATCH(D15,祝日!$A$5:$A$40,0)),"")) | E16: =IF(E15="","",IFERROR(INDEX(祝日!$C$5:$C$40,MATCH(E15,祝日!$A$5:$A$40,0)),"")) | F16: =IF(F15="","",IFERROR(INDEX(祝日!$C$5:$C$40,MATCH(F15,祝日!$A$5:$A$40,0)),"")) | G16: =IF(G15="","",IFERROR(INDEX(祝日!$C$5:$C$40,MATCH(G15,祝日!$A$5:$A$40,0)),"")) | H16: =IF(H15="","",IFERROR(INDEX(祝日!$C$5:$C$40,MATCH(H15,祝日!$A$5:$A$40,0)),""))
B17: 46404 | C17: 46405 | D17: 46406 | E17: 46407 | F17: 46408 | G17: 46409 | H17: 46410
B18: =IF(B17="","",IFERROR(INDEX(祝日!$C$5:$C$40,MATCH(B17,祝日!$A$5:$A$40,0)),"")) | C18: =IF(C17="","",IFERROR(INDEX(祝日!$C$5:$C$40,MATCH(C17,祝日!$A$5:$A$40,0)),"")) | D18: =IF(D17="","",IFERROR(INDEX(祝日!$C$5:$C$40,MATCH(D17,祝日!$A$5:$A$40,0)),"")) | E18: =IF(E17="","",IFERROR(INDEX(祝日!$C$5:$C$40,MATCH(E17,祝日!$A$5:$A$40,0)),"")) | F18: =IF(F17="","",IFERROR(INDEX(祝日!$C$5:$C$40,MATCH(F17,祝日!$A$5:$A$40,0)),"")) | G18: =IF(G17="","",IFERROR(INDEX(祝日!$C$5:$C$40,MATCH(G17,祝日!$A$5:$A$40,0)),"")) | H18: =IF(H17="","",IFERROR(INDEX(祝日!$C$5:$C$40,MATCH(H17,祝日!$A$5:$A$40,0)),""))
B19: 46411 | C19: 46412 | D19: 46413 | E19: 46414 | F19: 46415 | G19: 46416 | H19: 46417
B20: =IF(B19="","",IFERROR(INDEX(祝日!$C$5:$C$40,MATCH(B19,祝日!$A$5:$A$40,0)),"")) | C20: =IF(C19="","",IFERROR(INDEX(祝日!$C$5:$C$40,MATCH(C19,祝日!$A$5:$A$40,0)),"")) | D20: =IF(D19="","",IFERROR(INDEX(祝日!$C$5:$C$40,MATCH(D19,祝日!$A$5:$A$40,0)),"")) | E20: =IF(E19="","",IFERROR(INDEX(祝日!$C$5:$C$40,MATCH(E19,祝日!$A$5:$A$40,0)),"")) | F20: =IF(F19="","",IFERROR(INDEX(祝日!$C$5:$C$40,MATCH(F19,祝日!$A$5:$A$40,0)),"")) | G20: =IF(G19="","",IFERROR(INDEX(祝日!$C$5:$C$40,MATCH(G19,祝日!$A$5:$A$40,0)),"")) | H20: =IF(H19="","",IFERROR(INDEX(祝日!$C$5:$C$40,MATCH(H19,祝日!$A$5:$A$40,0)),""))
B21: 46418
B22: =IF(B21="","",IFERROR(INDEX(祝日!$C$5:$C$40,MATCH(B21,祝日!$A$5:$A$40,0)),""))
B24: MEMO

Sheet 2月
B1: 2 | K1: 【写真を入れるには】 左の色帯の上に画像を挿入(挿入→画像)し、帯の大きさに合わせてください。
D2: FEBRUARY
D4: 如月
D6: 2027 令和9年
B10: 日 | C10: 月 | D10: 火 | E10: 水 | F10: 木 | G10: 金 | H10: 土
C11: 46419 | D11: 46420 | E11: 46421 | F11: 46422 | G11: 46423 | H11: 46424
C12: =IF(C11="","",IFERROR(INDEX(祝日!$C$5:$C$40,MATCH(C11,祝日!$A$5:$A$40,0)),"")) | D12: =IF(D11="","",IFERROR(INDEX(祝日!$C$5:$C$40,MATCH(D11,祝日!$A$5:$A$40,0)),"")) | E12: =IF(E11="","",IFERROR(INDEX(祝日!$C$5:$C$40,MATCH(E11,祝日!$A$5:$A$40,0)),"")) | F12: =IF(F11="","",IFERROR(INDEX(祝日!$C$5:$C$40,MATCH(F11,祝日!$A$5:$A$40,0)),"")) | G12: =IF(G11="","",IFERROR(INDEX(祝日!$C$5:$C$40,MATCH(G11,祝日!$A$5:$A$40,0)),"")) | H12: =IF(H11="","",IFERROR(INDEX(祝日!$C$5:$C$40,MATCH(H11,祝日!$A$5:$A$40,0)),""))
B13: 46425 | C13: 46426 | D13: 46427 | E13: 46428 | F13: 46429 | G13: 46430 | H13: 46431
B14: =IF(B13="","",IFERROR(INDEX(祝日!$C$5:$C$40,MATCH(B13,祝日!$A$5:$A$40,0)),"")) | C14: =IF(C13="","",IFERROR(INDEX(祝日!$C$5:$C$40,MATCH(C13,祝日!$A$5:$A$40,0)),"")) | D14: =IF(D13="","",IFERROR(INDEX(祝日!$C$5:$C$40,MATCH(D13,祝日!$A$5:$A$40,0)),"")) | E14: =IF(E13="","",IFERROR(INDEX(祝日!$C$5:$C$40,MATCH(E13,祝日!$A$5:$A$40,0)),"")) | F14: =IF(F13="","",IFERROR(INDEX(祝日!$C$5:$C$40,MATCH(F13,祝日!$A$5:$A$40,0)),"")) -> 建国記念の日 | G14: =IF(G13="","",IFERROR(INDEX(祝日!$C$5:$C$40,MATCH(G13,祝日!$A$5:$A$40,0)),"")) | H14: =IF(H13="","",IFERROR(INDEX(祝日!$C$5:$C$40,MATCH(H13,祝日!$A$5:$A$40,0)),""))
B15: 46432 | C15: 46433 | D15: 46434 | E15: 46435 | F15: 46436 | G15: 46437 | H15: 46438
B16: =IF(B15="","",IFERROR(INDEX(祝日!$C$5:$C$40,MATCH(B15,祝日!$A$5:$A$40,0)),"")) | C16: =IF(C15="","",IFERROR(INDEX(祝日!$C$5:$C$40,MATCH(C15,祝日!$A$5:$A$40,0)),"")) | D16: =IF(D15="","",IFERROR(INDEX(祝日!$C$5:$C$40,MATCH(D15,祝日!$A$5:$A$40,0)),"")) | E16: =IF(E15="","",IFERROR(INDEX(祝日!$C$5:$C$40,MATCH(E15,祝日!$A$5:$A$40,0)),"")) | F16: =IF(F15="","",IFERROR(INDEX(祝日!$C$5:$C$40,MATCH(F15,祝日!$A$5:$A$40,0)),"")) | G16: =IF(G15="","",IFERROR(INDEX(祝日!$C$5:$C$40,MATCH(G15,祝日!$A$5:$A$40,0)),"")) | H16: =IF(H15="","",IFERROR(INDEX(祝日!$C$5:$C$40,MATCH(H15,祝日!$A$5:$A$40,0)),""))
B17: 46439 | C17: 46440 | D17: 46441 | E17: 46442 | F17: 46443 | G17: 46444 | H17: 46445
B18: =IF(B17="","",IFERROR(INDEX(祝日!$C$5:$C$40,MATCH(B17,祝日!$A$5:$A$40,0)),"")) | C18: =IF(C17="","",IFERROR(INDEX(祝日!$C$5:$C$40,MATCH(C17,祝日!$A$5:$A$40,0)),"")) | D18: =IF(D17="","",IFERROR(INDEX(祝日!$C$5:$C$40,MATCH(D17,祝日!$A$5:$A$40,0)),"")) -> 天皇誕生日 | E18: =IF(E17="","",IFERROR(INDEX(祝日!$C$5:$C$40,MATCH(E17,祝日!$A$5:$A$40,0)),"")) | F18: =IF(F17="","",IFERROR(INDEX(祝日!$C$5:$C$40,MATCH(F17,祝日!$A$5:$A$40,0)),"")) | G18: =IF(G17="","",IFERROR(INDEX(祝日!$C$5:$C$40,MATCH(G17,祝日!$A$5:$A$40,0)),"")) | H18: =IF(H17="","",IFERROR(INDEX(祝日!$C$5:$C$40,MATCH(H17,祝日!$A$5:$A$40,0)),""))
B19: 46446
B20: =IF(B19="","",IFERROR(INDEX(祝日!$C$5:$C$40,MATCH(B19,祝日!$A$5:$A$40,0)),""))
B22: MEMO

Sheet 3月
B1: 3 | K1: 【写真を入れるには】 左の色帯の上に画像を挿入(挿入→画像)し、帯の大きさに合わせてください。
D2: MARCH
D4: 弥生
D6: 2027 令和9年
B10: 日 | C10: 月 | D10: 火 | E10: 水 | F10: 木 | G10: 金 | H10: 土
C11: 46447 | D11: 46448 | E11: 46449 | F11: 46450 | G11: 46451 | H11: 46452
C12: =IF(C11="","",IFERROR(INDEX(祝日!$C$5:$C$40,MATCH(C11,祝日!$A$5:$A$40,0)),"")) | D12: =IF(D11="","",IFERROR(INDEX(祝日!$C$5:$C$40,MATCH(D11,祝日!$A$5:$A$40,0)),"")) | E12: =IF(E11="","",IFERROR(INDEX(祝日!$C$5:$C$40,MATCH(E11,祝日!$A$5:$A$40,0)),"")) | F12: =IF(F11="","",IFERROR(INDEX(祝日!$C$5:$C$40,MATCH(F11,祝日!$A$5:$A$40,0)),"")) | G12: =IF(G11="","",IFERROR(INDEX(祝日!$C$5:$C$40,MATCH(G11,祝日!$A$5:$A$40,0)),"")) | H12: =IF(H11="","",IFERROR(INDEX(祝日!$C$5:$C$40,MATCH(H11,祝日!$A$5:$A$40,0)),""))
B13: 46453 | C13: 46454 | D13: 46455 | E13: 46456 | F13: 46457 | G13: 46458 | H13: 46459
B14: =IF(B13="","",IFERROR(INDEX(祝日!$C$5:$C$40,MATCH(B13,祝日!$A$5:$A$40,0)),"")) | C14: =IF(C13="","",IFERROR(INDEX(祝日!$C$5:$C$40,MATCH(C13,祝日!$A$5:$A$40,0)),"")) | D14: =IF(D13="","",IFERROR(INDEX(祝日!$C$5:$C$40,MATCH(D13,祝日!$A$5:$A$40,0)),"")) | E14: =IF(E13="","",IFERROR(INDEX(祝日!$C$5:$C$40,MATCH(E13,祝日!$A$5:$A$40,0)),"")) | F14: =IF(F13="","",IFERROR(INDEX(祝日!$C$5:$C$40,MATCH(F13,祝日!$A$5:$A$40,0)),"")) | G14: =IF(G13="","",IFERROR(INDEX(祝日!$C$5:$C$40,MATCH(G13,祝日!$A$5:$A$40,0)),"")) | H14: =IF(H13="","",IFERROR(INDEX(祝日!$C$5:$C$40,MATCH(H13,祝日!$A$5:$A$40,0)),""))
B15: 46460 | C15: 46461 | D15: 46462 | E15: 46463 | F15: 46464 | G15: 46465 | H15: 46466
B16: =IF(B15="","",IFERROR(INDEX(祝日!$C$5:$C$40,MATCH(B15,祝日!$A$5:$A$40,0)),"")) | C16: =IF(C15="","",IFERROR(INDEX(祝日!$C$5:$C$40,MATCH(C15,祝日!$A$5:$A$40,0)),"")) | D16: =IF(D15="","",IFERROR(INDEX(祝日!$C$5:$C$40,MATCH(D15,祝日!$A$5:$A$40,0)),"")) | E16: =IF(E15="","",IFERROR(INDEX(祝日!$C$5:$C$40,MATCH(E15,祝日!$A$5:$A$40,0)),"")) | F16: =IF(F15="","",IFERROR(INDEX(祝日!$C$5:$C$40,MATCH(F15,祝日!$A$5:$A$40,0)),"")) | G16: =IF(G15="","",IFERROR(INDEX(祝日!$C$5:$C$40,MATCH(G15,祝日!$A$5:$A$40,0)),"")) | H16: =IF(H15="","",IFERROR(INDEX(祝日!$C$5:$C$40,MATCH(H15,祝日!$A$5:$A$40,0)),""))
B17: 46467 | C17: 46468 | D17: 46469 | E17: 46470 | F17: 46471 | G17: 46472 | H17: 46473
B18: =IF(B17="","",IFERROR(INDEX(祝日!$C$5:$C$40,MATCH(B17,祝日!$A$5:$A$40,0)),"")) -> 春分の日 | C18: =IF(C17="","",IFERROR(INDEX(祝日!$C$5:$C$40,MATCH(C17,祝日!$A$5:$A$40,0)),"")) -> 振替休日 | D18: =IF(D17="","",IFERROR(INDEX(祝日!$C$5:$C$40,MATCH(D17,祝日!$A$5:$A$40,0)),"")) | E18: =IF(E17="","",IFERROR(INDEX(祝日!$C$5:$C$40,MATCH(E17,祝日!$A$5:$A$40,0)),"")) | F18: =IF(F17="","",IFERROR(INDEX(祝日!$C$5:$C$40,MATCH(F17,祝日!$A$5:$A$40,0)),"")) | G18: =IF(G17="","",IFERROR(INDEX(祝日!$C$5:$C$40,MATCH(G17,祝日!$A$5:$A$40,0)),"")) | H18: =IF(H17="","",IFERROR(INDEX(祝日!$C$5:$C$40,MATCH(H17,祝日!$A$5:$A$40,0)),""))
B19: 46474 | C19: 46475 | D19: 46476 | E19: 46477
B20: =IF(B19="","",IFERROR(INDEX(祝日!$C$5:$C$40,MATCH(B19,祝日!$A$5:$A$40,0)),"")) | C20: =IF(C19="","",IFERROR(INDEX(祝日!$C$5:$C$40,MATCH(C19,祝日!$A$5:$A$40,0)),"")) | D20: =IF(D19="","",IFERROR(INDEX(祝日!$C$5:$C$40,MATCH(D19,祝日!$A$5:$A$40,0)),"")) | E20: =IF(E19="","",IFERROR(INDEX(祝日!$C$5:$C$40,MATCH(E19,祝日!$A$5:$A$40,0)),""))
B22: MEMO

Sheet 4月
B1: 4 | K1: 【写真を入れるには】 左の色帯の上に画像を挿入(挿入→画像)し、帯の大きさに合わせてください。
D2: APRIL
D4: 卯月
D6: 2027 令和9年
B10: 日 | C10: 月 | D10: 火 | E10: 水 | F10: 木 | G10: 金 | H10: 土
F11: 46478 | G11: 46479 | H11: 46480
F12: =IF(F11="","",IFERROR(INDEX(祝日!$C$5:$C$40,MATCH(F11,祝日!$A$5:$A$40,0)),"")) | G12: =IF(G11="","",IFERROR(INDEX(祝日!$C$5:$C$40,MATCH(G11,祝日!$A$5:$A$40,0)),"")) | H12: =IF(H11="","",IFERROR(INDEX(祝日!$C$5:$C$40,MATCH(H11,祝日!$A$5:$A$40,0)),""))
B13: 46481 | C13: 46482 | D13: 46483 | E13: 46484 | F13: 46485 | G13: 46486 | H13: 46487
B14: =IF(B13="","",IFERROR(INDEX(祝日!$C$5:$C$40,MATCH(B13,祝日!$A$5:$A$40,0)),"")) | C14: =IF(C13="","",IFERROR(INDEX(祝日!$C$5:$C$40,MATCH(C13,祝日!$A$5:$A$40,0)),"")) | D14: =IF(D13="","",IFERROR(INDEX(祝日!$C$5:$C$40,MATCH(D13,祝日!$A$5:$A$40,0)),"")) | E14: =IF(E13="","",IFERROR(INDEX(祝日!$C$5:$C$40,MATCH(E13,祝日!$A$5:$A$40,0)),"")) | F14: =IF(F13="","",IFERROR(INDEX(祝日!$C$5:$C$40,MATCH(F13,祝日!$A$5:$A$40,0)),"")) | G14: =IF(G13="","",IFERROR(INDEX(祝日!$C$5:$C$40,MATCH(G13,祝日!$A$5:$A$40,0)),"")) | H14: =IF(H13="","",IFERROR(INDEX(祝日!$C$5:$C$40,MATCH(H13,祝日!$A$5:$A$40,0)),""))
B15: 46488 | C15: 46489 | D15: 46490 | E15: 46491 | F15: 46492 | G15: 46493 | H15: 46494
B16: =IF(B15="","",IFERROR(INDEX(祝日!$C$5:$C$40,MATCH(B15,祝日!$A$5:$A$40,0)),"")) | C16: =IF(C15="","",IFERROR(INDEX(祝日!$C$5:$C$40,MATCH(C15,祝日!$A$5:$A$40,0)),"")) | D16: =IF(D15="","",IFERROR(INDEX(祝日!$C$5:$C$40,MATCH(D15,祝日!$A$5:$A$40,0)),"")) | E16: =IF(E15="","",IFERROR(INDEX(祝日!$C$5:$C$40,MATCH(E15,祝日!$A$5:$A$40,0)),"")) | F16: =IF(F15="","",IFERROR(INDEX(祝日!$C$5:$C$40,MATCH(F15,祝日!$A$5:$A$40,0)),"")) | G16: =IF(G15="","",IFERROR(INDEX(祝日!$C$5:$C$40,MATCH(G15,祝日!$A$5:$A$40,0)),"")) | H16: =IF(H15="","",IFERROR(INDEX(祝日!$C$5:$C$40,MATCH(H15,祝日!$A$5:$A$40,0)),""))
B17: 46495 | C17: 46496 | D17: 46497 | E17: 46498 | F17: 46499 | G17: 46500 | H17: 46501
B18: =IF(B17="","",IFERROR(INDEX(祝日!$C$5:$C$40,MATCH(B17,祝日!$A$5:$A$40,0)),"")) | C18: =IF(C17="","",IFERROR(INDEX(祝日!$C$5:$C$40,MATCH(C17,祝日!$A$5:$A$40,0)),"")) | D18: =IF(D17="","",IFERROR(INDEX(祝日!$C$5:$C$40,MATCH(D17,祝日!$A$5:$A$40,0)),"")) | E18: =IF(E17="","",IFERROR(INDEX(祝日!$C$5:$C$40,MATCH(E17,祝日!$A$5:$A$40,0)),"")) | F18: =IF(F17="","",IFERROR(INDEX(祝日!$C$5:$C$40,MATCH(F17,祝日!$A$5:$A$40,0)),"")) | G18: =IF(G17="","",IFERROR(INDEX(祝日!$C$5:$C$40,MATCH(G17,祝日!$A$5:$A$40,0)),"")) | H18: =IF(H17="","",IFERROR(INDEX(祝日!$C$5:$C$40,MATCH(H17,祝日!$A$5:$A$40,0)),""))
B19: 46502 | C19: 46503 | D19: 46504 | E19: 46505 | F19: 46506 | G19: 46507
B20: =IF(B19="","",IFERROR(INDEX(祝日!$C$5:$C$40,MATCH(B19,祝日!$A$5:$A$40,0)),"")) | C20: =IF(C19="","",IFERROR(INDEX(祝日!$C$5:$C$40,MATCH(C19,祝日!$A$5:$A$40,0)),"")) | D20: =IF(D19="","",IFERROR(INDEX(祝日!$C$5:$C$40,MATCH(D19,祝日!$A$5:$A$40,0)),"")) | E20: =IF(E19="","",IFERROR(INDEX(祝日!$C$5:$C$40,MATCH(E19,祝日!$A$5:$A$40,0)),"")) | F20: =IF(F19="","",IFERROR(INDEX(祝日!$C$5:$C$40,MATCH(F19,祝日!$A$5:$A$40,0)),"")) -> 昭和の日 | G20: =IF(G19="","",IFERROR(INDEX(祝日!$C$5:$C$40,MATCH(G19,祝日!$A$5:$A$40,0)),""))
B22: MEMO

Sheet 5月
B1: 5 | K1: 【写真を入れるには】 左の色帯の上に画像を挿入(挿入→画像)し、帯の大きさに合わせてください。
D2: MAY
D4: 皐月
D6: 2027 令和9年
B10: 日 | C10: 月 | D10: 火 | E10: 水 | F10: 木 | G10: 金 | H10: 土
H11: 46508
H12: =IF(H11="","",IFERROR(INDEX(祝日!$C$5:$C$40,MATCH(H11,祝日!$A$5:$A$40,0)),""))
B13: 46509 | C13: 46510 | D13: 46511 | E13: 46512 | F13: 46513 | G13: 46514 | H13: 46515
B14: =IF(B13="","",IFERROR(INDEX(祝日!$C$5:$C$40,MATCH(B13,祝日!$A$5:$A$40,0)),"")) | C14: =IF(C13="","",IFERROR(INDEX(祝日!$C$5:$C$40,MATCH(C13,祝日!$A$5:$A$40,0)),"")) -> 憲法記念日 | D14: =IF(D13="","",IFERROR(INDEX(祝日!$C$5:$C$40,MATCH(D13,祝日!$A$5:$A$40,0)),"")) -> みどりの日 | E14: =IF(E13="","",IFERROR(INDEX(祝日!$C$5:$C$40,MATCH(E13,祝日!$A$5:$A$40,0)),"")) -> こどもの日 | F14: =IF(F13="","",IFERROR(INDEX(祝日!$C$5:$C$40,MATCH(F13,祝日!$A$5:$A$40,0)),"")) | G14: =IF(G13="","",IFERROR(INDEX(祝日!$C$5:$C$40,MATCH(G13,祝日!$A$5:$A$40,0)),"")) | H14: =IF(H13="","",IFERROR(INDEX(祝日!$C$5:$C$40,MATCH(H13,祝日!$A$5:$A$40,0)),""))
B15: 46516 | C15: 46517 | D15: 46518 | E15: 46519 | F15: 46520 | G15: 46521 | H15: 46522
B16: =IF(B15="","",IFERROR(INDEX(祝日!$C$5:$C$40,MATCH(B15,祝日!$A$5:$A$40,0)),"")) | C16: =IF(C15="","",IFERROR(INDEX(祝日!$C$5:$C$40,MATCH(C15,祝日!$A$5:$A$40,0)),"")) | D16: =IF(D15="","",IFERROR(INDEX(祝日!$C$5:$C$40,MATCH(D15,祝日!$A$5:$A$40,0)),"")) | E16: =IF(E15="","",IFERROR(INDEX(祝日!$C$5:$C$40,MATCH(E15,祝日!$A$5:$A$40,0)),"")) | F16: =IF(F15="","",IFERROR(INDEX(祝日!$C$5:$C$40,MATCH(F15,祝日!$A$5:$A$40,0)),"")) | G16: =IF(G15="","",IFERROR(INDEX(祝日!$C$5:$C$40,MATCH(G15,祝日!$A$5:$A$40,0)),"")) | H16: =IF(H15="","",IFERROR(INDEX(祝日!$C$5:$C$40,MATCH(H15,祝日!$A$5:$A$40,0)),""))
B17: 46523 | C17: 46524 | D17: 46525 | E17: 46526 | F17: 46527 | G17: 46528 | H17: 46529
B18: =IF(B17="","",IFERROR(INDEX(祝日!$C$5:$C$40,MATCH(B17,祝日!$A$5:$A$40,0)),"")) | C18: =IF(C17="","",IFERROR(INDEX(祝日!$C$5:$C$40,MATCH(C17,祝日!$A$5:$A$40,0)),"")) | D18: =IF(D17="","",IFERROR(INDEX(祝日!$C$5:$C$40,MATCH(D17,祝日!$A$5:$A$40,0)),"")) | E18: =IF(E17="","",IFERROR(INDEX(祝日!$C$5:$C$40,MATCH(E17,祝日!$A$5:$A$40,0)),"")) | F18: =IF(F17="","",IFERROR(INDEX(祝日!$C$5:$C$40,MATCH(F17,祝日!$A$5:$A$40,0)),"")) | G18: =IF(G17="","",IFERROR(INDEX(祝日!$C$5:$C$40,MATCH(G17,祝日!$A$5:$A$40,0)),"")) | H18: =IF(H17="","",IFERROR(INDEX(祝日!$C$5:$C$40,MATCH(H17,祝日!$A$5:$A$40,0)),""))
B19: 46530 | C19: 46531 | D19: 46532 | E19: 46533 | F19: 46534 | G19: 46535 | H19: 46536
B20: =IF(B19="","",IFERROR(INDEX(祝日!$C$5:$C$40,MATCH(B19,祝日!$A$5:$A$40,0)),"")) | C20: =IF(C19="","",IFERROR(INDEX(祝日!$C$5:$C$40,MATCH(C19,祝日!$A$5:$A$40,0)),"")) | D20: =IF(D19="","",IFERROR(INDEX(祝日!$C$5:$C$40,MATCH(D19,祝日!$A$5:$A$40,0)),"")) | E20: =IF(E19="","",IFERROR(INDEX(祝日!$C$5:$C$40,MATCH(E19,祝日!$A$5:$A$40,0)),"")) | F20: =IF(F19="","",IFERROR(INDEX(祝日!$C$5:$C$40,MATCH(F19,祝日!$A$5:$A$40,0)),"")) | G20: =IF(G19="","",IFERROR(INDEX(祝日!$C$5:$C$40,MATCH(G19,祝日!$A$5:$A$40,0)),"")) | H20: =IF(H19="","",IFERROR(INDEX(祝日!$C$5:$C$40,MATCH(H19,祝日!$A$5:$A$40,0)),""))
B21: 46537 | C21: 46538
B22: =IF(B21="","",IFERROR(INDEX(祝日!$C$5:$C$40,MATCH(B21,祝日!$A$5:$A$40,0)),"")) | C22: =IF(C21="","",IFERROR(INDEX(祝日!$C$5:$C$40,MATCH(C21,祝日!$A$5:$A$40,0)),""))
B24: MEMO

Sheet 6月
B1: 6 | K1: 【写真を入れるには】 左の色帯の上に画像を挿入(挿入→画像)し、帯の大きさに合わせてください。
D2: JUNE
D4: 水無月
D6: 2027 令和9年
B10: 日 | C10: 月 | D10: 火 | E10: 水 | F10: 木 | G10: 金 | H10: 土
D11: 46539 | E11: 46540 | F11: 46541 | G11: 46542 | H11: 46543
D12: =IF(D11="","",IFERROR(INDEX(祝日!$C$5:$C$40,MATCH(D11,祝日!$A$5:$A$40,0)),"")) | E12: =IF(E11="","",IFERROR(INDEX(祝日!$C$5:$C$40,MATCH(E11,祝日!$A$5:$A$40,0)),"")) | F12: =IF(F11="","",IFERROR(INDEX(祝日!$C$5:$C$40,MATCH(F11,祝日!$A$5:$A$40,0)),"")) | G12: =IF(G11="","",IFERROR(INDEX(祝日!$C$5:$C$40,MATCH(G11,祝日!$A$5:$A$40,0)),"")) | H12: =IF(H11="","",IFERROR(INDEX(祝日!$C$5:$C$40,MATCH(H11,祝日!$A$5:$A$40,0)),""))
B13: 46544 | C13: 46545 | D13: 46546 | E13: 46547 | F13: 46548 | G13: 46549 | H13: 46550
B14: =IF(B13="","",IFERROR(INDEX(祝日!$C$5:$C$40,MATCH(B13,祝日!$A$5:$A$40,0)),"")) | C14: =IF(C13="","",IFERROR(INDEX(祝日!$C$5:$C$40,MATCH(C13,祝日!$A$5:$A$40,0)),"")) | D14: =IF(D13="","",IFERROR(INDEX(祝日!$C$5:$C$40,MATCH(D13,祝日!$A$5:$A$40,0)),"")) | E14: =IF(E13="","",IFERROR(INDEX(祝日!$C$5:$C$40,MATCH(E13,祝日!$A$5:$A$40,0)),"")) | F14: =IF(F13="","",IFERROR(INDEX(祝日!$C$5:$C$40,MATCH(F13,祝日!$A$5:$A$40,0)),"")) | G14: =IF(G13="","",IFERROR(INDEX(祝日!$C$5:$C$40,MATCH(G13,祝日!$A$5:$A$40,0)),"")) | H14: =IF(H13="","",IFERROR(INDEX(祝日!$C$5:$C$40,MATCH(H13,祝日!$A$5:$A$40,0)),""))
B15: 46551 | C15: 46552 | D15: 46553 | E15: 46554 | F15: 46555 | G15: 46556 | H15: 46557
B16: =IF(B15="","",IFERROR(INDEX(祝日!$C$5:$C$40,MATCH(B15,祝日!$A$5:$A$40,0)),"")) | C16: =IF(C15="","",IFERROR(INDEX(祝日!$C$5:$C$40,MATCH(C15,祝日!$A$5:$A$40,0)),"")) | D16: =IF(D15="","",IFERROR(INDEX(祝日!$C$5:$C$40,MATCH(D15,祝日!$A$5:$A$40,0)),"")) | E16: =IF(E15="","",IFERROR(INDEX(祝日!$C$5:$C$40,MATCH(E15,祝日!$A$5:$A$40,0)),"")) | F16: =IF(F15="","",IFERROR(INDEX(祝日!$C$5:$C$40,MATCH(F15,祝日!$A$5:$A$40,0)),"")) | G16: =IF(G15="","",IFERROR(INDEX(祝日!$C$5:$C$40,MATCH(G15,祝日!$A$5:$A$40,0)),"")) | H16: =IF(H15="","",IFERROR(INDEX(祝日!$C$5:$C$40,MATCH(H15,祝日!$A$5:$A$40,0)),""))
B17: 46558 | C17: 46559 | D17: 46560 | E17: 46561 | F17: 46562 | G17: 46563 | H17: 46564
B18: =IF(B17="","",IFERROR(INDEX(祝日!$C$5:$C$40,MATCH(B17,祝日!$A$5:$A$40,0)),"")) | C18: =IF(C17="","",IFERROR(INDEX(祝日!$C$5:$C$40,MATCH(C17,祝日!$A$5:$A$40,0)),"")) | D18: =IF(D17="","",IFERROR(INDEX(祝日!$C$5:$C$40,MATCH(D17,祝日!$A$5:$A$40,0)),"")) | E18: =IF(E17="","",IFERROR(INDEX(祝日!$C$5:$C$40,MATCH(E17,祝日!$A$5:$A$40,0)),"")) | F18: =IF(F17="","",IFERROR(INDEX(祝日!$C$5:$C$40,MATCH(F17,祝日!$A$5:$A$40,0)),"")) | G18: =IF(G17="","",IFERROR(INDEX(祝日!$C$5:$C$40,MATCH(G17,祝日!$A$5:$A$40,0)),"")) | H18: =IF(H17="","",IFERROR(INDEX(祝日!$C$5:$C$40,MATCH(H17,祝日!$A$5:$A$40,0)),""))
B19: 46565 | C19: 46566 | D19: 46567 | E19: 46568
B20: =IF(B19="","",IFERROR(INDEX(祝日!$C$5:$C$40,MATCH(B19,祝日!$A$5:$A$40,0)),"")) | C20: =IF(C19="","",IFERROR(INDEX(祝日!$C$5:$C$40,MATCH(C19,祝日!$A$5:$A$40,0)),"")) | D20: =IF(D19="","",IFERROR(INDEX(祝日!$C$5:$C$40,MATCH(D19,祝日!$A$5:$A$40,0)),"")) | E20: =IF(E19="","",IFERROR(INDEX(祝日!$C$5:$C$40,MATCH(E19,祝日!$A$5:$A$40,0)),""))
B22: MEMO

Sheet 7月
B1: 7 | K1: 【写真を入れるには】 左の色帯の上に画像を挿入(挿入→画像)し、帯の大きさに合わせてください。
D2: JULY
D4: 文月
D6: 2027 令和9年
B10: 日 | C10: 月 | D10: 火 | E10: 水 | F10: 木 | G10: 金 | H10: 土
F11: 46569 | G11: 46570 | H11: 46571
F12: =IF(F11="","",IFERROR(INDEX(祝日!$C$5:$C$40,MATCH(F11,祝日!$A$5:$A$40,0)),"")) | G12: =IF(G11="","",IFERROR(INDEX(祝日!$C$5:$C$40,MATCH(G11,祝日!$A$5:$A$40,0)),"")) | H12: =IF(H11="","",IFERROR(INDEX(祝日!$C$5:$C$40,MATCH(H11,祝日!$A$5:$A$40,0)),""))
B13: 46572 | C13: 46573 | D13: 46574 | E13: 46575 | F13: 46576 | G13: 46577 | H13: 46578
B14: =IF(B13="","",IFERROR(INDEX(祝日!$C$5:$C$40,MATCH(B13,祝日!$A$5:$A$40,0)),"")) | C14: =IF(C13="","",IFERROR(INDEX(祝日!$C$5:$C$40,MATCH(C13,祝日!$A$5:$A$40,0)),"")) | D14: =IF(D13="","",IFERROR(INDEX(祝日!$C$5:$C$40,MATCH(D13,祝日!$A$5:$A$40,0)),"")) | E14: =IF(E13="","",IFERROR(INDEX(祝日!$C$5:$C$40,MATCH(E13,祝日!$A$5:$A$40,0)),"")) | F14: =IF(F13="","",IFERROR(INDEX(祝日!$C$5:$C$40,MATCH(F13,祝日!$A$5:$A$40,0)),"")) | G14: =IF(G13="","",IFERROR(INDEX(祝日!$C$5:$C$40,MATCH(G13,祝日!$A$5:$A$40,0)),"")) | H14: =IF(H13="","",IFERROR(INDEX(祝日!$C$5:$C$40,MATCH(H13,祝日!$A$5:$A$40,0)),""))
B15: 46579 | C15: 46580 | D15: 46581 | E15: 46582 | F15: 46583 | G15: 46584 | H15: 46585
B16: =IF(B15="","",IFERROR(INDEX(祝日!$C$5:$C$40,MATCH(B15,祝日!$A$5:$A$40,0)),"")) | C16: =IF(C15="","",IFERROR(INDEX(祝日!$C$5:$C$40,MATCH(C15,祝日!$A$5:$A$40,0)),"")) | D16: =IF(D15="","",IFERROR(INDEX(祝日!$C$5:$C$40,MATCH(D15,祝日!$A$5:$A$40,0)),"")) | E16: =IF(E15="","",IFERROR(INDEX(祝日!$C$5:$C$40,MATCH(E15,祝日!$A$5:$A$40,0)),"")) | F16: =IF(F15="","",IFERROR(INDEX(祝日!$C$5:$C$40,MATCH(F15,祝日!$A$5:$A$40,0)),"")) | G16: =IF(G15="","",IFERROR(INDEX(祝日!$C$5:$C$40,MATCH(G15,祝日!$A$5:$A$40,0)),"")) | H16: =IF(H15="","",IFERROR(INDEX(祝日!$C$5:$C$40,MATCH(H15,祝日!$A$5:$A$40,0)),""))
B17: 46586 | C17: 46587 | D17: 46588 | E17: 46589 | F17: 46590 | G17: 46591 | H17: 46592
B18: =IF(B17="","",IFERROR(INDEX(祝日!$C$5:$C$40,MATCH(B17,祝日!$A$5:$A$40,0)),"")) | C18: =IF(C17="","",IFERROR(INDEX(祝日!$C$5:$C$40,MATCH(C17,祝日!$A$5:$A$40,0)),"")) -> 海の日 | D18: =IF(D17="","",IFERROR(INDEX(祝日!$C$5:$C$40,MATCH(D17,祝日!$A$5:$A$40,0)),"")) | E18: =IF(E17="","",IFERROR(INDEX(祝日!$C$5:$C$40,MATCH(E17,祝日!$A$5:$A$40,0)),"")) | F18: =IF(F17="","",IFERROR(INDEX(祝日!$C$5:$C$40,MATCH(F17,祝日!$A$5:$A$40,0)),"")) | G18: =IF(G17="","",IFERROR(INDEX(祝日!$C$5:$C$40,MATCH(G17,祝日!$A$5:$A$40,0)),"")) | H18: =IF(H17="","",IFERROR(INDEX(祝日!$C$5:$C$40,MATCH(H17,祝日!$A$5:$A$40,0)),""))
B19: 46593 | C19: 46594 | D19: 46595 | E19: 46596 | F19: 46597 | G19: 46598 | H19: 46599
B20: =IF(B19="","",IFERROR(INDEX(祝日!$C$5:$C$40,MATCH(B19,祝日!$A$5:$A$40,0)),"")) | C20: =IF(C19="","",IFERROR(INDEX(祝日!$C$5:$C$40,MATCH(C19,祝日!$A$5:$A$40,0)),"")) | D20: =IF(D19="","",IFERROR(INDEX(祝日!$C$5:$C$40,MATCH(D19,祝日!$A$5:$A$40,0)),"")) | E20: =IF(E19="","",IFERROR(INDEX(祝日!$C$5:$C$40,MATCH(E19,祝日!$A$5:$A$40,0)),"")) | F20: =IF(F19="","",IFERROR(INDEX(祝日!$C$5:$C$40,MATCH(F19,祝日!$A$5:$A$40,0)),"")) | G20: =IF(G19="","",IFERROR(INDEX(祝日!$C$5:$C$40,MATCH(G19,祝日!$A$5:$A$40,0)),"")) | H20: =IF(H19="","",IFERROR(INDEX(祝日!$C$5:$C$40,MATCH(H19,祝日!$A$5:$A$40,0)),""))
B22: MEMO

Sheet 8月
B1: 8 | K1: 【写真を入れるには】 左の色帯の上に画像を挿入(挿入→画像)し、帯の大きさに合わせてください。
D2: AUGUST
D4: 葉月
D6: 2027 令和9年
B10: 日 | C10: 月 | D10: 火 | E10: 水 | F10: 木 | G10: 金 | H10: 土
B11: 46600 | C11: 46601 | D11: 46602 | E11: 46603 | F11: 46604 | G11: 46605 | H11: 46606
B12: =IF(B11="","",IFERROR(INDEX(祝日!$C$5:$C$40,MATCH(B11,祝日!$A$5:$A$40,0)),"")) | C12: =IF(C11="","",IFERROR(INDEX(祝日!$C$5:$C$40,MATCH(C11,祝日!$A$5:$A$40,0)),"")) | D12: =IF(D11="","",IFERROR(INDEX(祝日!$C$5:$C$40,MATCH(D11,祝日!$A$5:$A$40,0)),"")) | E12: =IF(E11="","",IFERROR(INDEX(祝日!$C$5:$C$40,MATCH(E11,祝日!$A$5:$A$40,0)),"")) | F12: =IF(F11="","",IFERROR(INDEX(祝日!$C$5:$C$40,MATCH(F11,祝日!$A$5:$A$40,0)),"")) | G12: =IF(G11="","",IFERROR(INDEX(祝日!$C$5:$C$40,MATCH(G11,祝日!$A$5:$A$40,0)),"")) | H12: =IF(H11="","",IFERROR(INDEX(祝日!$C$5:$C$40,MATCH(H11,祝日!$A$5:$A$40,0)),""))
B13: 46607 | C13: 46608 | D13: 46609 | E13: 46610 | F13: 46611 | G13: 46612 | H13: 46613
B14: =IF(B13="","",IFERROR(INDEX(祝日!$C$5:$C$40,MATCH(B13,祝日!$A$5:$A$40,0)),"")) | C14: =IF(C13="","",IFERROR(INDEX(祝日!$C$5:$C$40,MATCH(C13,祝日!$A$5:$A$40,0)),"")) | D14: =IF(D13="","",IFERROR(INDEX(祝日!$C$5:$C$40,MATCH(D13,祝日!$A$5:$A$40,0)),"")) | E14: =IF(E13="","",IFERROR(INDEX(祝日!$C$5:$C$40,MATCH(E13,祝日!$A$5:$A$40,0)),"")) -> 山の日 | F14: =IF(F13="","",IFERROR(INDEX(祝日!$C$5:$C$40,MATCH(F13,祝日!$A$5:$A$40,0)),"")) | G14: =IF(G13="","",IFERROR(INDEX(祝日!$C$5:$C$40,MATCH(G13,祝日!$A$5:$A$40,0)),"")) | H14: =IF(H13="","",IFERROR(INDEX(祝日!$C$5:$C$40,MATCH(H13,祝日!$A$5:$A$40,0)),""))
B15: 46614 | C15: 46615 | D15: 46616 | E15: 46617 | F15: 46618 | G15: 46619 | H15: 46620
B16: =IF(B15="","",IFERROR(INDEX(祝日!$C$5:$C$40,MATCH(B15,祝日!$A$5:$A$40,0)),"")) | C16: =IF(C15="","",IFERROR(INDEX(祝日!$C$5:$C$40,MATCH(C15,祝日!$A$5:$A$40,0)),"")) | D16: =IF(D15="","",IFERROR(INDEX(祝日!$C$5:$C$40,MATCH(D15,祝日!$A$5:$A$40,0)),"")) | E16: =IF(E15="","",IFERROR(INDEX(祝日!$C$5:$C$40,MATCH(E15,祝日!$A$5:$A$40,0)),"")) | F16: =IF(F15="","",IFERROR(INDEX(祝日!$C$5:$C$40,MATCH(F15,祝日!$A$5:$A$40,0)),"")) | G16: =IF(G15="","",IFERROR(INDEX(祝日!$C$5:$C$40,MATCH(G15,祝日!$A$5:$A$40,0)),"")) | H16: =IF(H15="","",IFERROR(INDEX(祝日!$C$5:$C$40,MATCH(H15,祝日!$A$5:$A$40,0)),""))
B17: 46621 | C17: 46622 | D17: 46623 | E17: 46624 | F17: 46625 | G17: 46626 | H17: 46627
B18: =IF(B17="","",IFERROR(INDEX(祝日!$C$5:$C$40,MATCH(B17,祝日!$A$5:$A$40,0)),"")) | C18: =IF(C17="","",IFERROR(INDEX(祝日!$C$5:$C$40,MATCH(C17,祝日!$A$5:$A$40,0)),"")) | D18: =IF(D17="","",IFERROR(INDEX(祝日!$C$5:$C$40,MATCH(D17,祝日!$A$5:$A$40,0)),"")) | E18: =IF(E17="","",IFERROR(INDEX(祝日!$C$5:$C$40,MATCH(E17,祝日!$A$5:$A$40,0)),"")) | F18: =IF(F17="","",IFERROR(INDEX(祝日!$C$5:$C$40,MATCH(F17,祝日!$A$5:$A$40,0)),"")) | G18: =IF(G17="","",IFERROR(INDEX(祝日!$C$5:$C$40,MATCH(G17,祝日!$A$5:$A$40,0)),"")) | H18: =IF(H17="","",IFERROR(INDEX(祝日!$C$5:$C$40,MATCH(H17,祝日!$A$5:$A$40,0)),""))
B19: 46628 | C19: 46629 | D19: 46630
B20: =IF(B19="","",IFERROR(INDEX(祝日!$C$5:$C$40,MATCH(B19,祝日!$A$5:$A$40,0)),"")) | C20: =IF(C19="","",IFERROR(INDEX(祝日!$C$5:$C$40,MATCH(C19,祝日!$A$5:$A$40,0)),"")) | D20: =IF(D19="","",IFERROR(INDEX(祝日!$C$5:$C$40,MATCH(D19,祝日!$A$5:$A$40,0)),""))
B22: MEMO

Sheet 9月
B1: 9 | K1: 【写真を入れるには】 左の色帯の上に画像を挿入(挿入→画像)し、帯の大きさに合わせてください。
D2: SEPTEMBER
D4: 長月
D6: 2027 令和9年
B10: 日 | C10: 月 | D10: 火 | E10: 水 | F10: 木 | G10: 金 | H10: 土
E11: 46631 | F11: 46632 | G11: 46633 | H11: 46634
E12: =IF(E11="","",IFERROR(INDEX(祝日!$C$5:$C$40,MATCH(E11,祝日!$A$5:$A$40,0)),"")) | F12: =IF(F11="","",IFERROR(INDEX(祝日!$C$5:$C$40,MATCH(F11,祝日!$A$5:$A$40,0)),"")) | G12: =IF(G11="","",IFERROR(INDEX(祝日!$C$5:$C$40,MATCH(G11,祝日!$A$5:$A$40,0)),"")) | H12: =IF(H11="","",IFERROR(INDEX(祝日!$C$5:$C$40,MATCH(H11,祝日!$A$5:$A$40,0)),""))
B13: 46635 | C13: 46636 | D13: 46637 | E13: 46638 | F13: 46639 | G13: 46640 | H13: 46641
B14: =IF(B13="","",IFERROR(INDEX(祝日!$C$5:$C$40,MATCH(B13,祝日!$A$5:$A$40,0)),"")) | C14: =IF(C13="","",IFERROR(INDEX(祝日!$C$5:$C$40,MATCH(C13,祝日!$A$5:$A$40,0)),"")) | D14: =IF(D13="","",IFERROR(INDEX(祝日!$C$5:$C$40,MATCH(D13,祝日!$A$5:$A$40,0)),"")) | E14: =IF(E13="","",IFERROR(INDEX(祝日!$C$5:$C$40,MATCH(E13,祝日!$A$5:$A$40,0)),"")) | F14: =IF(F13="","",IFERROR(INDEX(祝日!$C$5:$C$40,MATCH(F13,祝日!$A$5:$A$40,0)),"")) | G14: =IF(G13="","",IFERROR(INDEX(祝日!$C$5:$C$40,MATCH(G13,祝日!$A$5:$A$40,0)),"")) | H14: =IF(H13="","",IFERROR(INDEX(祝日!$C$5:$C$40,MATCH(H13,祝日!$A$5:$A$40,0)),""))
B15: 46642 | C15: 46643 | D15: 46644 | E15: 46645 | F15: 46646 | G15: 46647 | H15: 46648
B16: =IF(B15="","",IFERROR(INDEX(祝日!$C$5:$C$40,MATCH(B15,祝日!$A$5:$A$40,0)),"")) | C16: =IF(C15="","",IFERROR(INDEX(祝日!$C$5:$C$40,MATCH(C15,祝日!$A$5:$A$40,0)),"")) | D16: =IF(D15="","",IFERROR(INDEX(祝日!$C$5:$C$40,MATCH(D15,祝日!$A$5:$A$40,0)),"")) | E16: =IF(E15="","",IFERROR(INDEX(祝日!$C$5:$C$40,MATCH(E15,祝日!$A$5:$A$40,0)),"")) | F16: =IF(F15="","",IFERROR(INDEX(祝日!$C$5:$C$40,MATCH(F15,祝日!$A$5:$A$40,0)),"")) | G16: =IF(G15="","",IFERROR(INDEX(祝日!$C$5:$C$40,MATCH(G15,祝日!$A$5:$A$40,0)),"")) | H16: =IF(H15="","",IFERROR(INDEX(祝日!$C$5:$C$40,MATCH(H15,祝日!$A$5:$A$40,0)),""))
B17: 46649 | C17: 46650 | D17: 46651 | E17: 46652 | F17: 46653 | G17: 46654 | H17: 46655
B18: =IF(B17="","",IFERROR(INDEX(祝日!$C$5:$C$40,MATCH(B17,祝日!$A$5:$A$40,0)),"")) | C18: =IF(C17="","",IFERROR(INDEX(祝日!$C$5:$C$40,MATCH(C17,祝日!$A$5:$A$40,0)),"")) -> 敬老の日 | D18: =IF(D17="","",IFERROR(INDEX(祝日!$C$5:$C$40,MATCH(D17,祝日!$A$5:$A$40,0)),"")) | E18: =IF(E17="","",IFERROR(INDEX(祝日!$C$5:$C$40,MATCH(E17,祝日!$A$5:$A$40,0)),"")) | F18: =IF(F17="","",IFERROR(INDEX(祝日!$C$5:$C$40,MATCH(F17,祝日!$A$5:$A$40,0)),"")) -> 秋分の日 | G18: =IF(G17="","",IFERROR(INDEX(祝日!$C$5:$C$40,MATCH(G17,祝日!$A$5:$A$40,0)),"")) | H18: =IF(H17="","",IFERROR(INDEX(祝日!$C$5:$C$40,MATCH(H17,祝日!$A$5:$A$40,0)),""))
B19: 46656 | C19: 46657 | D19: 46658 | E19: 46659 | F19: 46660
B20: =IF(B19="","",IFERROR(INDEX(祝日!$C$5:$C$40,MATCH(B19,祝日!$A$5:$A$40,0)),"")) | C20: =IF(C19="","",IFERROR(INDEX(祝日!$C$5:$C$40,MATCH(C19,祝日!$A$5:$A$40,0)),"")) | D20: =IF(D19="","",IFERROR(INDEX(祝日!$C$5:$C$40,MATCH(D19,祝日!$A$5:$A$40,0)),"")) | E20: =IF(E19="","",IFERROR(INDEX(祝日!$C$5:$C$40,MATCH(E19,祝日!$A$5:$A$40,0)),"")) | F20: =IF(F19="","",IFERROR(INDEX(祝日!$C$5:$C$40,MATCH(F19,祝日!$A$5:$A$40,0)),""))
B22: MEMO

Sheet 10月
B1: 10 | K1: 【写真を入れるには】 左の色帯の上に画像を挿入(挿入→画像)し、帯の大きさに合わせてください。
D2: OCTOBER
D4: 神無月
D6: 2027 令和9年
B10: 日 | C10: 月 | D10: 火 | E10: 水 | F10: 木 | G10: 金 | H10: 土
G11: 46661 | H11: 46662
G12: =IF(G11="","",IFERROR(INDEX(祝日!$C$5:$C$40,MATCH(G11,祝日!$A$5:$A$40,0)),"")) | H12: =IF(H11="","",IFERROR(INDEX(祝日!$C$5:$C$40,MATCH(H11,祝日!$A$5:$A$40,0)),""))
B13: 46663 | C13: 46664 | D13: 46665 | E13: 46666 | F13: 46667 | G13: 46668 | H13: 46669
B14: =IF(B13="","",IFERROR(INDEX(祝日!$C$5:$C$40,MATCH(B13,祝日!$A$5:$A$40,0)),"")) | C14: =IF(C13="","",IFERROR(INDEX(祝日!$C$5:$C$40,MATCH(C13,祝日!$A$5:$A$40,0)),"")) | D14: =IF(D13="","",IFERROR(INDEX(祝日!$C$5:$C$40,MATCH(D13,祝日!$A$5:$A$40,0)),"")) | E14: =IF(E13="","",IFERROR(INDEX(祝日!$C$5:$C$40,MATCH(E13,祝日!$A$5:$A$40,0)),"")) | F14: =IF(F13="","",IFERROR(INDEX(祝日!$C$5:$C$40,MATCH(F13,祝日!$A$5:$A$40,0)),"")) | G14: =IF(G13="","",IFERROR(INDEX(祝日!$C$5:$C$40,MATCH(G13,祝日!$A$5:$A$40,0)),"")) | H14: =IF(H13="","",IFERROR(INDEX(祝日!$C$5:$C$40,MATCH(H13,祝日!$A$5:$A$40,0)),""))
B15: 46670 | C15: 46671 | D15: 46672 | E15: 46673 | F15: 46674 | G15: 46675 | H15: 46676
B16: =IF(B15="","",IFERROR(INDEX(祝日!$C$5:$C$40,MATCH(B15,祝日!$A$5:$A$40,0)),"")) | C16: =IF(C15="","",IFERROR(INDEX(祝日!$C$5:$C$40,MATCH(C15,祝日!$A$5:$A$40,0)),"")) -> スポーツの日 | D16: =IF(D15="","",IFERROR(INDEX(祝日!$C$5:$C$40,MATCH(D15,祝日!$A$5:$A$40,0)),"")) | E16: =IF(E15="","",IFERROR(INDEX(祝日!$C$5:$C$40,MATCH(E15,祝日!$A$5:$A$40,0)),"")) | F16: =IF(F15="","",IFERROR(INDEX(祝日!$C$5:$C$40,MATCH(F15,祝日!$A$5:$A$40,0)),"")) | G16: =IF(G15="","",IFERROR(INDEX(祝日!$C$5:$C$40,MATCH(G15,祝日!$A$5:$A$40,0)),"")) | H16: =IF(H15="","",IFERROR(INDEX(祝日!$C$5:$C$40,MATCH(H15,祝日!$A$5:$A$40,0)),""))
B17: 46677 | C17: 46678 | D17: 46679 | E17: 46680 | F17: 46681 | G17: 46682 | H17: 46683
B18: =IF(B17="","",IFERROR(INDEX(祝日!$C$5:$C$40,MATCH(B17,祝日!$A$5:$A$40,0)),"")) | C18: =IF(C17="","",IFERROR(INDEX(祝日!$C$5:$C$40,MATCH(C17,祝日!$A$5:$A$40,0)),"")) | D18: =IF(D17="","",IFERROR(INDEX(祝日!$C$5:$C$40,MATCH(D17,祝日!$A$5:$A$40,0)),"")) | E18: =IF(E17="","",IFERROR(INDEX(祝日!$C$5:$C$40,MATCH(E17,祝日!$A$5:$A$40,0)),"")) | F18: =IF(F17="","",IFERROR(INDEX(祝日!$C$5:$C$40,MATCH(F17,祝日!$A$5:$A$40,0)),"")) | G18: =IF(G17="","",IFERROR(INDEX(祝日!$C$5:$C$40,MATCH(G17,祝日!$A$5:$A$40,0)),"")) | H18: =IF(H17="","",IFERROR(INDEX(祝日!$C$5:$C$40,MATCH(H17,祝日!$A$5:$A$40,0)),""))
B19: 46684 | C19: 46685 | D19: 46686 | E19: 46687 | F19: 46688 | G19: 46689 | H19: 46690
B20: =IF(B19="","",IFERROR(INDEX(祝日!$C$5:$C$40,MATCH(B19,祝日!$A$5:$A$40,0)),"")) | C20: =IF(C19="","",IFERROR(INDEX(祝日!$C$5:$C$40,MATCH(C19,祝日!$A$5:$A$40,0)),"")) | D20: =IF(D19="","",IFERROR(INDEX(祝日!$C$5:$C$40,MATCH(D19,祝日!$A$5:$A$40,0)),"")) | E20: =IF(E19="","",IFERROR(INDEX(祝日!$C$5:$C$40,MATCH(E19,祝日!$A$5:$A$40,0)),"")) | F20: =IF(F19="","",IFERROR(INDEX(祝日!$C$5:$C$40,MATCH(F19,祝日!$A$5:$A$40,0)),"")) | G20: =IF(G19="","",IFERROR(INDEX(祝日!$C$5:$C$40,MATCH(G19,祝日!$A$5:$A$40,0)),"")) | H20: =IF(H19="","",IFERROR(INDEX(祝日!$C$5:$C$40,MATCH(H19,祝日!$A$5:$A$40,0)),""))
B21: 46691
B22: =IF(B21="","",IFERROR(INDEX(祝日!$C$5:$C$40,MATCH(B21,祝日!$A$5:$A$40,0)),""))
B24: MEMO

Sheet 11月
B1: 11 | K1: 【写真を入れるには】 左の色帯の上に画像を挿入(挿入→画像)し、帯の大きさに合わせてください。
D2: NOVEMBER
D4: 霜月
D6: 2027 令和9年
B10: 日 | C10: 月 | D10: 火 | E10: 水 | F10: 木 | G10: 金 | H10: 土
C11: 46692 | D11: 46693 | E11: 46694 | F11: 46695 | G11: 46696 | H11: 46697
C12: =IF(C11="","",IFERROR(INDEX(祝日!$C$5:$C$40,MATCH(C11,祝日!$A$5:$A$40,0)),"")) | D12: =IF(D11="","",IFERROR(INDEX(祝日!$C$5:$C$40,MATCH(D11,祝日!$A$5:$A$40,0)),"")) | E12: =IF(E11="","",IFERROR(INDEX(祝日!$C$5:$C$40,MATCH(E11,祝日!$A$5:$A$40,0)),"")) -> 文化の日 | F12: =IF(F11="","",IFERROR(INDEX(祝日!$C$5:$C$40,MATCH(F11,祝日!$A$5:$A$40,0)),"")) | G12: =IF(G11="","",IFERROR(INDEX(祝日!$C$5:$C$40,MATCH(G11,祝日!$A$5:$A$40,0)),"")) | H12: =IF(H11="","",IFERROR(INDEX(祝日!$C$5:$C$40,MATCH(H11,祝日!$A$5:$A$40,0)),""))
B13: 46698 | C13: 46699 | D13: 46700 | E13: 46701 | F13: 46702 | G13: 46703 | H13: 46704
B14: =IF(B13="","",IFERROR(INDEX(祝日!$C$5:$C$40,MATCH(B13,祝日!$A$5:$A$40,0)),"")) | C14: =IF(C13="","",IFERROR(INDEX(祝日!$C$5:$C$40,MATCH(C13,祝日!$A$5:$A$40,0)),"")) | D14: =IF(D13="","",IFERROR(INDEX(祝日!$C$5:$C$40,MATCH(D13,祝日!$A$5:$A$40,0)),"")) | E14: =IF(E13="","",IFERROR(INDEX(祝日!$C$5:$C$40,MATCH(E13,祝日!$A$5:$A$40,0)),"")) | F14: =IF(F13="","",IFERROR(INDEX(祝日!$C$5:$C$40,MATCH(F13,祝日!$A$5:$A$40,0)),"")) | G14: =IF(G13="","",IFERROR(INDEX(祝日!$C$5:$C$40,MATCH(G13,祝日!$A$5:$A$40,0)),"")) | H14: =IF(H13="","",IFERROR(INDEX(祝日!$C$5:$C$40,MATCH(H13,祝日!$A$5:$A$40,0)),""))
B15: 46705 | C15: 46706 | D15: 46707 | E15: 46708 | F15: 46709 | G15: 46710 | H15: 46711
B16: =IF(B15="","",IFERROR(INDEX(祝日!$C$5:$C$40,MATCH(B15,祝日!$A$5:$A$40,0)),"")) | C16: =IF(C15="","",IFERROR(INDEX(祝日!$C$5:$C$40,MATCH(C15,祝日!$A$5:$A$40,0)),"")) | D16: =IF(D15="","",IFERROR(INDEX(祝日!$C$5:$C$40,MATCH(D15,祝日!$A$5:$A$40,0)),"")) | E16: =IF(E15="","",IFERROR(INDEX(祝日!$C$5:$C$40,MATCH(E15,祝日!$A$5:$A$40,0)),"")) | F16: =IF(F15="","",IFERROR(INDEX(祝日!$C$5:$C$40,MATCH(F15,祝日!$A$5:$A$40,0)),"")) | G16: =IF(G15="","",IFERROR(INDEX(祝日!$C$5:$C$40,MATCH(G15,祝日!$A$5:$A$40,0)),"")) | H16: =IF(H15="","",IFERROR(INDEX(祝日!$C$5:$C$40,MATCH(H15,祝日!$A$5:$A$40,0)),""))
B17: 46712 | C17: 46713 | D17: 46714 | E17: 46715 | F17: 46716 | G17: 46717 | H17: 46718
B18: =IF(B17="","",IFERROR(INDEX(祝日!$C$5:$C$40,MATCH(B17,祝日!$A$5:$A$40,0)),"")) | C18: =IF(C17="","",IFERROR(INDEX(祝日!$C$5:$C$40,MATCH(C17,祝日!$A$5:$A$40,0)),"")) | D18: =IF(D17="","",IFERROR(INDEX(祝日!$C$5:$C$40,MATCH(D17,祝日!$A$5:$A$40,0)),"")) -> 勤労感謝の日 | E18: =IF(E17="","",IFERROR(INDEX(祝日!$C$5:$C$40,MATCH(E17,祝日!$A$5:$A$40,0)),"")) | F18: =IF(F17="","",IFERROR(INDEX(祝日!$C$5:$C$40,MATCH(F17,祝日!$A$5:$A$40,0)),"")) | G18: =IF(G17="","",IFERROR(INDEX(祝日!$C$5:$C$40,MATCH(G17,祝日!$A$5:$A$40,0)),"")) | H18: =IF(H17="","",IFERROR(INDEX(祝日!$C$5:$C$40,MATCH(H17,祝日!$A$5:$A$40,0)),""))
B19: 46719 | C19: 46720 | D19: 46721
B20: =IF(B19="","",IFERROR(INDEX(祝日!$C$5:$C$40,MATCH(B19,祝日!$A$5:$A$40,0)),"")) | C20: =IF(C19="","",IFERROR(INDEX(祝日!$C$5:$C$40,MATCH(C19,祝日!$A$5:$A$40,0)),"")) | D20: =IF(D19="","",IFERROR(INDEX(祝日!$C$5:$C$40,MATCH(D19,祝日!$A$5:$A$40,0)),""))
B22: MEMO

Sheet 12月
B1: 12 | K1: 【写真を入れるには】 左の色帯の上に画像を挿入(挿入→画像)し、帯の大きさに合わせてください。
D2: DECEMBER
D4: 師走
D6: 2027 令和9年
B10: 日 | C10: 月 | D10: 火 | E10: 水 | F10: 木 | G10: 金 | H10: 土
E11: 46722 | F11: 46723 | G11: 46724 | H11: 46725
E12: =IF(E11="","",IFERROR(INDEX(祝日!$C$5:$C$40,MATCH(E11,祝日!$A$5:$A$40,0)),"")) | F12: =IF(F11="","",IFERROR(INDEX(祝日!$C$5:$C$40,MATCH(F11,祝日!$A$5:$A$40,0)),"")) | G12: =IF(G11="","",IFERROR(INDEX(祝日!$C$5:$C$40,MATCH(G11,祝日!$A$5:$A$40,0)),"")) | H12: =IF(H11="","",IFERROR(INDEX(祝日!$C$5:$C$40,MATCH(H11,祝日!$A$5:$A$40,0)),""))
B13: 46726 | C13: 46727 | D13: 46728 | E13: 46729 | F13: 46730 | G13: 46731 | H13: 46732
B14: =IF(B13="","",IFERROR(INDEX(祝日!$C$5:$C$40,MATCH(B13,祝日!$A$5:$A$40,0)),"")) | C14: =IF(C13="","",IFERROR(INDEX(祝日!$C$5:$C$40,MATCH(C13,祝日!$A$5:$A$40,0)),"")) | D14: =IF(D13="","",IFERROR(INDEX(祝日!$C$5:$C$40,MATCH(D13,祝日!$A$5:$A$40,0)),"")) | E14: =IF(E13="","",IFERROR(INDEX(祝日!$C$5:$C$40,MATCH(E13,祝日!$A$5:$A$40,0)),"")) | F14: =IF(F13="","",IFERROR(INDEX(祝日!$C$5:$C$40,MATCH(F13,祝日!$A$5:$A$40,0)),"")) | G14: =IF(G13="","",IFERROR(INDEX(祝日!$C$5:$C$40,MATCH(G13,祝日!$A$5:$A$40,0)),"")) | H14: =IF(H13="","",IFERROR(INDEX(祝日!$C$5:$C$40,MATCH(H13,祝日!$A$5:$A$40,0)),""))
B15: 46733 | C15: 46734 | D15: 46735 | E15: 46736 | F15: 46737 | G15: 46738 | H15: 46739
B16: =IF(B15="","",IFERROR(INDEX(祝日!$C$5:$C$40,MATCH(B15,祝日!$A$5:$A$40,0)),"")) | C16: =IF(C15="","",IFERROR(INDEX(祝日!$C$5:$C$40,MATCH(C15,祝日!$A$5:$A$40,0)),"")) | D16: =IF(D15="","",IFERROR(INDEX(祝日!$C$5:$C$40,MATCH(D15,祝日!$A$5:$A$40,0)),"")) | E16: =IF(E15="","",IFERROR(INDEX(祝日!$C$5:$C$40,MATCH(E15,祝日!$A$5:$A$40,0)),"")) | F16: =IF(F15="","",IFERROR(INDEX(祝日!$C$5:$C$40,MATCH(F15,祝日!$A$5:$A$40,0)),"")) | G16: =IF(G15="","",IFERROR(INDEX(祝日!$C$5:$C$40,MATCH(G15,祝日!$A$5:$A$40,0)),"")) | H16: =IF(H15="","",IFERROR(INDEX(祝日!$C$5:$C$40,MATCH(H15,祝日!$A$5:$A$40,0)),""))
B17: 46740 | C17: 46741 | D17: 46742 | E17: 46743 | F17: 46744 | G17: 46745 | H17: 46746
B18: =IF(B17="","",IFERROR(INDEX(祝日!$C$5:$C$40,MATCH(B17,祝日!$A$5:$A$40,0)),"")) | C18: =IF(C17="","",IFERROR(INDEX(祝日!$C$5:$C$40,MATCH(C17,祝日!$A$5:$A$40,0)),"")) | D18: =IF(D17="","",IFERROR(INDEX(祝日!$C$5:$C$40,MATCH(D17,祝日!$A$5:$A$40,0)),"")) | E18: =IF(E17="","",IFERROR(INDEX(祝日!$C$5:$C$40,MATCH(E17,祝日!$A$5:$A$40,0)),"")) | F18: =IF(F17="","",IFERROR(INDEX(祝日!$C$5:$C$40,MATCH(F17,祝日!$A$5:$A$40,0)),"")) | G18: =IF(G17="","",IFERROR(INDEX(祝日!$C$5:$C$40,MATCH(G17,祝日!$A$5:$A$40,0)),"")) | H18: =IF(H17="","",IFERROR(INDEX(祝日!$C$5:$C$40,MATCH(H17,祝日!$A$5:$A$40,0)),""))
B19: 46747 | C19: 46748 | D19: 46749 | E19: 46750 | F19: 46751 | G19: 46752
B20: =IF(B19="","",IFERROR(INDEX(祝日!$C$5:$C$40,MATCH(B19,祝日!$A$5:$A$40,0)),"")) | C20: =IF(C19="","",IFERROR(INDEX(祝日!$C$5:$C$40,MATCH(C19,祝日!$A$5:$A$40,0)),"")) | D20: =IF(D19="","",IFERROR(INDEX(祝日!$C$5:$C$40,MATCH(D19,祝日!$A$5:$A$40,0)),"")) | E20: =IF(E19="","",IFERROR(INDEX(祝日!$C$5:$C$40,MATCH(E19,祝日!$A$5:$A$40,0)),"")) | F20: =IF(F19="","",IFERROR(INDEX(祝日!$C$5:$C$40,MATCH(F19,祝日!$A$5:$A$40,0)),"")) | G20: =IF(G19="","",IFERROR(INDEX(祝日!$C$5:$C$40,MATCH(G19,祝日!$A$5:$A$40,0)),""))
B22: MEMO

Sheet 祝日
A1: 2027年(令和9年) 国民の祝日
A2: ※ この一覧を参照して各カレンダーの祝日色・祝日名が決まります。黄色いセルは編集可(行の追加も可、40行目まで)。
A3: 出典: 内閣府「国民の祝日」／国立天文台 令和9年(2027)暦要項(令和8年2月2日発表: 春分の日3/21・秋分の日9/23)
A4: 日付 | B4: 曜日 | C4: 名称 | D4: 備考
A5: 46388 | B5: =IF(A5="","",CHOOSE(WEEKDAY(A5),"日","月","火","水","木","金","土")) -> 金 | C5: 元日
A6: 46398 | B6: =IF(A6="","",CHOOSE(WEEKDAY(A6),"日","月","火","水","木","金","土")) -> 月 | C6: 成人の日
A7: 46429 | B7: =IF(A7="","",CHOOSE(WEEKDAY(A7),"日","月","火","水","木","金","土")) -> 木 | C7: 建国記念の日
A8: 46441 | B8: =IF(A8="","",CHOOSE(WEEKDAY(A8),"日","月","火","水","木","金","土")) -> 火 | C8: 天皇誕生日
A9: 46467 | B9: =IF(A9="","",CHOOSE(WEEKDAY(A9),"日","月","火","水","木","金","土")) -> 日 | C9: 春分の日
A10: 46468 | B10: =IF(A10="","",CHOOSE(WEEKDAY(A10),"日","月","火","水","木","金","土")) -> 月 | C10: 振替休日 | D10: 春分の日(3/21・日曜)の振替休日
A11: 46506 | B11: =IF(A11="","",CHOOSE(WEEKDAY(A11),"日","月","火","水","木","金","土")) -> 木 | C11: 昭和の日
A12: 46510 | B12: =IF(A12="","",CHOOSE(WEEKDAY(A12),"日","月","火","水","木","金","土")) -> 月 | C12: 憲法記念日
A13: 46511 | B13: =IF(A13="","",CHOOSE(WEEKDAY(A13),"日","月","火","水","木","金","土")) -> 火 | C13: みどりの日 | D13: 5/1(土)〜5/5(水)は5連休
A14: 46512 | B14: =IF(A14="","",CHOOSE(WEEKDAY(A14),"日","月","火","水","木","金","土")) -> 水 | C14: こどもの日
A15: 46587 | B15: =IF(A15="","",CHOOSE(WEEKDAY(A15),"日","月","火","水","木","金","土")) -> 月 | C15: 海の日
A16: 46610 | B16: =IF(A16="","",CHOOSE(WEEKDAY(A16),"日","月","火","水","木","金","土")) -> 水 | C16: 山の日
A17: 46650 | B17: =IF(A17="","",CHOOSE(WEEKDAY(A17),"日","月","火","水","木","金","土")) -> 月 | C17: 敬老の日
A18: 46653 | B18: =IF(A18="","",CHOOSE(WEEKDAY(A18),"日","月","火","水","木","金","土")) -> 木 | C18: 秋分の日
A19: 46671 | B19: =IF(A19="","",CHOOSE(WEEKDAY(A19),"日","月","火","水","木","金","土")) -> 月 | C19: スポーツの日
A20: 46694 | B20: =IF(A20="","",CHOOSE(WEEKDAY(A20),"日","月","火","水","木","金","土")) -> 水 | C20: 文化の日
A21: 46714 | B21: =IF(A21="","",CHOOSE(WEEKDAY(A21),"日","月","火","水","木","金","土")) -> 火 | C21: 勤労感謝の日
B22: =IF(A22="","",CHOOSE(WEEKDAY(A22),"日","月","火","水","木","金","土"))
B23: =IF(A23="","",CHOOSE(WEEKDAY(A23),"日","月","火","水","木","金","土"))
B24: =IF(A24="","",CHOOSE(WEEKDAY(A24),"日","月","火","水","木","金","土"))
B25: =IF(A25="","",CHOOSE(WEEKDAY(A25),"日","月","火","水","木","金","土"))
B26: =IF(A26="","",CHOOSE(WEEKDAY(A26),"日","月","火","水","木","金","土"))
B27: =IF(A27="","",CHOOSE(WEEKDAY(A27),"日","月","火","水","木","金","土"))
B28: =IF(A28="","",CHOOSE(WEEKDAY(A28),"日","月","火","水","木","金","土"))
B29: =IF(A29="","",CHOOSE(WEEKDAY(A29),"日","月","火","水","木","金","土"))
B30: =IF(A30="","",CHOOSE(WEEKDAY(A30),"日","月","火","水","木","金","土"))
B31: =IF(A31="","",CHOOSE(WEEKDAY(A31),"日","月","火","水","木","金","土"))
B32: =IF(A32="","",CHOOSE(WEEKDAY(A32),"日","月","火","水","木","金","土"))
B33: =IF(A33="","",CHOOSE(WEEKDAY(A33),"日","月","火","水","木","金","土"))
... B40: =IF(A40="","",CHOOSE(WEEKDAY(A40),"日","月","火","水","木","金","土"))
