Workbook

Sheet 目次
B2: 2027年 ウィークリー(バーチカル) 目次
B3: 週は月曜始まり。「2026年第53週」は1/1〜1/3が2027年に含まれる週です。リンクをクリックで各週へ移動できます。
B5: 週 | C5: 期間 | D5: リンク
B6: 2026年 第53週 | C6: 2026/12/28(月) – 2027/1/3(日) | D6: 開く
B7: 第1週 | C7: 2027/1/4(月) – 2027/1/10(日) | D7: 開く
B8: 第2週 | C8: 2027/1/11(月) – 2027/1/17(日) | D8: 開く
B9: 第3週 | C9: 2027/1/18(月) – 2027/1/24(日) | D9: 開く
B10: 第4週 | C10: 2027/1/25(月) – 2027/1/31(日) | D10: 開く
B11: 第5週 | C11: 2027/2/1(月) – 2027/2/7(日) | D11: 開く
B12: 第6週 | C12: 2027/2/8(月) – 2027/2/14(日) | D12: 開く
B13: 第7週 | C13: 2027/2/15(月) – 2027/2/21(日) | D13: 開く
B14: 第8週 | C14: 2027/2/22(月) – 2027/2/28(日) | D14: 開く
B15: 第9週 | C15: 2027/3/1(月) – 2027/3/7(日) | D15: 開く
B16: 第10週 | C16: 2027/3/8(月) – 2027/3/14(日) | D16: 開く
... B58: 第52週 | C58: 2027/12/27(月) – 2028/1/2(日) | D58: 開く

Sheet 第53週(前年)
B2: 2026年 第53週 | E2: 12/28(月) – 1/3(日) | H2: JANUARY 2027 | K2: ← 目次へ
C4: 月 | D4: 火 | E4: 水 | F4: 木 | G4: 金 | H4: 土 | I4: 日
C5: 46384 | D5: 46385 | E5: 46386 | F5: 46387 | G5: 46388 | H5: 46389 | I5: 46390 | K5: GOAL 今週の目標
C6: =IF(C5="","",IFERROR(INDEX(祝日!$C$5:$C$40,MATCH(C5,祝日!$A$5:$A$40,0)),"")) | D6: =IF(D5="","",IFERROR(INDEX(祝日!$C$5:$C$40,MATCH(D5,祝日!$A$5:$A$40,0)),"")) | E6: =IF(E5="","",IFERROR(INDEX(祝日!$C$5:$C$40,MATCH(E5,祝日!$A$5:$A$40,0)),"")) | F6: =IF(F5="","",IFERROR(INDEX(祝日!$C$5:$C$40,MATCH(F5,祝日!$A$5:$A$40,0)),"")) | G6: =IF(G5="","",IFERROR(INDEX(祝日!$C$5:$C$40,MATCH(G5,祝日!$A$5:$A$40,0)),"")) -> 元日 | H6: =IF(H5="","",IFERROR(INDEX(祝日!$C$5:$C$40,MATCH(H5,祝日!$A$5:$A$40,0)),"")) | I6: =IF(I5="","",IFERROR(INDEX(祝日!$C$5:$C$40,MATCH(I5,祝日!$A$5:$A$40,0)),""))
B7: 終日
B8: 0.25
B9: 0.29166667 | K9: TO DO やること
B10: 0.33333333 | K10: ☐
B11: 0.375 | K11: ☐
B12: 0.41666667 | K12: ☐
B13: 0.45833333 | K13: ☐
B14: 0.5 | K14: ☐
B15: 0.54166667 | K15: ☐
B16: 0.58333333 | K16: ☐
B17: 0.625
B18: 0.66666667 | K18: MEMO メモ
B19: 0.70833333
B20: 0.75
B21: 0.79166667
B22: 0.83333333
B23: 0.875
B24: 0.91666667
B25: 0.95833333

Sheet 第1週
B2: 第1週 | E2: 1/4(月) – 1/10(日) | H2: JANUARY 2027 | K2: ← 目次へ
C4: 月 | D4: 火 | E4: 水 | F4: 木 | G4: 金 | H4: 土 | I4: 日
C5: 46391 | D5: 46392 | E5: 46393 | F5: 46394 | G5: 46395 | H5: 46396 | I5: 46397 | K5: GOAL 今週の目標
C6: =IF(C5="","",IFERROR(INDEX(祝日!$C$5:$C$40,MATCH(C5,祝日!$A$5:$A$40,0)),"")) | D6: =IF(D5="","",IFERROR(INDEX(祝日!$C$5:$C$40,MATCH(D5,祝日!$A$5:$A$40,0)),"")) | E6: =IF(E5="","",IFERROR(INDEX(祝日!$C$5:$C$40,MATCH(E5,祝日!$A$5:$A$40,0)),"")) | F6: =IF(F5="","",IFERROR(INDEX(祝日!$C$5:$C$40,MATCH(F5,祝日!$A$5:$A$40,0)),"")) | G6: =IF(G5="","",IFERROR(INDEX(祝日!$C$5:$C$40,MATCH(G5,祝日!$A$5:$A$40,0)),"")) | H6: =IF(H5="","",IFERROR(INDEX(祝日!$C$5:$C$40,MATCH(H5,祝日!$A$5:$A$40,0)),"")) | I6: =IF(I5="","",IFERROR(INDEX(祝日!$C$5:$C$40,MATCH(I5,祝日!$A$5:$A$40,0)),""))
B7: 終日
B8: 0.25
B9: 0.29166667 | K9: TO DO やること
B10: 0.33333333 | K10: ☐
B11: 0.375 | K11: ☐
B12: 0.41666667 | K12: ☐
B13: 0.45833333 | K13: ☐
B14: 0.5 | K14: ☐
B15: 0.54166667 | K15: ☐
B16: 0.58333333 | K16: ☐
B17: 0.625
B18: 0.66666667 | K18: MEMO メモ
B19: 0.70833333
B20: 0.75
B21: 0.79166667
B22: 0.83333333
B23: 0.875
B24: 0.91666667
B25: 0.95833333

Sheet 第2週
B2: 第2週 | E2: 1/11(月) – 1/17(日) | H2: JANUARY 2027 | K2: ← 目次へ
C4: 月 | D4: 火 | E4: 水 | F4: 木 | G4: 金 | H4: 土 | I4: 日
C5: 46398 | D5: 46399 | E5: 46400 | F5: 46401 | G5: 46402 | H5: 46403 | I5: 46404 | K5: GOAL 今週の目標
C6: =IF(C5="","",IFERROR(INDEX(祝日!$C$5:$C$40,MATCH(C5,祝日!$A$5:$A$40,0)),"")) -> 成人の日 | D6: =IF(D5="","",IFERROR(INDEX(祝日!$C$5:$C$40,MATCH(D5,祝日!$A$5:$A$40,0)),"")) | E6: =IF(E5="","",IFERROR(INDEX(祝日!$C$5:$C$40,MATCH(E5,祝日!$A$5:$A$40,0)),"")) | F6: =IF(F5="","",IFERROR(INDEX(祝日!$C$5:$C$40,MATCH(F5,祝日!$A$5:$A$40,0)),"")) | G6: =IF(G5="","",IFERROR(INDEX(祝日!$C$5:$C$40,MATCH(G5,祝日!$A$5:$A$40,0)),"")) | H6: =IF(H5="","",IFERROR(INDEX(祝日!$C$5:$C$40,MATCH(H5,祝日!$A$5:$A$40,0)),"")) | I6: =IF(I5="","",IFERROR(INDEX(祝日!$C$5:$C$40,MATCH(I5,祝日!$A$5:$A$40,0)),""))
B7: 終日
B8: 0.25
B9: 0.29166667 | K9: TO DO やること
B10: 0.33333333 | K10: ☐
B11: 0.375 | K11: ☐
B12: 0.41666667 | K12: ☐
B13: 0.45833333 | K13: ☐
B14: 0.5 | K14: ☐
B15: 0.54166667 | K15: ☐
B16: 0.58333333 | K16: ☐
B17: 0.625
B18: 0.66666667 | K18: MEMO メモ
B19: 0.70833333
B20: 0.75
B21: 0.79166667
B22: 0.83333333
B23: 0.875
B24: 0.91666667
B25: 0.95833333

Sheet 第3週
B2: 第3週 | E2: 1/18(月) – 1/24(日) | H2: JANUARY 2027 | K2: ← 目次へ
C4: 月 | D4: 火 | E4: 水 | F4: 木 | G4: 金 | H4: 土 | I4: 日
C5: 46405 | D5: 46406 | E5: 46407 | F5: 46408 | G5: 46409 | H5: 46410 | I5: 46411 | K5: GOAL 今週の目標
C6: =IF(C5="","",IFERROR(INDEX(祝日!$C$5:$C$40,MATCH(C5,祝日!$A$5:$A$40,0)),"")) | D6: =IF(D5="","",IFERROR(INDEX(祝日!$C$5:$C$40,MATCH(D5,祝日!$A$5:$A$40,0)),"")) | E6: =IF(E5="","",IFERROR(INDEX(祝日!$C$5:$C$40,MATCH(E5,祝日!$A$5:$A$40,0)),"")) | F6: =IF(F5="","",IFERROR(INDEX(祝日!$C$5:$C$40,MATCH(F5,祝日!$A$5:$A$40,0)),"")) | G6: =IF(G5="","",IFERROR(INDEX(祝日!$C$5:$C$40,MATCH(G5,祝日!$A$5:$A$40,0)),"")) | H6: =IF(H5="","",IFERROR(INDEX(祝日!$C$5:$C$40,MATCH(H5,祝日!$A$5:$A$40,0)),"")) | I6: =IF(I5="","",IFERROR(INDEX(祝日!$C$5:$C$40,MATCH(I5,祝日!$A$5:$A$40,0)),""))
B7: 終日
B8: 0.25
B9: 0.29166667 | K9: TO DO やること
B10: 0.33333333 | K10: ☐
B11: 0.375 | K11: ☐
B12: 0.41666667 | K12: ☐
B13: 0.45833333 | K13: ☐
B14: 0.5 | K14: ☐
B15: 0.54166667 | K15: ☐
B16: 0.58333333 | K16: ☐
B17: 0.625
B18: 0.66666667 | K18: MEMO メモ
B19: 0.70833333
B20: 0.75
B21: 0.79166667
B22: 0.83333333
B23: 0.875
B24: 0.91666667
B25: 0.95833333

Sheet 第4週
B2: 第4週 | E2: 1/25(月) – 1/31(日) | H2: JANUARY 2027 | K2: ← 目次へ
C4: 月 | D4: 火 | E4: 水 | F4: 木 | G4: 金 | H4: 土 | I4: 日
C5: 46412 | D5: 46413 | E5: 46414 | F5: 46415 | G5: 46416 | H5: 46417 | I5: 46418 | K5: GOAL 今週の目標
C6: =IF(C5="","",IFERROR(INDEX(祝日!$C$5:$C$40,MATCH(C5,祝日!$A$5:$A$40,0)),"")) | D6: =IF(D5="","",IFERROR(INDEX(祝日!$C$5:$C$40,MATCH(D5,祝日!$A$5:$A$40,0)),"")) | E6: =IF(E5="","",IFERROR(INDEX(祝日!$C$5:$C$40,MATCH(E5,祝日!$A$5:$A$40,0)),"")) | F6: =IF(F5="","",IFERROR(INDEX(祝日!$C$5:$C$40,MATCH(F5,祝日!$A$5:$A$40,0)),"")) | G6: =IF(G5="","",IFERROR(INDEX(祝日!$C$5:$C$40,MATCH(G5,祝日!$A$5:$A$40,0)),"")) | H6: =IF(H5="","",IFERROR(INDEX(祝日!$C$5:$C$40,MATCH(H5,祝日!$A$5:$A$40,0)),"")) | I6: =IF(I5="","",IFERROR(INDEX(祝日!$C$5:$C$40,MATCH(I5,祝日!$A$5:$A$40,0)),""))
B7: 終日
B8: 0.25
B9: 0.29166667 | K9: TO DO やること
B10: 0.33333333 | K10: ☐
B11: 0.375 | K11: ☐
B12: 0.41666667 | K12: ☐
B13: 0.45833333 | K13: ☐
B14: 0.5 | K14: ☐
B15: 0.54166667 | K15: ☐
B16: 0.58333333 | K16: ☐
B17: 0.625
B18: 0.66666667 | K18: MEMO メモ
B19: 0.70833333
B20: 0.75
B21: 0.79166667
B22: 0.83333333
B23: 0.875
B24: 0.91666667
B25: 0.95833333

Sheet 第5週
B2: 第5週 | E2: 2/1(月) – 2/7(日) | H2: FEBRUARY 2027 | K2: ← 目次へ
C4: 月 | D4: 火 | E4: 水 | F4: 木 | G4: 金 | H4: 土 | I4: 日
C5: 46419 | D5: 46420 | E5: 46421 | F5: 46422 | G5: 46423 | H5: 46424 | I5: 46425 | K5: GOAL 今週の目標
C6: =IF(C5="","",IFERROR(INDEX(祝日!$C$5:$C$40,MATCH(C5,祝日!$A$5:$A$40,0)),"")) | D6: =IF(D5="","",IFERROR(INDEX(祝日!$C$5:$C$40,MATCH(D5,祝日!$A$5:$A$40,0)),"")) | E6: =IF(E5="","",IFERROR(INDEX(祝日!$C$5:$C$40,MATCH(E5,祝日!$A$5:$A$40,0)),"")) | F6: =IF(F5="","",IFERROR(INDEX(祝日!$C$5:$C$40,MATCH(F5,祝日!$A$5:$A$40,0)),"")) | G6: =IF(G5="","",IFERROR(INDEX(祝日!$C$5:$C$40,MATCH(G5,祝日!$A$5:$A$40,0)),"")) | H6: =IF(H5="","",IFERROR(INDEX(祝日!$C$5:$C$40,MATCH(H5,祝日!$A$5:$A$40,0)),"")) | I6: =IF(I5="","",IFERROR(INDEX(祝日!$C$5:$C$40,MATCH(I5,祝日!$A$5:$A$40,0)),""))
B7: 終日
B8: 0.25
B9: 0.29166667 | K9: TO DO やること
B10: 0.33333333 | K10: ☐
B11: 0.375 | K11: ☐
B12: 0.41666667 | K12: ☐
B13: 0.45833333 | K13: ☐
B14: 0.5 | K14: ☐
B15: 0.54166667 | K15: ☐
B16: 0.58333333 | K16: ☐
B17: 0.625
B18: 0.66666667 | K18: MEMO メモ
B19: 0.70833333
B20: 0.75
B21: 0.79166667
B22: 0.83333333
B23: 0.875
B24: 0.91666667
B25: 0.95833333

Sheet 第6週
B2: 第6週 | E2: 2/8(月) – 2/14(日) | H2: FEBRUARY 2027 | K2: ← 目次へ
C4: 月 | D4: 火 | E4: 水 | F4: 木 | G4: 金 | H4: 土 | I4: 日
C5: 46426 | D5: 46427 | E5: 46428 | F5: 46429 | G5: 46430 | H5: 46431 | I5: 46432 | K5: GOAL 今週の目標
C6: =IF(C5="","",IFERROR(INDEX(祝日!$C$5:$C$40,MATCH(C5,祝日!$A$5:$A$40,0)),"")) | D6: =IF(D5="","",IFERROR(INDEX(祝日!$C$5:$C$40,MATCH(D5,祝日!$A$5:$A$40,0)),"")) | E6: =IF(E5="","",IFERROR(INDEX(祝日!$C$5:$C$40,MATCH(E5,祝日!$A$5:$A$40,0)),"")) | F6: =IF(F5="","",IFERROR(INDEX(祝日!$C$5:$C$40,MATCH(F5,祝日!$A$5:$A$40,0)),"")) -> 建国記念の日 | G6: =IF(G5="","",IFERROR(INDEX(祝日!$C$5:$C$40,MATCH(G5,祝日!$A$5:$A$40,0)),"")) | H6: =IF(H5="","",IFERROR(INDEX(祝日!$C$5:$C$40,MATCH(H5,祝日!$A$5:$A$40,0)),"")) | I6: =IF(I5="","",IFERROR(INDEX(祝日!$C$5:$C$40,MATCH(I5,祝日!$A$5:$A$40,0)),""))
B7: 終日
B8: 0.25
B9: 0.29166667 | K9: TO DO やること
B10: 0.33333333 | K10: ☐
B11: 0.375 | K11: ☐
B12: 0.41666667 | K12: ☐
B13: 0.45833333 | K13: ☐
B14: 0.5 | K14: ☐
B15: 0.54166667 | K15: ☐
B16: 0.58333333 | K16: ☐
B17: 0.625
B18: 0.66666667 | K18: MEMO メモ
B19: 0.70833333
B20: 0.75
B21: 0.79166667
B22: 0.83333333
B23: 0.875
B24: 0.91666667
B25: 0.95833333

Sheet 第7週
B2: 第7週 | E2: 2/15(月) – 2/21(日) | H2: FEBRUARY 2027 | K2: ← 目次へ
C4: 月 | D4: 火 | E4: 水 | F4: 木 | G4: 金 | H4: 土 | I4: 日
C5: 46433 | D5: 46434 | E5: 46435 | F5: 46436 | G5: 46437 | H5: 46438 | I5: 46439 | K5: GOAL 今週の目標
C6: =IF(C5="","",IFERROR(INDEX(祝日!$C$5:$C$40,MATCH(C5,祝日!$A$5:$A$40,0)),"")) | D6: =IF(D5="","",IFERROR(INDEX(祝日!$C$5:$C$40,MATCH(D5,祝日!$A$5:$A$40,0)),"")) | E6: =IF(E5="","",IFERROR(INDEX(祝日!$C$5:$C$40,MATCH(E5,祝日!$A$5:$A$40,0)),"")) | F6: =IF(F5="","",IFERROR(INDEX(祝日!$C$5:$C$40,MATCH(F5,祝日!$A$5:$A$40,0)),"")) | G6: =IF(G5="","",IFERROR(INDEX(祝日!$C$5:$C$40,MATCH(G5,祝日!$A$5:$A$40,0)),"")) | H6: =IF(H5="","",IFERROR(INDEX(祝日!$C$5:$C$40,MATCH(H5,祝日!$A$5:$A$40,0)),"")) | I6: =IF(I5="","",IFERROR(INDEX(祝日!$C$5:$C$40,MATCH(I5,祝日!$A$5:$A$40,0)),""))
B7: 終日
B8: 0.25
B9: 0.29166667 | K9: TO DO やること
B10: 0.33333333 | K10: ☐
B11: 0.375 | K11: ☐
B12: 0.41666667 | K12: ☐
B13: 0.45833333 | K13: ☐
B14: 0.5 | K14: ☐
B15: 0.54166667 | K15: ☐
B16: 0.58333333 | K16: ☐
B17: 0.625
B18: 0.66666667 | K18: MEMO メモ
B19: 0.70833333
B20: 0.75
B21: 0.79166667
B22: 0.83333333
B23: 0.875
B24: 0.91666667
B25: 0.95833333

Sheet 第8週
B2: 第8週 | E2: 2/22(月) – 2/28(日) | H2: FEBRUARY 2027 | K2: ← 目次へ
C4: 月 | D4: 火 | E4: 水 | F4: 木 | G4: 金 | H4: 土 | I4: 日
C5: 46440 | D5: 46441 | E5: 46442 | F5: 46443 | G5: 46444 | H5: 46445 | I5: 46446 | K5: GOAL 今週の目標
C6: =IF(C5="","",IFERROR(INDEX(祝日!$C$5:$C$40,MATCH(C5,祝日!$A$5:$A$40,0)),"")) | D6: =IF(D5="","",IFERROR(INDEX(祝日!$C$5:$C$40,MATCH(D5,祝日!$A$5:$A$40,0)),"")) -> 天皇誕生日 | E6: =IF(E5="","",IFERROR(INDEX(祝日!$C$5:$C$40,MATCH(E5,祝日!$A$5:$A$40,0)),"")) | F6: =IF(F5="","",IFERROR(INDEX(祝日!$C$5:$C$40,MATCH(F5,祝日!$A$5:$A$40,0)),"")) | G6: =IF(G5="","",IFERROR(INDEX(祝日!$C$5:$C$40,MATCH(G5,祝日!$A$5:$A$40,0)),"")) | H6: =IF(H5="","",IFERROR(INDEX(祝日!$C$5:$C$40,MATCH(H5,祝日!$A$5:$A$40,0)),"")) | I6: =IF(I5="","",IFERROR(INDEX(祝日!$C$5:$C$40,MATCH(I5,祝日!$A$5:$A$40,0)),""))
B7: 終日
B8: 0.25
B9: 0.29166667 | K9: TO DO やること
B10: 0.33333333 | K10: ☐
B11: 0.375 | K11: ☐
B12: 0.41666667 | K12: ☐
B13: 0.45833333 | K13: ☐
B14: 0.5 | K14: ☐
B15: 0.54166667 | K15: ☐
B16: 0.58333333 | K16: ☐
B17: 0.625
B18: 0.66666667 | K18: MEMO メモ
B19: 0.70833333
B20: 0.75
B21: 0.79166667
B22: 0.83333333
B23: 0.875
B24: 0.91666667
B25: 0.95833333

Sheet 第9週
B2: 第9週 | E2: 3/1(月) – 3/7(日) | H2: MARCH 2027 | K2: ← 目次へ
C4: 月 | D4: 火 | E4: 水 | F4: 木 | G4: 金 | H4: 土 | I4: 日
C5: 46447 | D5: 46448 | E5: 46449 | F5: 46450 | G5: 46451 | H5: 46452 | I5: 46453 | K5: GOAL 今週の目標
C6: =IF(C5="","",IFERROR(INDEX(祝日!$C$5:$C$40,MATCH(C5,祝日!$A$5:$A$40,0)),"")) | D6: =IF(D5="","",IFERROR(INDEX(祝日!$C$5:$C$40,MATCH(D5,祝日!$A$5:$A$40,0)),"")) | E6: =IF(E5="","",IFERROR(INDEX(祝日!$C$5:$C$40,MATCH(E5,祝日!$A$5:$A$40,0)),"")) | F6: =IF(F5="","",IFERROR(INDEX(祝日!$C$5:$C$40,MATCH(F5,祝日!$A$5:$A$40,0)),"")) | G6: =IF(G5="","",IFERROR(INDEX(祝日!$C$5:$C$40,MATCH(G5,祝日!$A$5:$A$40,0)),"")) | H6: =IF(H5="","",IFERROR(INDEX(祝日!$C$5:$C$40,MATCH(H5,祝日!$A$5:$A$40,0)),"")) | I6: =IF(I5="","",IFERROR(INDEX(祝日!$C$5:$C$40,MATCH(I5,祝日!$A$5:$A$40,0)),""))
B7: 終日
B8: 0.25
B9: 0.29166667 | K9: TO DO やること
B10: 0.33333333 | K10: ☐
B11: 0.375 | K11: ☐
B12: 0.41666667 | K12: ☐
B13: 0.45833333 | K13: ☐
B14: 0.5 | K14: ☐
B15: 0.54166667 | K15: ☐
B16: 0.58333333 | K16: ☐
B17: 0.625
B18: 0.66666667 | K18: MEMO メモ
B19: 0.70833333
B20: 0.75
B21: 0.79166667
B22: 0.83333333
B23: 0.875
B24: 0.91666667
B25: 0.95833333

Sheet 第10週
B2: 第10週 | E2: 3/8(月) – 3/14(日) | H2: MARCH 2027 | K2: ← 目次へ
C4: 月 | D4: 火 | E4: 水 | F4: 木 | G4: 金 | H4: 土 | I4: 日
C5: 46454 | D5: 46455 | E5: 46456 | F5: 46457 | G5: 46458 | H5: 46459 | I5: 46460 | K5: GOAL 今週の目標
C6: =IF(C5="","",IFERROR(INDEX(祝日!$C$5:$C$40,MATCH(C5,祝日!$A$5:$A$40,0)),"")) | D6: =IF(D5="","",IFERROR(INDEX(祝日!$C$5:$C$40,MATCH(D5,祝日!$A$5:$A$40,0)),"")) | E6: =IF(E5="","",IFERROR(INDEX(祝日!$C$5:$C$40,MATCH(E5,祝日!$A$5:$A$40,0)),"")) | F6: =IF(F5="","",IFERROR(INDEX(祝日!$C$5:$C$40,MATCH(F5,祝日!$A$5:$A$40,0)),"")) | G6: =IF(G5="","",IFERROR(INDEX(祝日!$C$5:$C$40,MATCH(G5,祝日!$A$5:$A$40,0)),"")) | H6: =IF(H5="","",IFERROR(INDEX(祝日!$C$5:$C$40,MATCH(H5,祝日!$A$5:$A$40,0)),"")) | I6: =IF(I5="","",IFERROR(INDEX(祝日!$C$5:$C$40,MATCH(I5,祝日!$A$5:$A$40,0)),""))
B7: 終日
B8: 0.25
B9: 0.29166667 | K9: TO DO やること
B10: 0.33333333 | K10: ☐
B11: 0.375 | K11: ☐
B12: 0.41666667 | K12: ☐
B13: 0.45833333 | K13: ☐
B14: 0.5 | K14: ☐
B15: 0.54166667 | K15: ☐
B16: 0.58333333 | K16: ☐
B17: 0.625
B18: 0.66666667 | K18: MEMO メモ
B19: 0.70833333
B20: 0.75
B21: 0.79166667
B22: 0.83333333
B23: 0.875
B24: 0.91666667
B25: 0.95833333

Sheet 第11週
B2: 第11週 | E2: 3/15(月) – 3/21(日) | H2: MARCH 2027 | K2: ← 目次へ
C4: 月 | D4: 火 | E4: 水 | F4: 木 | G4: 金 | H4: 土 | I4: 日
C5: 46461 | D5: 46462 | E5: 46463 | F5: 46464 | G5: 46465 | H5: 46466 | I5: 46467 | K5: GOAL 今週の目標
C6: =IF(C5="","",IFERROR(INDEX(祝日!$C$5:$C$40,MATCH(C5,祝日!$A$5:$A$40,0)),"")) | D6: =IF(D5="","",IFERROR(INDEX(祝日!$C$5:$C$40,MATCH(D5,祝日!$A$5:$A$40,0)),"")) | E6: =IF(E5="","",IFERROR(INDEX(祝日!$C$5:$C$40,MATCH(E5,祝日!$A$5:$A$40,0)),"")) | F6: =IF(F5="","",IFERROR(INDEX(祝日!$C$5:$C$40,MATCH(F5,祝日!$A$5:$A$40,0)),"")) | G6: =IF(G5="","",IFERROR(INDEX(祝日!$C$5:$C$40,MATCH(G5,祝日!$A$5:$A$40,0)),"")) | H6: =IF(H5="","",IFERROR(INDEX(祝日!$C$5:$C$40,MATCH(H5,祝日!$A$5:$A$40,0)),"")) | I6: =IF(I5="","",IFERROR(INDEX(祝日!$C$5:$C$40,MATCH(I5,祝日!$A$5:$A$40,0)),"")) -> 春分の日
B7: 終日
B8: 0.25
B9: 0.29166667 | K9: TO DO やること
B10: 0.33333333 | K10: ☐
B11: 0.375 | K11: ☐
B12: 0.41666667 | K12: ☐
B13: 0.45833333 | K13: ☐
B14: 0.5 | K14: ☐
B15: 0.54166667 | K15: ☐
B16: 0.58333333 | K16: ☐
B17: 0.625
B18: 0.66666667 | K18: MEMO メモ
B19: 0.70833333
B20: 0.75
B21: 0.79166667
B22: 0.83333333
B23: 0.875
B24: 0.91666667
B25: 0.95833333

Sheet 第12週
B2: 第12週 | E2: 3/22(月) – 3/28(日) | H2: MARCH 2027 | K2: ← 目次へ
C4: 月 | D4: 火 | E4: 水 | F4: 木 | G4: 金 | H4: 土 | I4: 日
C5: 46468 | D5: 46469 | E5: 46470 | F5: 46471 | G5: 46472 | H5: 46473 | I5: 46474 | K5: GOAL 今週の目標
C6: =IF(C5="","",IFERROR(INDEX(祝日!$C$5:$C$40,MATCH(C5,祝日!$A$5:$A$40,0)),"")) -> 振替休日 | D6: =IF(D5="","",IFERROR(INDEX(祝日!$C$5:$C$40,MATCH(D5,祝日!$A$5:$A$40,0)),"")) | E6: =IF(E5="","",IFERROR(INDEX(祝日!$C$5:$C$40,MATCH(E5,祝日!$A$5:$A$40,0)),"")) | F6: =IF(F5="","",IFERROR(INDEX(祝日!$C$5:$C$40,MATCH(F5,祝日!$A$5:$A$40,0)),"")) | G6: =IF(G5="","",IFERROR(INDEX(祝日!$C$5:$C$40,MATCH(G5,祝日!$A$5:$A$40,0)),"")) | H6: =IF(H5="","",IFERROR(INDEX(祝日!$C$5:$C$40,MATCH(H5,祝日!$A$5:$A$40,0)),"")) | I6: =IF(I5="","",IFERROR(INDEX(祝日!$C$5:$C$40,MATCH(I5,祝日!$A$5:$A$40,0)),""))
B7: 終日
B8: 0.25
B9: 0.29166667 | K9: TO DO やること
B10: 0.33333333 | K10: ☐
B11: 0.375 | K11: ☐
B12: 0.41666667 | K12: ☐
B13: 0.45833333 | K13: ☐
B14: 0.5 | K14: ☐
B15: 0.54166667 | K15: ☐
B16: 0.58333333 | K16: ☐
B17: 0.625
B18: 0.66666667 | K18: MEMO メモ
B19: 0.70833333
B20: 0.75
B21: 0.79166667
B22: 0.83333333
B23: 0.875
B24: 0.91666667
B25: 0.95833333

Sheet 第13週
B2: 第13週 | E2: 3/29(月) – 4/4(日) | H2: APRIL 2027 | K2: ← 目次へ
C4: 月 | D4: 火 | E4: 水 | F4: 木 | G4: 金 | H4: 土 | I4: 日
C5: 46475 | D5: 46476 | E5: 46477 | F5: 46478 | G5: 46479 | H5: 46480 | I5: 46481 | K5: GOAL 今週の目標
C6: =IF(C5="","",IFERROR(INDEX(祝日!$C$5:$C$40,MATCH(C5,祝日!$A$5:$A$40,0)),"")) | D6: =IF(D5="","",IFERROR(INDEX(祝日!$C$5:$C$40,MATCH(D5,祝日!$A$5:$A$40,0)),"")) | E6: =IF(E5="","",IFERROR(INDEX(祝日!$C$5:$C$40,MATCH(E5,祝日!$A$5:$A$40,0)),"")) | F6: =IF(F5="","",IFERROR(INDEX(祝日!$C$5:$C$40,MATCH(F5,祝日!$A$5:$A$40,0)),"")) | G6: =IF(G5="","",IFERROR(INDEX(祝日!$C$5:$C$40,MATCH(G5,祝日!$A$5:$A$40,0)),"")) | H6: =IF(H5="","",IFERROR(INDEX(祝日!$C$5:$C$40,MATCH(H5,祝日!$A$5:$A$40,0)),"")) | I6: =IF(I5="","",IFERROR(INDEX(祝日!$C$5:$C$40,MATCH(I5,祝日!$A$5:$A$40,0)),""))
B7: 終日
B8: 0.25
B9: 0.29166667 | K9: TO DO やること
B10: 0.33333333 | K10: ☐
B11: 0.375 | K11: ☐
B12: 0.41666667 | K12: ☐
B13: 0.45833333 | K13: ☐
B14: 0.5 | K14: ☐
B15: 0.54166667 | K15: ☐
B16: 0.58333333 | K16: ☐
B17: 0.625
B18: 0.66666667 | K18: MEMO メモ
B19: 0.70833333
B20: 0.75
B21: 0.79166667
B22: 0.83333333
B23: 0.875
B24: 0.91666667
B25: 0.95833333

Sheet 第14週
B2: 第14週 | E2: 4/5(月) – 4/11(日) | H2: APRIL 2027 | K2: ← 目次へ
C4: 月 | D4: 火 | E4: 水 | F4: 木 | G4: 金 | H4: 土 | I4: 日
C5: 46482 | D5: 46483 | E5: 46484 | F5: 46485 | G5: 46486 | H5: 46487 | I5: 46488 | K5: GOAL 今週の目標
C6: =IF(C5="","",IFERROR(INDEX(祝日!$C$5:$C$40,MATCH(C5,祝日!$A$5:$A$40,0)),"")) | D6: =IF(D5="","",IFERROR(INDEX(祝日!$C$5:$C$40,MATCH(D5,祝日!$A$5:$A$40,0)),"")) | E6: =IF(E5="","",IFERROR(INDEX(祝日!$C$5:$C$40,MATCH(E5,祝日!$A$5:$A$40,0)),"")) | F6: =IF(F5="","",IFERROR(INDEX(祝日!$C$5:$C$40,MATCH(F5,祝日!$A$5:$A$40,0)),"")) | G6: =IF(G5="","",IFERROR(INDEX(祝日!$C$5:$C$40,MATCH(G5,祝日!$A$5:$A$40,0)),"")) | H6: =IF(H5="","",IFERROR(INDEX(祝日!$C$5:$C$40,MATCH(H5,祝日!$A$5:$A$40,0)),"")) | I6: =IF(I5="","",IFERROR(INDEX(祝日!$C$5:$C$40,MATCH(I5,祝日!$A$5:$A$40,0)),""))
B7: 終日
B8: 0.25
B9: 0.29166667 | K9: TO DO やること
B10: 0.33333333 | K10: ☐
B11: 0.375 | K11: ☐
B12: 0.41666667 | K12: ☐
B13: 0.45833333 | K13: ☐
B14: 0.5 | K14: ☐
B15: 0.54166667 | K15: ☐
B16: 0.58333333 | K16: ☐
B17: 0.625
B18: 0.66666667 | K18: MEMO メモ
B19: 0.70833333
B20: 0.75
B21: 0.79166667
B22: 0.83333333
B23: 0.875
B24: 0.91666667
B25: 0.95833333

Sheet 第15週
B2: 第15週 | E2: 4/12(月) – 4/18(日) | H2: APRIL 2027 | K2: ← 目次へ
C4: 月 | D4: 火 | E4: 水 | F4: 木 | G4: 金 | H4: 土 | I4: 日
C5: 46489 | D5: 46490 | E5: 46491 | F5: 46492 | G5: 46493 | H5: 46494 | I5: 46495 | K5: GOAL 今週の目標
C6: =IF(C5="","",IFERROR(INDEX(祝日!$C$5:$C$40,MATCH(C5,祝日!$A$5:$A$40,0)),"")) | D6: =IF(D5="","",IFERROR(INDEX(祝日!$C$5:$C$40,MATCH(D5,祝日!$A$5:$A$40,0)),"")) | E6: =IF(E5="","",IFERROR(INDEX(祝日!$C$5:$C$40,MATCH(E5,祝日!$A$5:$A$40,0)),"")) | F6: =IF(F5="","",IFERROR(INDEX(祝日!$C$5:$C$40,MATCH(F5,祝日!$A$5:$A$40,0)),"")) | G6: =IF(G5="","",IFERROR(INDEX(祝日!$C$5:$C$40,MATCH(G5,祝日!$A$5:$A$40,0)),"")) | H6: =IF(H5="","",IFERROR(INDEX(祝日!$C$5:$C$40,MATCH(H5,祝日!$A$5:$A$40,0)),"")) | I6: =IF(I5="","",IFERROR(INDEX(祝日!$C$5:$C$40,MATCH(I5,祝日!$A$5:$A$40,0)),""))
B7: 終日
B8: 0.25
B9: 0.29166667 | K9: TO DO やること
B10: 0.33333333 | K10: ☐
B11: 0.375 | K11: ☐
B12: 0.41666667 | K12: ☐
B13: 0.45833333 | K13: ☐
B14: 0.5 | K14: ☐
B15: 0.54166667 | K15: ☐
B16: 0.58333333 | K16: ☐
B17: 0.625
B18: 0.66666667 | K18: MEMO メモ
B19: 0.70833333
B20: 0.75
B21: 0.79166667
B22: 0.83333333
B23: 0.875
B24: 0.91666667
B25: 0.95833333

Sheet 第16週
B2: 第16週 | E2: 4/19(月) – 4/25(日) | H2: APRIL 2027 | K2: ← 目次へ
C4: 月 | D4: 火 | E4: 水 | F4: 木 | G4: 金 | H4: 土 | I4: 日
C5: 46496 | D5: 46497 | E5: 46498 | F5: 46499 | G5: 46500 | H5: 46501 | I5: 46502 | K5: GOAL 今週の目標
C6: =IF(C5="","",IFERROR(INDEX(祝日!$C$5:$C$40,MATCH(C5,祝日!$A$5:$A$40,0)),"")) | D6: =IF(D5="","",IFERROR(INDEX(祝日!$C$5:$C$40,MATCH(D5,祝日!$A$5:$A$40,0)),"")) | E6: =IF(E5="","",IFERROR(INDEX(祝日!$C$5:$C$40,MATCH(E5,祝日!$A$5:$A$40,0)),"")) | F6: =IF(F5="","",IFERROR(INDEX(祝日!$C$5:$C$40,MATCH(F5,祝日!$A$5:$A$40,0)),"")) | G6: =IF(G5="","",IFERROR(INDEX(祝日!$C$5:$C$40,MATCH(G5,祝日!$A$5:$A$40,0)),"")) | H6: =IF(H5="","",IFERROR(INDEX(祝日!$C$5:$C$40,MATCH(H5,祝日!$A$5:$A$40,0)),"")) | I6: =IF(I5="","",IFERROR(INDEX(祝日!$C$5:$C$40,MATCH(I5,祝日!$A$5:$A$40,0)),""))
B7: 終日
B8: 0.25
B9: 0.29166667 | K9: TO DO やること
B10: 0.33333333 | K10: ☐
B11: 0.375 | K11: ☐
B12: 0.41666667 | K12: ☐
B13: 0.45833333 | K13: ☐
B14: 0.5 | K14: ☐
B15: 0.54166667 | K15: ☐
B16: 0.58333333 | K16: ☐
B17: 0.625
B18: 0.66666667 | K18: MEMO メモ
B19: 0.70833333
B20: 0.75
B21: 0.79166667
B22: 0.83333333
B23: 0.875
B24: 0.91666667
B25: 0.95833333

Sheet 第17週
B2: 第17週 | E2: 4/26(月) – 5/2(日) | H2: MAY 2027 | K2: ← 目次へ
C4: 月 | D4: 火 | E4: 水 | F4: 木 | G4: 金 | H4: 土 | I4: 日
C5: 46503 | D5: 46504 | E5: 46505 | F5: 46506 | G5: 46507 | H5: 46508 | I5: 46509 | K5: GOAL 今週の目標
C6: =IF(C5="","",IFERROR(INDEX(祝日!$C$5:$C$40,MATCH(C5,祝日!$A$5:$A$40,0)),"")) | D6: =IF(D5="","",IFERROR(INDEX(祝日!$C$5:$C$40,MATCH(D5,祝日!$A$5:$A$40,0)),"")) | E6: =IF(E5="","",IFERROR(INDEX(祝日!$C$5:$C$40,MATCH(E5,祝日!$A$5:$A$40,0)),"")) | F6: =IF(F5="","",IFERROR(INDEX(祝日!$C$5:$C$40,MATCH(F5,祝日!$A$5:$A$40,0)),"")) -> 昭和の日 | G6: =IF(G5="","",IFERROR(INDEX(祝日!$C$5:$C$40,MATCH(G5,祝日!$A$5:$A$40,0)),"")) | H6: =IF(H5="","",IFERROR(INDEX(祝日!$C$5:$C$40,MATCH(H5,祝日!$A$5:$A$40,0)),"")) | I6: =IF(I5="","",IFERROR(INDEX(祝日!$C$5:$C$40,MATCH(I5,祝日!$A$5:$A$40,0)),""))
B7: 終日
B8: 0.25
B9: 0.29166667 | K9: TO DO やること
B10: 0.33333333 | K10: ☐
B11: 0.375 | K11: ☐
B12: 0.41666667 | K12: ☐
B13: 0.45833333 | K13: ☐
B14: 0.5 | K14: ☐
B15: 0.54166667 | K15: ☐
B16: 0.58333333 | K16: ☐
B17: 0.625
B18: 0.66666667 | K18: MEMO メモ
B19: 0.70833333
B20: 0.75
B21: 0.79166667
B22: 0.83333333
B23: 0.875
B24: 0.91666667
B25: 0.95833333

Sheet 第18週
B2: 第18週 | E2: 5/3(月) – 5/9(日) | H2: MAY 2027 | K2: ← 目次へ
C4: 月 | D4: 火 | E4: 水 | F4: 木 | G4: 金 | H4: 土 | I4: 日
C5: 46510 | D5: 46511 | E5: 46512 | F5: 46513 | G5: 46514 | H5: 46515 | I5: 46516 | K5: GOAL 今週の目標
C6: =IF(C5="","",IFERROR(INDEX(祝日!$C$5:$C$40,MATCH(C5,祝日!$A$5:$A$40,0)),"")) -> 憲法記念日 | D6: =IF(D5="","",IFERROR(INDEX(祝日!$C$5:$C$40,MATCH(D5,祝日!$A$5:$A$40,0)),"")) -> みどりの日 | E6: =IF(E5="","",IFERROR(INDEX(祝日!$C$5:$C$40,MATCH(E5,祝日!$A$5:$A$40,0)),"")) -> こどもの日 | F6: =IF(F5="","",IFERROR(INDEX(祝日!$C$5:$C$40,MATCH(F5,祝日!$A$5:$A$40,0)),"")) | G6: =IF(G5="","",IFERROR(INDEX(祝日!$C$5:$C$40,MATCH(G5,祝日!$A$5:$A$40,0)),"")) | H6: =IF(H5="","",IFERROR(INDEX(祝日!$C$5:$C$40,MATCH(H5,祝日!$A$5:$A$40,0)),"")) | I6: =IF(I5="","",IFERROR(INDEX(祝日!$C$5:$C$40,MATCH(I5,祝日!$A$5:$A$40,0)),""))
B7: 終日
B8: 0.25
B9: 0.29166667 | K9: TO DO やること
B10: 0.33333333 | K10: ☐
B11: 0.375 | K11: ☐
B12: 0.41666667 | K12: ☐
B13: 0.45833333 | K13: ☐
B14: 0.5 | K14: ☐
B15: 0.54166667 | K15: ☐
B16: 0.58333333 | K16: ☐
B17: 0.625
B18: 0.66666667 | K18: MEMO メモ
B19: 0.70833333
B20: 0.75
B21: 0.79166667
B22: 0.83333333
B23: 0.875
B24: 0.91666667
B25: 0.95833333

Sheet 第19週
B2: 第19週 | E2: 5/10(月) – 5/16(日) | H2: MAY 2027 | K2: ← 目次へ
C4: 月 | D4: 火 | E4: 水 | F4: 木 | G4: 金 | H4: 土 | I4: 日
C5: 46517 | D5: 46518 | E5: 46519 | F5: 46520 | G5: 46521 | H5: 46522 | I5: 46523 | K5: GOAL 今週の目標
C6: =IF(C5="","",IFERROR(INDEX(祝日!$C$5:$C$40,MATCH(C5,祝日!$A$5:$A$40,0)),"")) | D6: =IF(D5="","",IFERROR(INDEX(祝日!$C$5:$C$40,MATCH(D5,祝日!$A$5:$A$40,0)),"")) | E6: =IF(E5="","",IFERROR(INDEX(祝日!$C$5:$C$40,MATCH(E5,祝日!$A$5:$A$40,0)),"")) | F6: =IF(F5="","",IFERROR(INDEX(祝日!$C$5:$C$40,MATCH(F5,祝日!$A$5:$A$40,0)),"")) | G6: =IF(G5="","",IFERROR(INDEX(祝日!$C$5:$C$40,MATCH(G5,祝日!$A$5:$A$40,0)),"")) | H6: =IF(H5="","",IFERROR(INDEX(祝日!$C$5:$C$40,MATCH(H5,祝日!$A$5:$A$40,0)),"")) | I6: =IF(I5="","",IFERROR(INDEX(祝日!$C$5:$C$40,MATCH(I5,祝日!$A$5:$A$40,0)),""))
B7: 終日
B8: 0.25
B9: 0.29166667 | K9: TO DO やること
B10: 0.33333333 | K10: ☐
B11: 0.375 | K11: ☐
B12: 0.41666667 | K12: ☐
B13: 0.45833333 | K13: ☐
B14: 0.5 | K14: ☐
B15: 0.54166667 | K15: ☐
B16: 0.58333333 | K16: ☐
B17: 0.625
B18: 0.66666667 | K18: MEMO メモ
B19: 0.70833333
B20: 0.75
B21: 0.79166667
B22: 0.83333333
B23: 0.875
B24: 0.91666667
B25: 0.95833333

Sheet 第20週
B2: 第20週 | E2: 5/17(月) – 5/23(日) | H2: MAY 2027 | K2: ← 目次へ
C4: 月 | D4: 火 | E4: 水 | F4: 木 | G4: 金 | H4: 土 | I4: 日
C5: 46524 | D5: 46525 | E5: 46526 | F5: 46527 | G5: 46528 | H5: 46529 | I5: 46530 | K5: GOAL 今週の目標
C6: =IF(C5="","",IFERROR(INDEX(祝日!$C$5:$C$40,MATCH(C5,祝日!$A$5:$A$40,0)),"")) | D6: =IF(D5="","",IFERROR(INDEX(祝日!$C$5:$C$40,MATCH(D5,祝日!$A$5:$A$40,0)),"")) | E6: =IF(E5="","",IFERROR(INDEX(祝日!$C$5:$C$40,MATCH(E5,祝日!$A$5:$A$40,0)),"")) | F6: =IF(F5="","",IFERROR(INDEX(祝日!$C$5:$C$40,MATCH(F5,祝日!$A$5:$A$40,0)),"")) | G6: =IF(G5="","",IFERROR(INDEX(祝日!$C$5:$C$40,MATCH(G5,祝日!$A$5:$A$40,0)),"")) | H6: =IF(H5="","",IFERROR(INDEX(祝日!$C$5:$C$40,MATCH(H5,祝日!$A$5:$A$40,0)),"")) | I6: =IF(I5="","",IFERROR(INDEX(祝日!$C$5:$C$40,MATCH(I5,祝日!$A$5:$A$40,0)),""))
B7: 終日
B8: 0.25
B9: 0.29166667 | K9: TO DO やること
B10: 0.33333333 | K10: ☐
B11: 0.375 | K11: ☐
B12: 0.41666667 | K12: ☐
B13: 0.45833333 | K13: ☐
B14: 0.5 | K14: ☐
B15: 0.54166667 | K15: ☐
B16: 0.58333333 | K16: ☐
B17: 0.625
B18: 0.66666667 | K18: MEMO メモ
B19: 0.70833333
B20: 0.75
B21: 0.79166667
B22: 0.83333333
B23: 0.875
B24: 0.91666667
B25: 0.95833333

Sheet 第21週
B2: 第21週 | E2: 5/24(月) – 5/30(日) | H2: MAY 2027 | K2: ← 目次へ
C4: 月 | D4: 火 | E4: 水 | F4: 木 | G4: 金 | H4: 土 | I4: 日
C5: 46531 | D5: 46532 | E5: 46533 | F5: 46534 | G5: 46535 | H5: 46536 | I5: 46537 | K5: GOAL 今週の目標
C6: =IF(C5="","",IFERROR(INDEX(祝日!$C$5:$C$40,MATCH(C5,祝日!$A$5:$A$40,0)),"")) | D6: =IF(D5="","",IFERROR(INDEX(祝日!$C$5:$C$40,MATCH(D5,祝日!$A$5:$A$40,0)),"")) | E6: =IF(E5="","",IFERROR(INDEX(祝日!$C$5:$C$40,MATCH(E5,祝日!$A$5:$A$40,0)),"")) | F6: =IF(F5="","",IFERROR(INDEX(祝日!$C$5:$C$40,MATCH(F5,祝日!$A$5:$A$40,0)),"")) | G6: =IF(G5="","",IFERROR(INDEX(祝日!$C$5:$C$40,MATCH(G5,祝日!$A$5:$A$40,0)),"")) | H6: =IF(H5="","",IFERROR(INDEX(祝日!$C$5:$C$40,MATCH(H5,祝日!$A$5:$A$40,0)),"")) | I6: =IF(I5="","",IFERROR(INDEX(祝日!$C$5:$C$40,MATCH(I5,祝日!$A$5:$A$40,0)),""))
B7: 終日
B8: 0.25
B9: 0.29166667 | K9: TO DO やること
B10: 0.33333333 | K10: ☐
B11: 0.375 | K11: ☐
B12: 0.41666667 | K12: ☐
B13: 0.45833333 | K13: ☐
B14: 0.5 | K14: ☐
B15: 0.54166667 | K15: ☐
B16: 0.58333333 | K16: ☐
B17: 0.625
B18: 0.66666667 | K18: MEMO メモ
B19: 0.70833333
B20: 0.75
B21: 0.79166667
B22: 0.83333333
B23: 0.875
B24: 0.91666667
B25: 0.95833333

Sheet 第22週
B2: 第22週 | E2: 5/31(月) – 6/6(日) | H2: JUNE 2027 | K2: ← 目次へ
C4: 月 | D4: 火 | E4: 水 | F4: 木 | G4: 金 | H4: 土 | I4: 日
C5: 46538 | D5: 46539 | E5: 46540 | F5: 46541 | G5: 46542 | H5: 46543 | I5: 46544 | K5: GOAL 今週の目標
C6: =IF(C5="","",IFERROR(INDEX(祝日!$C$5:$C$40,MATCH(C5,祝日!$A$5:$A$40,0)),"")) | D6: =IF(D5="","",IFERROR(INDEX(祝日!$C$5:$C$40,MATCH(D5,祝日!$A$5:$A$40,0)),"")) | E6: =IF(E5="","",IFERROR(INDEX(祝日!$C$5:$C$40,MATCH(E5,祝日!$A$5:$A$40,0)),"")) | F6: =IF(F5="","",IFERROR(INDEX(祝日!$C$5:$C$40,MATCH(F5,祝日!$A$5:$A$40,0)),"")) | G6: =IF(G5="","",IFERROR(INDEX(祝日!$C$5:$C$40,MATCH(G5,祝日!$A$5:$A$40,0)),"")) | H6: =IF(H5="","",IFERROR(INDEX(祝日!$C$5:$C$40,MATCH(H5,祝日!$A$5:$A$40,0)),"")) | I6: =IF(I5="","",IFERROR(INDEX(祝日!$C$5:$C$40,MATCH(I5,祝日!$A$5:$A$40,0)),""))
B7: 終日
B8: 0.25
B9: 0.29166667 | K9: TO DO やること
B10: 0.33333333 | K10: ☐
B11: 0.375 | K11: ☐
B12: 0.41666667 | K12: ☐
B13: 0.45833333 | K13: ☐
B14: 0.5 | K14: ☐
B15: 0.54166667 | K15: ☐
B16: 0.58333333 | K16: ☐
B17: 0.625
B18: 0.66666667 | K18: MEMO メモ
B19: 0.70833333
B20: 0.75
B21: 0.79166667
B22: 0.83333333
B23: 0.875
B24: 0.91666667
B25: 0.95833333

Sheet 第23週
B2: 第23週 | E2: 6/7(月) – 6/13(日) | H2: JUNE 2027 | K2: ← 目次へ
C4: 月 | D4: 火 | E4: 水 | F4: 木 | G4: 金 | H4: 土 | I4: 日
C5: 46545 | D5: 46546 | E5: 46547 | F5: 46548 | G5: 46549 | H5: 46550 | I5: 46551 | K5: GOAL 今週の目標
C6: =IF(C5="","",IFERROR(INDEX(祝日!$C$5:$C$40,MATCH(C5,祝日!$A$5:$A$40,0)),"")) | D6: =IF(D5="","",IFERROR(INDEX(祝日!$C$5:$C$40,MATCH(D5,祝日!$A$5:$A$40,0)),"")) | E6: =IF(E5="","",IFERROR(INDEX(祝日!$C$5:$C$40,MATCH(E5,祝日!$A$5:$A$40,0)),"")) | F6: =IF(F5="","",IFERROR(INDEX(祝日!$C$5:$C$40,MATCH(F5,祝日!$A$5:$A$40,0)),"")) | G6: =IF(G5="","",IFERROR(INDEX(祝日!$C$5:$C$40,MATCH(G5,祝日!$A$5:$A$40,0)),"")) | H6: =IF(H5="","",IFERROR(INDEX(祝日!$C$5:$C$40,MATCH(H5,祝日!$A$5:$A$40,0)),"")) | I6: =IF(I5="","",IFERROR(INDEX(祝日!$C$5:$C$40,MATCH(I5,祝日!$A$5:$A$40,0)),""))
B7: 終日
B8: 0.25
B9: 0.29166667 | K9: TO DO やること
B10: 0.33333333 | K10: ☐
B11: 0.375 | K11: ☐
B12: 0.41666667 | K12: ☐
B13: 0.45833333 | K13: ☐
B14: 0.5 | K14: ☐
B15: 0.54166667 | K15: ☐
B16: 0.58333333 | K16: ☐
B17: 0.625
B18: 0.66666667 | K18: MEMO メモ
B19: 0.70833333
B20: 0.75
B21: 0.79166667
B22: 0.83333333
B23: 0.875
B24: 0.91666667
B25: 0.95833333

Sheet 第24週
B2: 第24週 | E2: 6/14(月) – 6/20(日) | H2: JUNE 2027 | K2: ← 目次へ
C4: 月 | D4: 火 | E4: 水 | F4: 木 | G4: 金 | H4: 土 | I4: 日
C5: 46552 | D5: 46553 | E5: 46554 | F5: 46555 | G5: 46556 | H5: 46557 | I5: 46558 | K5: GOAL 今週の目標
C6: =IF(C5="","",IFERROR(INDEX(祝日!$C$5:$C$40,MATCH(C5,祝日!$A$5:$A$40,0)),"")) | D6: =IF(D5="","",IFERROR(INDEX(祝日!$C$5:$C$40,MATCH(D5,祝日!$A$5:$A$40,0)),"")) | E6: =IF(E5="","",IFERROR(INDEX(祝日!$C$5:$C$40,MATCH(E5,祝日!$A$5:$A$40,0)),"")) | F6: =IF(F5="","",IFERROR(INDEX(祝日!$C$5:$C$40,MATCH(F5,祝日!$A$5:$A$40,0)),"")) | G6: =IF(G5="","",IFERROR(INDEX(祝日!$C$5:$C$40,MATCH(G5,祝日!$A$5:$A$40,0)),"")) | H6: =IF(H5="","",IFERROR(INDEX(祝日!$C$5:$C$40,MATCH(H5,祝日!$A$5:$A$40,0)),"")) | I6: =IF(I5="","",IFERROR(INDEX(祝日!$C$5:$C$40,MATCH(I5,祝日!$A$5:$A$40,0)),""))
B7: 終日
B8: 0.25
B9: 0.29166667 | K9: TO DO やること
B10: 0.33333333 | K10: ☐
B11: 0.375 | K11: ☐
B12: 0.41666667 | K12: ☐
B13: 0.45833333 | K13: ☐
B14: 0.5 | K14: ☐
B15: 0.54166667 | K15: ☐
B16: 0.58333333 | K16: ☐
B17: 0.625
B18: 0.66666667 | K18: MEMO メモ
B19: 0.70833333
B20: 0.75
B21: 0.79166667
B22: 0.83333333
B23: 0.875
B24: 0.91666667
B25: 0.95833333

Sheet 第25週
B2: 第25週 | E2: 6/21(月) – 6/27(日) | H2: JUNE 2027 | K2: ← 目次へ
C4: 月 | D4: 火 | E4: 水 | F4: 木 | G4: 金 | H4: 土 | I4: 日
C5: 46559 | D5: 46560 | E5: 46561 | F5: 46562 | G5: 46563 | H5: 46564 | I5: 46565 | K5: GOAL 今週の目標
C6: =IF(C5="","",IFERROR(INDEX(祝日!$C$5:$C$40,MATCH(C5,祝日!$A$5:$A$40,0)),"")) | D6: =IF(D5="","",IFERROR(INDEX(祝日!$C$5:$C$40,MATCH(D5,祝日!$A$5:$A$40,0)),"")) | E6: =IF(E5="","",IFERROR(INDEX(祝日!$C$5:$C$40,MATCH(E5,祝日!$A$5:$A$40,0)),"")) | F6: =IF(F5="","",IFERROR(INDEX(祝日!$C$5:$C$40,MATCH(F5,祝日!$A$5:$A$40,0)),"")) | G6: =IF(G5="","",IFERROR(INDEX(祝日!$C$5:$C$40,MATCH(G5,祝日!$A$5:$A$40,0)),"")) | H6: =IF(H5="","",IFERROR(INDEX(祝日!$C$5:$C$40,MATCH(H5,祝日!$A$5:$A$40,0)),"")) | I6: =IF(I5="","",IFERROR(INDEX(祝日!$C$5:$C$40,MATCH(I5,祝日!$A$5:$A$40,0)),""))
B7: 終日
B8: 0.25
B9: 0.29166667 | K9: TO DO やること
B10: 0.33333333 | K10: ☐
B11: 0.375 | K11: ☐
B12: 0.41666667 | K12: ☐
B13: 0.45833333 | K13: ☐
B14: 0.5 | K14: ☐
B15: 0.54166667 | K15: ☐
B16: 0.58333333 | K16: ☐
B17: 0.625
B18: 0.66666667 | K18: MEMO メモ
B19: 0.70833333
B20: 0.75
B21: 0.79166667
B22: 0.83333333
B23: 0.875
B24: 0.91666667
B25: 0.95833333

Sheet 第26週
B2: 第26週 | E2: 6/28(月) – 7/4(日) | H2: JULY 2027 | K2: ← 目次へ
C4: 月 | D4: 火 | E4: 水 | F4: 木 | G4: 金 | H4: 土 | I4: 日
C5: 46566 | D5: 46567 | E5: 46568 | F5: 46569 | G5: 46570 | H5: 46571 | I5: 46572 | K5: GOAL 今週の目標
C6: =IF(C5="","",IFERROR(INDEX(祝日!$C$5:$C$40,MATCH(C5,祝日!$A$5:$A$40,0)),"")) | D6: =IF(D5="","",IFERROR(INDEX(祝日!$C$5:$C$40,MATCH(D5,祝日!$A$5:$A$40,0)),"")) | E6: =IF(E5="","",IFERROR(INDEX(祝日!$C$5:$C$40,MATCH(E5,祝日!$A$5:$A$40,0)),"")) | F6: =IF(F5="","",IFERROR(INDEX(祝日!$C$5:$C$40,MATCH(F5,祝日!$A$5:$A$40,0)),"")) | G6: =IF(G5="","",IFERROR(INDEX(祝日!$C$5:$C$40,MATCH(G5,祝日!$A$5:$A$40,0)),"")) | H6: =IF(H5="","",IFERROR(INDEX(祝日!$C$5:$C$40,MATCH(H5,祝日!$A$5:$A$40,0)),"")) | I6: =IF(I5="","",IFERROR(INDEX(祝日!$C$5:$C$40,MATCH(I5,祝日!$A$5:$A$40,0)),""))
B7: 終日
B8: 0.25
B9: 0.29166667 | K9: TO DO やること
B10: 0.33333333 | K10: ☐
B11: 0.375 | K11: ☐
B12: 0.41666667 | K12: ☐
B13: 0.45833333 | K13: ☐
B14: 0.5 | K14: ☐
B15: 0.54166667 | K15: ☐
B16: 0.58333333 | K16: ☐
B17: 0.625
B18: 0.66666667 | K18: MEMO メモ
B19: 0.70833333
B20: 0.75
B21: 0.79166667
B22: 0.83333333
B23: 0.875
B24: 0.91666667
B25: 0.95833333

Sheet 第27週
B2: 第27週 | E2: 7/5(月) – 7/11(日) | H2: JULY 2027 | K2: ← 目次へ
C4: 月 | D4: 火 | E4: 水 | F4: 木 | G4: 金 | H4: 土 | I4: 日
C5: 46573 | D5: 46574 | E5: 46575 | F5: 46576 | G5: 46577 | H5: 46578 | I5: 46579 | K5: GOAL 今週の目標
C6: =IF(C5="","",IFERROR(INDEX(祝日!$C$5:$C$40,MATCH(C5,祝日!$A$5:$A$40,0)),"")) | D6: =IF(D5="","",IFERROR(INDEX(祝日!$C$5:$C$40,MATCH(D5,祝日!$A$5:$A$40,0)),"")) | E6: =IF(E5="","",IFERROR(INDEX(祝日!$C$5:$C$40,MATCH(E5,祝日!$A$5:$A$40,0)),"")) | F6: =IF(F5="","",IFERROR(INDEX(祝日!$C$5:$C$40,MATCH(F5,祝日!$A$5:$A$40,0)),"")) | G6: =IF(G5="","",IFERROR(INDEX(祝日!$C$5:$C$40,MATCH(G5,祝日!$A$5:$A$40,0)),"")) | H6: =IF(H5="","",IFERROR(INDEX(祝日!$C$5:$C$40,MATCH(H5,祝日!$A$5:$A$40,0)),"")) | I6: =IF(I5="","",IFERROR(INDEX(祝日!$C$5:$C$40,MATCH(I5,祝日!$A$5:$A$40,0)),""))
B7: 終日
B8: 0.25
B9: 0.29166667 | K9: TO DO やること
B10: 0.33333333 | K10: ☐
B11: 0.375 | K11: ☐
B12: 0.41666667 | K12: ☐
B13: 0.45833333 | K13: ☐
B14: 0.5 | K14: ☐
B15: 0.54166667 | K15: ☐
B16: 0.58333333 | K16: ☐
B17: 0.625
B18: 0.66666667 | K18: MEMO メモ
B19: 0.70833333
B20: 0.75
B21: 0.79166667
B22: 0.83333333
B23: 0.875
B24: 0.91666667
B25: 0.95833333

Sheet 第28週
B2: 第28週 | E2: 7/12(月) – 7/18(日) | H2: JULY 2027 | K2: ← 目次へ
C4: 月 | D4: 火 | E4: 水 | F4: 木 | G4: 金 | H4: 土 | I4: 日
C5: 46580 | D5: 46581 | E5: 46582 | F5: 46583 | G5: 46584 | H5: 46585 | I5: 46586 | K5: GOAL 今週の目標
C6: =IF(C5="","",IFERROR(INDEX(祝日!$C$5:$C$40,MATCH(C5,祝日!$A$5:$A$40,0)),"")) | D6: =IF(D5="","",IFERROR(INDEX(祝日!$C$5:$C$40,MATCH(D5,祝日!$A$5:$A$40,0)),"")) | E6: =IF(E5="","",IFERROR(INDEX(祝日!$C$5:$C$40,MATCH(E5,祝日!$A$5:$A$40,0)),"")) | F6: =IF(F5="","",IFERROR(INDEX(祝日!$C$5:$C$40,MATCH(F5,祝日!$A$5:$A$40,0)),"")) | G6: =IF(G5="","",IFERROR(INDEX(祝日!$C$5:$C$40,MATCH(G5,祝日!$A$5:$A$40,0)),"")) | H6: =IF(H5="","",IFERROR(INDEX(祝日!$C$5:$C$40,MATCH(H5,祝日!$A$5:$A$40,0)),"")) | I6: =IF(I5="","",IFERROR(INDEX(祝日!$C$5:$C$40,MATCH(I5,祝日!$A$5:$A$40,0)),""))
B7: 終日
B8: 0.25
B9: 0.29166667 | K9: TO DO やること
B10: 0.33333333 | K10: ☐
B11: 0.375 | K11: ☐
B12: 0.41666667 | K12: ☐
B13: 0.45833333 | K13: ☐
B14: 0.5 | K14: ☐
B15: 0.54166667 | K15: ☐
B16: 0.58333333 | K16: ☐
B17: 0.625
B18: 0.66666667 | K18: MEMO メモ
B19: 0.70833333
B20: 0.75
B21: 0.79166667
B22: 0.83333333
B23: 0.875
B24: 0.91666667
B25: 0.95833333

Sheet 第29週
B2: 第29週 | E2: 7/19(月) – 7/25(日) | H2: JULY 2027 | K2: ← 目次へ
C4: 月 | D4: 火 | E4: 水 | F4: 木 | G4: 金 | H4: 土 | I4: 日
C5: 46587 | D5: 46588 | E5: 46589 | F5: 46590 | G5: 46591 | H5: 46592 | I5: 46593 | K5: GOAL 今週の目標
C6: =IF(C5="","",IFERROR(INDEX(祝日!$C$5:$C$40,MATCH(C5,祝日!$A$5:$A$40,0)),"")) -> 海の日 | D6: =IF(D5="","",IFERROR(INDEX(祝日!$C$5:$C$40,MATCH(D5,祝日!$A$5:$A$40,0)),"")) | E6: =IF(E5="","",IFERROR(INDEX(祝日!$C$5:$C$40,MATCH(E5,祝日!$A$5:$A$40,0)),"")) | F6: =IF(F5="","",IFERROR(INDEX(祝日!$C$5:$C$40,MATCH(F5,祝日!$A$5:$A$40,0)),"")) | G6: =IF(G5="","",IFERROR(INDEX(祝日!$C$5:$C$40,MATCH(G5,祝日!$A$5:$A$40,0)),"")) | H6: =IF(H5="","",IFERROR(INDEX(祝日!$C$5:$C$40,MATCH(H5,祝日!$A$5:$A$40,0)),"")) | I6: =IF(I5="","",IFERROR(INDEX(祝日!$C$5:$C$40,MATCH(I5,祝日!$A$5:$A$40,0)),""))
B7: 終日
B8: 0.25
B9: 0.29166667 | K9: TO DO やること
B10: 0.33333333 | K10: ☐
B11: 0.375 | K11: ☐
B12: 0.41666667 | K12: ☐
B13: 0.45833333 | K13: ☐
B14: 0.5 | K14: ☐
B15: 0.54166667 | K15: ☐
B16: 0.58333333 | K16: ☐
B17: 0.625
B18: 0.66666667 | K18: MEMO メモ
B19: 0.70833333
B20: 0.75
B21: 0.79166667
B22: 0.83333333
B23: 0.875
B24: 0.91666667
B25: 0.95833333

Sheet 第30週
B2: 第30週 | E2: 7/26(月) – 8/1(日) | H2: AUGUST 2027 | K2: ← 目次へ
C4: 月 | D4: 火 | E4: 水 | F4: 木 | G4: 金 | H4: 土 | I4: 日
C5: 46594 | D5: 46595 | E5: 46596 | F5: 46597 | G5: 46598 | H5: 46599 | I5: 46600 | K5: GOAL 今週の目標
C6: =IF(C5="","",IFERROR(INDEX(祝日!$C$5:$C$40,MATCH(C5,祝日!$A$5:$A$40,0)),"")) | D6: =IF(D5="","",IFERROR(INDEX(祝日!$C$5:$C$40,MATCH(D5,祝日!$A$5:$A$40,0)),"")) | E6: =IF(E5="","",IFERROR(INDEX(祝日!$C$5:$C$40,MATCH(E5,祝日!$A$5:$A$40,0)),"")) | F6: =IF(F5="","",IFERROR(INDEX(祝日!$C$5:$C$40,MATCH(F5,祝日!$A$5:$A$40,0)),"")) | G6: =IF(G5="","",IFERROR(INDEX(祝日!$C$5:$C$40,MATCH(G5,祝日!$A$5:$A$40,0)),"")) | H6: =IF(H5="","",IFERROR(INDEX(祝日!$C$5:$C$40,MATCH(H5,祝日!$A$5:$A$40,0)),"")) | I6: =IF(I5="","",IFERROR(INDEX(祝日!$C$5:$C$40,MATCH(I5,祝日!$A$5:$A$40,0)),""))
B7: 終日
B8: 0.25
B9: 0.29166667 | K9: TO DO やること
B10: 0.33333333 | K10: ☐
B11: 0.375 | K11: ☐
B12: 0.41666667 | K12: ☐
B13: 0.45833333 | K13: ☐
B14: 0.5 | K14: ☐
B15: 0.54166667 | K15: ☐
B16: 0.58333333 | K16: ☐
B17: 0.625
B18: 0.66666667 | K18: MEMO メモ
B19: 0.70833333
B20: 0.75
B21: 0.79166667
B22: 0.83333333
B23: 0.875
B24: 0.91666667
B25: 0.95833333

Sheet 第31週
B2: 第31週 | E2: 8/2(月) – 8/8(日) | H2: AUGUST 2027 | K2: ← 目次へ
C4: 月 | D4: 火 | E4: 水 | F4: 木 | G4: 金 | H4: 土 | I4: 日
C5: 46601 | D5: 46602 | E5: 46603 | F5: 46604 | G5: 46605 | H5: 46606 | I5: 46607 | K5: GOAL 今週の目標
C6: =IF(C5="","",IFERROR(INDEX(祝日!$C$5:$C$40,MATCH(C5,祝日!$A$5:$A$40,0)),"")) | D6: =IF(D5="","",IFERROR(INDEX(祝日!$C$5:$C$40,MATCH(D5,祝日!$A$5:$A$40,0)),"")) | E6: =IF(E5="","",IFERROR(INDEX(祝日!$C$5:$C$40,MATCH(E5,祝日!$A$5:$A$40,0)),"")) | F6: =IF(F5="","",IFERROR(INDEX(祝日!$C$5:$C$40,MATCH(F5,祝日!$A$5:$A$40,0)),"")) | G6: =IF(G5="","",IFERROR(INDEX(祝日!$C$5:$C$40,MATCH(G5,祝日!$A$5:$A$40,0)),"")) | H6: =IF(H5="","",IFERROR(INDEX(祝日!$C$5:$C$40,MATCH(H5,祝日!$A$5:$A$40,0)),"")) | I6: =IF(I5="","",IFERROR(INDEX(祝日!$C$5:$C$40,MATCH(I5,祝日!$A$5:$A$40,0)),""))
B7: 終日
B8: 0.25
B9: 0.29166667 | K9: TO DO やること
B10: 0.33333333 | K10: ☐
B11: 0.375 | K11: ☐
B12: 0.41666667 | K12: ☐
B13: 0.45833333 | K13: ☐
B14: 0.5 | K14: ☐
B15: 0.54166667 | K15: ☐
B16: 0.58333333 | K16: ☐
B17: 0.625
B18: 0.66666667 | K18: MEMO メモ
B19: 0.70833333
B20: 0.75
B21: 0.79166667
B22: 0.83333333
B23: 0.875
B24: 0.91666667
B25: 0.95833333

Sheet 第32週
B2: 第32週 | E2: 8/9(月) – 8/15(日) | H2: AUGUST 2027 | K2: ← 目次へ
C4: 月 | D4: 火 | E4: 水 | F4: 木 | G4: 金 | H4: 土 | I4: 日
C5: 46608 | D5: 46609 | E5: 46610 | F5: 46611 | G5: 46612 | H5: 46613 | I5: 46614 | K5: GOAL 今週の目標
C6: =IF(C5="","",IFERROR(INDEX(祝日!$C$5:$C$40,MATCH(C5,祝日!$A$5:$A$40,0)),"")) | D6: =IF(D5="","",IFERROR(INDEX(祝日!$C$5:$C$40,MATCH(D5,祝日!$A$5:$A$40,0)),"")) | E6: =IF(E5="","",IFERROR(INDEX(祝日!$C$5:$C$40,MATCH(E5,祝日!$A$5:$A$40,0)),"")) -> 山の日 | F6: =IF(F5="","",IFERROR(INDEX(祝日!$C$5:$C$40,MATCH(F5,祝日!$A$5:$A$40,0)),"")) | G6: =IF(G5="","",IFERROR(INDEX(祝日!$C$5:$C$40,MATCH(G5,祝日!$A$5:$A$40,0)),"")) | H6: =IF(H5="","",IFERROR(INDEX(祝日!$C$5:$C$40,MATCH(H5,祝日!$A$5:$A$40,0)),"")) | I6: =IF(I5="","",IFERROR(INDEX(祝日!$C$5:$C$40,MATCH(I5,祝日!$A$5:$A$40,0)),""))
B7: 終日
B8: 0.25
B9: 0.29166667 | K9: TO DO やること
B10: 0.33333333 | K10: ☐
B11: 0.375 | K11: ☐
B12: 0.41666667 | K12: ☐
B13: 0.45833333 | K13: ☐
B14: 0.5 | K14: ☐
B15: 0.54166667 | K15: ☐
B16: 0.58333333 | K16: ☐
B17: 0.625
B18: 0.66666667 | K18: MEMO メモ
B19: 0.70833333
B20: 0.75
B21: 0.79166667
B22: 0.83333333
B23: 0.875
B24: 0.91666667
B25: 0.95833333

Sheet 第33週
B2: 第33週 | E2: 8/16(月) – 8/22(日) | H2: AUGUST 2027 | K2: ← 目次へ
C4: 月 | D4: 火 | E4: 水 | F4: 木 | G4: 金 | H4: 土 | I4: 日
C5: 46615 | D5: 46616 | E5: 46617 | F5: 46618 | G5: 46619 | H5: 46620 | I5: 46621 | K5: GOAL 今週の目標
C6: =IF(C5="","",IFERROR(INDEX(祝日!$C$5:$C$40,MATCH(C5,祝日!$A$5:$A$40,0)),"")) | D6: =IF(D5="","",IFERROR(INDEX(祝日!$C$5:$C$40,MATCH(D5,祝日!$A$5:$A$40,0)),"")) | E6: =IF(E5="","",IFERROR(INDEX(祝日!$C$5:$C$40,MATCH(E5,祝日!$A$5:$A$40,0)),"")) | F6: =IF(F5="","",IFERROR(INDEX(祝日!$C$5:$C$40,MATCH(F5,祝日!$A$5:$A$40,0)),"")) | G6: =IF(G5="","",IFERROR(INDEX(祝日!$C$5:$C$40,MATCH(G5,祝日!$A$5:$A$40,0)),"")) | H6: =IF(H5="","",IFERROR(INDEX(祝日!$C$5:$C$40,MATCH(H5,祝日!$A$5:$A$40,0)),"")) | I6: =IF(I5="","",IFERROR(INDEX(祝日!$C$5:$C$40,MATCH(I5,祝日!$A$5:$A$40,0)),""))
B7: 終日
B8: 0.25
B9: 0.29166667 | K9: TO DO やること
B10: 0.33333333 | K10: ☐
B11: 0.375 | K11: ☐
B12: 0.41666667 | K12: ☐
B13: 0.45833333 | K13: ☐
B14: 0.5 | K14: ☐
B15: 0.54166667 | K15: ☐
B16: 0.58333333 | K16: ☐
B17: 0.625
B18: 0.66666667 | K18: MEMO メモ
B19: 0.70833333
B20: 0.75
B21: 0.79166667
B22: 0.83333333
B23: 0.875
B24: 0.91666667
B25: 0.95833333

Sheet 第34週
B2: 第34週 | E2: 8/23(月) – 8/29(日) | H2: AUGUST 2027 | K2: ← 目次へ
C4: 月 | D4: 火 | E4: 水 | F4: 木 | G4: 金 | H4: 土 | I4: 日
C5: 46622 | D5: 46623 | E5: 46624 | F5: 46625 | G5: 46626 | H5: 46627 | I5: 46628 | K5: GOAL 今週の目標
C6: =IF(C5="","",IFERROR(INDEX(祝日!$C$5:$C$40,MATCH(C5,祝日!$A$5:$A$40,0)),"")) | D6: =IF(D5="","",IFERROR(INDEX(祝日!$C$5:$C$40,MATCH(D5,祝日!$A$5:$A$40,0)),"")) | E6: =IF(E5="","",IFERROR(INDEX(祝日!$C$5:$C$40,MATCH(E5,祝日!$A$5:$A$40,0)),"")) | F6: =IF(F5="","",IFERROR(INDEX(祝日!$C$5:$C$40,MATCH(F5,祝日!$A$5:$A$40,0)),"")) | G6: =IF(G5="","",IFERROR(INDEX(祝日!$C$5:$C$40,MATCH(G5,祝日!$A$5:$A$40,0)),"")) | H6: =IF(H5="","",IFERROR(INDEX(祝日!$C$5:$C$40,MATCH(H5,祝日!$A$5:$A$40,0)),"")) | I6: =IF(I5="","",IFERROR(INDEX(祝日!$C$5:$C$40,MATCH(I5,祝日!$A$5:$A$40,0)),""))
B7: 終日
B8: 0.25
B9: 0.29166667 | K9: TO DO やること
B10: 0.33333333 | K10: ☐
B11: 0.375 | K11: ☐
B12: 0.41666667 | K12: ☐
B13: 0.45833333 | K13: ☐
B14: 0.5 | K14: ☐
B15: 0.54166667 | K15: ☐
B16: 0.58333333 | K16: ☐
B17: 0.625
B18: 0.66666667 | K18: MEMO メモ
B19: 0.70833333
B20: 0.75
B21: 0.79166667
B22: 0.83333333
B23: 0.875
B24: 0.91666667
B25: 0.95833333

Sheet 第35週
B2: 第35週 | E2: 8/30(月) – 9/5(日) | H2: SEPTEMBER 2027 | K2: ← 目次へ
C4: 月 | D4: 火 | E4: 水 | F4: 木 | G4: 金 | H4: 土 | I4: 日
C5: 46629 | D5: 46630 | E5: 46631 | F5: 46632 | G5: 46633 | H5: 46634 | I5: 46635 | K5: GOAL 今週の目標
C6: =IF(C5="","",IFERROR(INDEX(祝日!$C$5:$C$40,MATCH(C5,祝日!$A$5:$A$40,0)),"")) | D6: =IF(D5="","",IFERROR(INDEX(祝日!$C$5:$C$40,MATCH(D5,祝日!$A$5:$A$40,0)),"")) | E6: =IF(E5="","",IFERROR(INDEX(祝日!$C$5:$C$40,MATCH(E5,祝日!$A$5:$A$40,0)),"")) | F6: =IF(F5="","",IFERROR(INDEX(祝日!$C$5:$C$40,MATCH(F5,祝日!$A$5:$A$40,0)),"")) | G6: =IF(G5="","",IFERROR(INDEX(祝日!$C$5:$C$40,MATCH(G5,祝日!$A$5:$A$40,0)),"")) | H6: =IF(H5="","",IFERROR(INDEX(祝日!$C$5:$C$40,MATCH(H5,祝日!$A$5:$A$40,0)),"")) | I6: =IF(I5="","",IFERROR(INDEX(祝日!$C$5:$C$40,MATCH(I5,祝日!$A$5:$A$40,0)),""))
B7: 終日
B8: 0.25
B9: 0.29166667 | K9: TO DO やること
B10: 0.33333333 | K10: ☐
B11: 0.375 | K11: ☐
B12: 0.41666667 | K12: ☐
B13: 0.45833333 | K13: ☐
B14: 0.5 | K14: ☐
B15: 0.54166667 | K15: ☐
B16: 0.58333333 | K16: ☐
B17: 0.625
B18: 0.66666667 | K18: MEMO メモ
B19: 0.70833333
B20: 0.75
B21: 0.79166667
B22: 0.83333333
B23: 0.875
B24: 0.91666667
B25: 0.95833333

Sheet 第36週
B2: 第36週 | E2: 9/6(月) – 9/12(日) | H2: SEPTEMBER 2027 | K2: ← 目次へ
C4: 月 | D4: 火 | E4: 水 | F4: 木 | G4: 金 | H4: 土 | I4: 日
C5: 46636 | D5: 46637 | E5: 46638 | F5: 46639 | G5: 46640 | H5: 46641 | I5: 46642 | K5: GOAL 今週の目標
C6: =IF(C5="","",IFERROR(INDEX(祝日!$C$5:$C$40,MATCH(C5,祝日!$A$5:$A$40,0)),"")) | D6: =IF(D5="","",IFERROR(INDEX(祝日!$C$5:$C$40,MATCH(D5,祝日!$A$5:$A$40,0)),"")) | E6: =IF(E5="","",IFERROR(INDEX(祝日!$C$5:$C$40,MATCH(E5,祝日!$A$5:$A$40,0)),"")) | F6: =IF(F5="","",IFERROR(INDEX(祝日!$C$5:$C$40,MATCH(F5,祝日!$A$5:$A$40,0)),"")) | G6: =IF(G5="","",IFERROR(INDEX(祝日!$C$5:$C$40,MATCH(G5,祝日!$A$5:$A$40,0)),"")) | H6: =IF(H5="","",IFERROR(INDEX(祝日!$C$5:$C$40,MATCH(H5,祝日!$A$5:$A$40,0)),"")) | I6: =IF(I5="","",IFERROR(INDEX(祝日!$C$5:$C$40,MATCH(I5,祝日!$A$5:$A$40,0)),""))
B7: 終日
B8: 0.25
B9: 0.29166667 | K9: TO DO やること
B10: 0.33333333 | K10: ☐
B11: 0.375 | K11: ☐
B12: 0.41666667 | K12: ☐
B13: 0.45833333 | K13: ☐
B14: 0.5 | K14: ☐
B15: 0.54166667 | K15: ☐
B16: 0.58333333 | K16: ☐
B17: 0.625
B18: 0.66666667 | K18: MEMO メモ
B19: 0.70833333
B20: 0.75
B21: 0.79166667
B22: 0.83333333
B23: 0.875
B24: 0.91666667
B25: 0.95833333

Sheet 第37週
B2: 第37週 | E2: 9/13(月) – 9/19(日) | H2: SEPTEMBER 2027 | K2: ← 目次へ
C4: 月 | D4: 火 | E4: 水 | F4: 木 | G4: 金 | H4: 土 | I4: 日
C5: 46643 | D5: 46644 | E5: 46645 | F5: 46646 | G5: 46647 | H5: 46648 | I5: 46649 | K5: GOAL 今週の目標
C6: =IF(C5="","",IFERROR(INDEX(祝日!$C$5:$C$40,MATCH(C5,祝日!$A$5:$A$40,0)),"")) | D6: =IF(D5="","",IFERROR(INDEX(祝日!$C$5:$C$40,MATCH(D5,祝日!$A$5:$A$40,0)),"")) | E6: =IF(E5="","",IFERROR(INDEX(祝日!$C$5:$C$40,MATCH(E5,祝日!$A$5:$A$40,0)),"")) | F6: =IF(F5="","",IFERROR(INDEX(祝日!$C$5:$C$40,MATCH(F5,祝日!$A$5:$A$40,0)),"")) | G6: =IF(G5="","",IFERROR(INDEX(祝日!$C$5:$C$40,MATCH(G5,祝日!$A$5:$A$40,0)),"")) | H6: =IF(H5="","",IFERROR(INDEX(祝日!$C$5:$C$40,MATCH(H5,祝日!$A$5:$A$40,0)),"")) | I6: =IF(I5="","",IFERROR(INDEX(祝日!$C$5:$C$40,MATCH(I5,祝日!$A$5:$A$40,0)),""))
B7: 終日
B8: 0.25
B9: 0.29166667 | K9: TO DO やること
B10: 0.33333333 | K10: ☐
B11: 0.375 | K11: ☐
B12: 0.41666667 | K12: ☐
B13: 0.45833333 | K13: ☐
B14: 0.5 | K14: ☐
B15: 0.54166667 | K15: ☐
B16: 0.58333333 | K16: ☐
B17: 0.625
B18: 0.66666667 | K18: MEMO メモ
B19: 0.70833333
B20: 0.75
B21: 0.79166667
B22: 0.83333333
B23: 0.875
B24: 0.91666667
B25: 0.95833333

Sheet 第38週
B2: 第38週 | E2: 9/20(月) – 9/26(日) | H2: SEPTEMBER 2027 | K2: ← 目次へ
C4: 月 | D4: 火 | E4: 水 | F4: 木 | G4: 金 | H4: 土 | I4: 日
C5: 46650 | D5: 46651 | E5: 46652 | F5: 46653 | G5: 46654 | H5: 46655 | I5: 46656 | K5: GOAL 今週の目標
C6: =IF(C5="","",IFERROR(INDEX(祝日!$C$5:$C$40,MATCH(C5,祝日!$A$5:$A$40,0)),"")) -> 敬老の日 | D6: =IF(D5="","",IFERROR(INDEX(祝日!$C$5:$C$40,MATCH(D5,祝日!$A$5:$A$40,0)),"")) | E6: =IF(E5="","",IFERROR(INDEX(祝日!$C$5:$C$40,MATCH(E5,祝日!$A$5:$A$40,0)),"")) | F6: =IF(F5="","",IFERROR(INDEX(祝日!$C$5:$C$40,MATCH(F5,祝日!$A$5:$A$40,0)),"")) -> 秋分の日 | G6: =IF(G5="","",IFERROR(INDEX(祝日!$C$5:$C$40,MATCH(G5,祝日!$A$5:$A$40,0)),"")) | H6: =IF(H5="","",IFERROR(INDEX(祝日!$C$5:$C$40,MATCH(H5,祝日!$A$5:$A$40,0)),"")) | I6: =IF(I5="","",IFERROR(INDEX(祝日!$C$5:$C$40,MATCH(I5,祝日!$A$5:$A$40,0)),""))
B7: 終日
B8: 0.25
B9: 0.29166667 | K9: TO DO やること
B10: 0.33333333 | K10: ☐
B11: 0.375 | K11: ☐
B12: 0.41666667 | K12: ☐
B13: 0.45833333 | K13: ☐
B14: 0.5 | K14: ☐
B15: 0.54166667 | K15: ☐
B16: 0.58333333 | K16: ☐
B17: 0.625
B18: 0.66666667 | K18: MEMO メモ
B19: 0.70833333
B20: 0.75
B21: 0.79166667
B22: 0.83333333
B23: 0.875
B24: 0.91666667
B25: 0.95833333

Sheet 第39週
B2: 第39週 | E2: 9/27(月) – 10/3(日) | H2: OCTOBER 2027 | K2: ← 目次へ
C4: 月 | D4: 火 | E4: 水 | F4: 木 | G4: 金 | H4: 土 | I4: 日
C5: 46657 | D5: 46658 | E5: 46659 | F5: 46660 | G5: 46661 | H5: 46662 | I5: 46663 | K5: GOAL 今週の目標
C6: =IF(C5="","",IFERROR(INDEX(祝日!$C$5:$C$40,MATCH(C5,祝日!$A$5:$A$40,0)),"")) | D6: =IF(D5="","",IFERROR(INDEX(祝日!$C$5:$C$40,MATCH(D5,祝日!$A$5:$A$40,0)),"")) | E6: =IF(E5="","",IFERROR(INDEX(祝日!$C$5:$C$40,MATCH(E5,祝日!$A$5:$A$40,0)),"")) | F6: =IF(F5="","",IFERROR(INDEX(祝日!$C$5:$C$40,MATCH(F5,祝日!$A$5:$A$40,0)),"")) | G6: =IF(G5="","",IFERROR(INDEX(祝日!$C$5:$C$40,MATCH(G5,祝日!$A$5:$A$40,0)),"")) | H6: =IF(H5="","",IFERROR(INDEX(祝日!$C$5:$C$40,MATCH(H5,祝日!$A$5:$A$40,0)),"")) | I6: =IF(I5="","",IFERROR(INDEX(祝日!$C$5:$C$40,MATCH(I5,祝日!$A$5:$A$40,0)),""))
B7: 終日
B8: 0.25
B9: 0.29166667 | K9: TO DO やること
B10: 0.33333333 | K10: ☐
B11: 0.375 | K11: ☐
B12: 0.41666667 | K12: ☐
B13: 0.45833333 | K13: ☐
B14: 0.5 | K14: ☐
B15: 0.54166667 | K15: ☐
B16: 0.58333333 | K16: ☐
B17: 0.625
B18: 0.66666667 | K18: MEMO メモ
B19: 0.70833333
B20: 0.75
B21: 0.79166667
B22: 0.83333333
B23: 0.875
B24: 0.91666667
B25: 0.95833333

Sheet 第40週
B2: 第40週 | E2: 10/4(月) – 10/10(日) | H2: OCTOBER 2027 | K2: ← 目次へ
C4: 月 | D4: 火 | E4: 水 | F4: 木 | G4: 金 | H4: 土 | I4: 日
C5: 46664 | D5: 46665 | E5: 46666 | F5: 46667 | G5: 46668 | H5: 46669 | I5: 46670 | K5: GOAL 今週の目標
C6: =IF(C5="","",IFERROR(INDEX(祝日!$C$5:$C$40,MATCH(C5,祝日!$A$5:$A$40,0)),"")) | D6: =IF(D5="","",IFERROR(INDEX(祝日!$C$5:$C$40,MATCH(D5,祝日!$A$5:$A$40,0)),"")) | E6: =IF(E5="","",IFERROR(INDEX(祝日!$C$5:$C$40,MATCH(E5,祝日!$A$5:$A$40,0)),"")) | F6: =IF(F5="","",IFERROR(INDEX(祝日!$C$5:$C$40,MATCH(F5,祝日!$A$5:$A$40,0)),"")) | G6: =IF(G5="","",IFERROR(INDEX(祝日!$C$5:$C$40,MATCH(G5,祝日!$A$5:$A$40,0)),"")) | H6: =IF(H5="","",IFERROR(INDEX(祝日!$C$5:$C$40,MATCH(H5,祝日!$A$5:$A$40,0)),"")) | I6: =IF(I5="","",IFERROR(INDEX(祝日!$C$5:$C$40,MATCH(I5,祝日!$A$5:$A$40,0)),""))
B7: 終日
B8: 0.25
B9: 0.29166667 | K9: TO DO やること
B10: 0.33333333 | K10: ☐
B11: 0.375 | K11: ☐
B12: 0.41666667 | K12: ☐
B13: 0.45833333 | K13: ☐
B14: 0.5 | K14: ☐
B15: 0.54166667 | K15: ☐
B16: 0.58333333 | K16: ☐
B17: 0.625
B18: 0.66666667 | K18: MEMO メモ
B19: 0.70833333
B20: 0.75
B21: 0.79166667
B22: 0.83333333
B23: 0.875
B24: 0.91666667
B25: 0.95833333

Sheet 第41週
B2: 第41週 | E2: 10/11(月) – 10/17(日) | H2: OCTOBER 2027 | K2: ← 目次へ
C4: 月 | D4: 火 | E4: 水 | F4: 木 | G4: 金 | H4: 土 | I4: 日
C5: 46671 | D5: 46672 | E5: 46673 | F5: 46674 | G5: 46675 | H5: 46676 | I5: 46677 | K5: GOAL 今週の目標
C6: =IF(C5="","",IFERROR(INDEX(祝日!$C$5:$C$40,MATCH(C5,祝日!$A$5:$A$40,0)),"")) -> スポーツの日 | D6: =IF(D5="","",IFERROR(INDEX(祝日!$C$5:$C$40,MATCH(D5,祝日!$A$5:$A$40,0)),"")) | E6: =IF(E5="","",IFERROR(INDEX(祝日!$C$5:$C$40,MATCH(E5,祝日!$A$5:$A$40,0)),"")) | F6: =IF(F5="","",IFERROR(INDEX(祝日!$C$5:$C$40,MATCH(F5,祝日!$A$5:$A$40,0)),"")) | G6: =IF(G5="","",IFERROR(INDEX(祝日!$C$5:$C$40,MATCH(G5,祝日!$A$5:$A$40,0)),"")) | H6: =IF(H5="","",IFERROR(INDEX(祝日!$C$5:$C$40,MATCH(H5,祝日!$A$5:$A$40,0)),"")) | I6: =IF(I5="","",IFERROR(INDEX(祝日!$C$5:$C$40,MATCH(I5,祝日!$A$5:$A$40,0)),""))
B7: 終日
B8: 0.25
B9: 0.29166667 | K9: TO DO やること
B10: 0.33333333 | K10: ☐
B11: 0.375 | K11: ☐
B12: 0.41666667 | K12: ☐
B13: 0.45833333 | K13: ☐
B14: 0.5 | K14: ☐
B15: 0.54166667 | K15: ☐
B16: 0.58333333 | K16: ☐
B17: 0.625
B18: 0.66666667 | K18: MEMO メモ
B19: 0.70833333
B20: 0.75
B21: 0.79166667
B22: 0.83333333
B23: 0.875
B24: 0.91666667
B25: 0.95833333

Sheet 第42週
B2: 第42週 | E2: 10/18(月) – 10/24(日) | H2: OCTOBER 2027 | K2: ← 目次へ
C4: 月 | D4: 火 | E4: 水 | F4: 木 | G4: 金 | H4: 土 | I4: 日
C5: 46678 | D5: 46679 | E5: 46680 | F5: 46681 | G5: 46682 | H5: 46683 | I5: 46684 | K5: GOAL 今週の目標
C6: =IF(C5="","",IFERROR(INDEX(祝日!$C$5:$C$40,MATCH(C5,祝日!$A$5:$A$40,0)),"")) | D6: =IF(D5="","",IFERROR(INDEX(祝日!$C$5:$C$40,MATCH(D5,祝日!$A$5:$A$40,0)),"")) | E6: =IF(E5="","",IFERROR(INDEX(祝日!$C$5:$C$40,MATCH(E5,祝日!$A$5:$A$40,0)),"")) | F6: =IF(F5="","",IFERROR(INDEX(祝日!$C$5:$C$40,MATCH(F5,祝日!$A$5:$A$40,0)),"")) | G6: =IF(G5="","",IFERROR(INDEX(祝日!$C$5:$C$40,MATCH(G5,祝日!$A$5:$A$40,0)),"")) | H6: =IF(H5="","",IFERROR(INDEX(祝日!$C$5:$C$40,MATCH(H5,祝日!$A$5:$A$40,0)),"")) | I6: =IF(I5="","",IFERROR(INDEX(祝日!$C$5:$C$40,MATCH(I5,祝日!$A$5:$A$40,0)),""))
B7: 終日
B8: 0.25
B9: 0.29166667 | K9: TO DO やること
B10: 0.33333333 | K10: ☐
B11: 0.375 | K11: ☐
B12: 0.41666667 | K12: ☐
B13: 0.45833333 | K13: ☐
B14: 0.5 | K14: ☐
B15: 0.54166667 | K15: ☐
B16: 0.58333333 | K16: ☐
B17: 0.625
B18: 0.66666667 | K18: MEMO メモ
B19: 0.70833333
B20: 0.75
B21: 0.79166667
B22: 0.83333333
B23: 0.875
B24: 0.91666667
B25: 0.95833333

Sheet 第43週
B2: 第43週 | E2: 10/25(月) – 10/31(日) | H2: OCTOBER 2027 | K2: ← 目次へ
C4: 月 | D4: 火 | E4: 水 | F4: 木 | G4: 金 | H4: 土 | I4: 日
C5: 46685 | D5: 46686 | E5: 46687 | F5: 46688 | G5: 46689 | H5: 46690 | I5: 46691 | K5: GOAL 今週の目標
C6: =IF(C5="","",IFERROR(INDEX(祝日!$C$5:$C$40,MATCH(C5,祝日!$A$5:$A$40,0)),"")) | D6: =IF(D5="","",IFERROR(INDEX(祝日!$C$5:$C$40,MATCH(D5,祝日!$A$5:$A$40,0)),"")) | E6: =IF(E5="","",IFERROR(INDEX(祝日!$C$5:$C$40,MATCH(E5,祝日!$A$5:$A$40,0)),"")) | F6: =IF(F5="","",IFERROR(INDEX(祝日!$C$5:$C$40,MATCH(F5,祝日!$A$5:$A$40,0)),"")) | G6: =IF(G5="","",IFERROR(INDEX(祝日!$C$5:$C$40,MATCH(G5,祝日!$A$5:$A$40,0)),"")) | H6: =IF(H5="","",IFERROR(INDEX(祝日!$C$5:$C$40,MATCH(H5,祝日!$A$5:$A$40,0)),"")) | I6: =IF(I5="","",IFERROR(INDEX(祝日!$C$5:$C$40,MATCH(I5,祝日!$A$5:$A$40,0)),""))
B7: 終日
B8: 0.25
B9: 0.29166667 | K9: TO DO やること
B10: 0.33333333 | K10: ☐
B11: 0.375 | K11: ☐
B12: 0.41666667 | K12: ☐
B13: 0.45833333 | K13: ☐
B14: 0.5 | K14: ☐
B15: 0.54166667 | K15: ☐
B16: 0.58333333 | K16: ☐
B17: 0.625
B18: 0.66666667 | K18: MEMO メモ
B19: 0.70833333
B20: 0.75
B21: 0.79166667
B22: 0.83333333
B23: 0.875
B24: 0.91666667
B25: 0.95833333

Sheet 第44週
B2: 第44週 | E2: 11/1(月) – 11/7(日) | H2: NOVEMBER 2027 | K2: ← 目次へ
C4: 月 | D4: 火 | E4: 水 | F4: 木 | G4: 金 | H4: 土 | I4: 日
C5: 46692 | D5: 46693 | E5: 46694 | F5: 46695 | G5: 46696 | H5: 46697 | I5: 46698 | K5: GOAL 今週の目標
C6: =IF(C5="","",IFERROR(INDEX(祝日!$C$5:$C$40,MATCH(C5,祝日!$A$5:$A$40,0)),"")) | D6: =IF(D5="","",IFERROR(INDEX(祝日!$C$5:$C$40,MATCH(D5,祝日!$A$5:$A$40,0)),"")) | E6: =IF(E5="","",IFERROR(INDEX(祝日!$C$5:$C$40,MATCH(E5,祝日!$A$5:$A$40,0)),"")) -> 文化の日 | F6: =IF(F5="","",IFERROR(INDEX(祝日!$C$5:$C$40,MATCH(F5,祝日!$A$5:$A$40,0)),"")) | G6: =IF(G5="","",IFERROR(INDEX(祝日!$C$5:$C$40,MATCH(G5,祝日!$A$5:$A$40,0)),"")) | H6: =IF(H5="","",IFERROR(INDEX(祝日!$C$5:$C$40,MATCH(H5,祝日!$A$5:$A$40,0)),"")) | I6: =IF(I5="","",IFERROR(INDEX(祝日!$C$5:$C$40,MATCH(I5,祝日!$A$5:$A$40,0)),""))
B7: 終日
B8: 0.25
B9: 0.29166667 | K9: TO DO やること
B10: 0.33333333 | K10: ☐
B11: 0.375 | K11: ☐
B12: 0.41666667 | K12: ☐
B13: 0.45833333 | K13: ☐
B14: 0.5 | K14: ☐
B15: 0.54166667 | K15: ☐
B16: 0.58333333 | K16: ☐
B17: 0.625
B18: 0.66666667 | K18: MEMO メモ
B19: 0.70833333
B20: 0.75
B21: 0.79166667
B22: 0.83333333
B23: 0.875
B24: 0.91666667
B25: 0.95833333

Sheet 第45週
B2: 第45週 | E2: 11/8(月) – 11/14(日) | H2: NOVEMBER 2027 | K2: ← 目次へ
C4: 月 | D4: 火 | E4: 水 | F4: 木 | G4: 金 | H4: 土 | I4: 日
C5: 46699 | D5: 46700 | E5: 46701 | F5: 46702 | G5: 46703 | H5: 46704 | I5: 46705 | K5: GOAL 今週の目標
C6: =IF(C5="","",IFERROR(INDEX(祝日!$C$5:$C$40,MATCH(C5,祝日!$A$5:$A$40,0)),"")) | D6: =IF(D5="","",IFERROR(INDEX(祝日!$C$5:$C$40,MATCH(D5,祝日!$A$5:$A$40,0)),"")) | E6: =IF(E5="","",IFERROR(INDEX(祝日!$C$5:$C$40,MATCH(E5,祝日!$A$5:$A$40,0)),"")) | F6: =IF(F5="","",IFERROR(INDEX(祝日!$C$5:$C$40,MATCH(F5,祝日!$A$5:$A$40,0)),"")) | G6: =IF(G5="","",IFERROR(INDEX(祝日!$C$5:$C$40,MATCH(G5,祝日!$A$5:$A$40,0)),"")) | H6: =IF(H5="","",IFERROR(INDEX(祝日!$C$5:$C$40,MATCH(H5,祝日!$A$5:$A$40,0)),"")) | I6: =IF(I5="","",IFERROR(INDEX(祝日!$C$5:$C$40,MATCH(I5,祝日!$A$5:$A$40,0)),""))
B7: 終日
B8: 0.25
B9: 0.29166667 | K9: TO DO やること
B10: 0.33333333 | K10: ☐
B11: 0.375 | K11: ☐
B12: 0.41666667 | K12: ☐
B13: 0.45833333 | K13: ☐
B14: 0.5 | K14: ☐
B15: 0.54166667 | K15: ☐
B16: 0.58333333 | K16: ☐
B17: 0.625
B18: 0.66666667 | K18: MEMO メモ
B19: 0.70833333
B20: 0.75
B21: 0.79166667
B22: 0.83333333
B23: 0.875
B24: 0.91666667
B25: 0.95833333

Sheet 第46週
B2: 第46週 | E2: 11/15(月) – 11/21(日) | H2: NOVEMBER 2027 | K2: ← 目次へ
C4: 月 | D4: 火 | E4: 水 | F4: 木 | G4: 金 | H4: 土 | I4: 日
C5: 46706 | D5: 46707 | E5: 46708 | F5: 46709 | G5: 46710 | H5: 46711 | I5: 46712 | K5: GOAL 今週の目標
C6: =IF(C5="","",IFERROR(INDEX(祝日!$C$5:$C$40,MATCH(C5,祝日!$A$5:$A$40,0)),"")) | D6: =IF(D5="","",IFERROR(INDEX(祝日!$C$5:$C$40,MATCH(D5,祝日!$A$5:$A$40,0)),"")) | E6: =IF(E5="","",IFERROR(INDEX(祝日!$C$5:$C$40,MATCH(E5,祝日!$A$5:$A$40,0)),"")) | F6: =IF(F5="","",IFERROR(INDEX(祝日!$C$5:$C$40,MATCH(F5,祝日!$A$5:$A$40,0)),"")) | G6: =IF(G5="","",IFERROR(INDEX(祝日!$C$5:$C$40,MATCH(G5,祝日!$A$5:$A$40,0)),"")) | H6: =IF(H5="","",IFERROR(INDEX(祝日!$C$5:$C$40,MATCH(H5,祝日!$A$5:$A$40,0)),"")) | I6: =IF(I5="","",IFERROR(INDEX(祝日!$C$5:$C$40,MATCH(I5,祝日!$A$5:$A$40,0)),""))
B7: 終日
B8: 0.25
B9: 0.29166667 | K9: TO DO やること
B10: 0.33333333 | K10: ☐
B11: 0.375 | K11: ☐
B12: 0.41666667 | K12: ☐
B13: 0.45833333 | K13: ☐
B14: 0.5 | K14: ☐
B15: 0.54166667 | K15: ☐
B16: 0.58333333 | K16: ☐
B17: 0.625
B18: 0.66666667 | K18: MEMO メモ
B19: 0.70833333
B20: 0.75
B21: 0.79166667
B22: 0.83333333
B23: 0.875
B24: 0.91666667
B25: 0.95833333

Sheet 第47週
B2: 第47週 | E2: 11/22(月) – 11/28(日) | H2: NOVEMBER 2027 | K2: ← 目次へ
C4: 月 | D4: 火 | E4: 水 | F4: 木 | G4: 金 | H4: 土 | I4: 日
C5: 46713 | D5: 46714 | E5: 46715 | F5: 46716 | G5: 46717 | H5: 46718 | I5: 46719 | K5: GOAL 今週の目標
C6: =IF(C5="","",IFERROR(INDEX(祝日!$C$5:$C$40,MATCH(C5,祝日!$A$5:$A$40,0)),"")) | D6: =IF(D5="","",IFERROR(INDEX(祝日!$C$5:$C$40,MATCH(D5,祝日!$A$5:$A$40,0)),"")) -> 勤労感謝の日 | E6: =IF(E5="","",IFERROR(INDEX(祝日!$C$5:$C$40,MATCH(E5,祝日!$A$5:$A$40,0)),"")) | F6: =IF(F5="","",IFERROR(INDEX(祝日!$C$5:$C$40,MATCH(F5,祝日!$A$5:$A$40,0)),"")) | G6: =IF(G5="","",IFERROR(INDEX(祝日!$C$5:$C$40,MATCH(G5,祝日!$A$5:$A$40,0)),"")) | H6: =IF(H5="","",IFERROR(INDEX(祝日!$C$5:$C$40,MATCH(H5,祝日!$A$5:$A$40,0)),"")) | I6: =IF(I5="","",IFERROR(INDEX(祝日!$C$5:$C$40,MATCH(I5,祝日!$A$5:$A$40,0)),""))
B7: 終日
B8: 0.25
B9: 0.29166667 | K9: TO DO やること
B10: 0.33333333 | K10: ☐
B11: 0.375 | K11: ☐
B12: 0.41666667 | K12: ☐
B13: 0.45833333 | K13: ☐
B14: 0.5 | K14: ☐
B15: 0.54166667 | K15: ☐
B16: 0.58333333 | K16: ☐
B17: 0.625
B18: 0.66666667 | K18: MEMO メモ
B19: 0.70833333
B20: 0.75
B21: 0.79166667
B22: 0.83333333
B23: 0.875
B24: 0.91666667
B25: 0.95833333

Sheet 第48週
B2: 第48週 | E2: 11/29(月) – 12/5(日) | H2: DECEMBER 2027 | K2: ← 目次へ
C4: 月 | D4: 火 | E4: 水 | F4: 木 | G4: 金 | H4: 土 | I4: 日
C5: 46720 | D5: 46721 | E5: 46722 | F5: 46723 | G5: 46724 | H5: 46725 | I5: 46726 | K5: GOAL 今週の目標
C6: =IF(C5="","",IFERROR(INDEX(祝日!$C$5:$C$40,MATCH(C5,祝日!$A$5:$A$40,0)),"")) | D6: =IF(D5="","",IFERROR(INDEX(祝日!$C$5:$C$40,MATCH(D5,祝日!$A$5:$A$40,0)),"")) | E6: =IF(E5="","",IFERROR(INDEX(祝日!$C$5:$C$40,MATCH(E5,祝日!$A$5:$A$40,0)),"")) | F6: =IF(F5="","",IFERROR(INDEX(祝日!$C$5:$C$40,MATCH(F5,祝日!$A$5:$A$40,0)),"")) | G6: =IF(G5="","",IFERROR(INDEX(祝日!$C$5:$C$40,MATCH(G5,祝日!$A$5:$A$40,0)),"")) | H6: =IF(H5="","",IFERROR(INDEX(祝日!$C$5:$C$40,MATCH(H5,祝日!$A$5:$A$40,0)),"")) | I6: =IF(I5="","",IFERROR(INDEX(祝日!$C$5:$C$40,MATCH(I5,祝日!$A$5:$A$40,0)),""))
B7: 終日
B8: 0.25
B9: 0.29166667 | K9: TO DO やること
B10: 0.33333333 | K10: ☐
B11: 0.375 | K11: ☐
B12: 0.41666667 | K12: ☐
B13: 0.45833333 | K13: ☐
B14: 0.5 | K14: ☐
B15: 0.54166667 | K15: ☐
B16: 0.58333333 | K16: ☐
B17: 0.625
B18: 0.66666667 | K18: MEMO メモ
B19: 0.70833333
B20: 0.75
B21: 0.79166667
B22: 0.83333333
B23: 0.875
B24: 0.91666667
B25: 0.95833333

Sheet 第49週
B2: 第49週 | E2: 12/6(月) – 12/12(日) | H2: DECEMBER 2027 | K2: ← 目次へ
C4: 月 | D4: 火 | E4: 水 | F4: 木 | G4: 金 | H4: 土 | I4: 日
C5: 46727 | D5: 46728 | E5: 46729 | F5: 46730 | G5: 46731 | H5: 46732 | I5: 46733 | K5: GOAL 今週の目標
C6: =IF(C5="","",IFERROR(INDEX(祝日!$C$5:$C$40,MATCH(C5,祝日!$A$5:$A$40,0)),"")) | D6: =IF(D5="","",IFERROR(INDEX(祝日!$C$5:$C$40,MATCH(D5,祝日!$A$5:$A$40,0)),"")) | E6: =IF(E5="","",IFERROR(INDEX(祝日!$C$5:$C$40,MATCH(E5,祝日!$A$5:$A$40,0)),"")) | F6: =IF(F5="","",IFERROR(INDEX(祝日!$C$5:$C$40,MATCH(F5,祝日!$A$5:$A$40,0)),"")) | G6: =IF(G5="","",IFERROR(INDEX(祝日!$C$5:$C$40,MATCH(G5,祝日!$A$5:$A$40,0)),"")) | H6: =IF(H5="","",IFERROR(INDEX(祝日!$C$5:$C$40,MATCH(H5,祝日!$A$5:$A$40,0)),"")) | I6: =IF(I5="","",IFERROR(INDEX(祝日!$C$5:$C$40,MATCH(I5,祝日!$A$5:$A$40,0)),""))
B7: 終日
B8: 0.25
B9: 0.29166667 | K9: TO DO やること
B10: 0.33333333 | K10: ☐
B11: 0.375 | K11: ☐
B12: 0.41666667 | K12: ☐
B13: 0.45833333 | K13: ☐
B14: 0.5 | K14: ☐
B15: 0.54166667 | K15: ☐
B16: 0.58333333 | K16: ☐
B17: 0.625
B18: 0.66666667 | K18: MEMO メモ
B19: 0.70833333
B20: 0.75
B21: 0.79166667
B22: 0.83333333
B23: 0.875
B24: 0.91666667
B25: 0.95833333

Sheet 第50週
B2: 第50週 | E2: 12/13(月) – 12/19(日) | H2: DECEMBER 2027 | K2: ← 目次へ
C4: 月 | D4: 火 | E4: 水 | F4: 木 | G4: 金 | H4: 土 | I4: 日
C5: 46734 | D5: 46735 | E5: 46736 | F5: 46737 | G5: 46738 | H5: 46739 | I5: 46740 | K5: GOAL 今週の目標
C6: =IF(C5="","",IFERROR(INDEX(祝日!$C$5:$C$40,MATCH(C5,祝日!$A$5:$A$40,0)),"")) | D6: =IF(D5="","",IFERROR(INDEX(祝日!$C$5:$C$40,MATCH(D5,祝日!$A$5:$A$40,0)),"")) | E6: =IF(E5="","",IFERROR(INDEX(祝日!$C$5:$C$40,MATCH(E5,祝日!$A$5:$A$40,0)),"")) | F6: =IF(F5="","",IFERROR(INDEX(祝日!$C$5:$C$40,MATCH(F5,祝日!$A$5:$A$40,0)),"")) | G6: =IF(G5="","",IFERROR(INDEX(祝日!$C$5:$C$40,MATCH(G5,祝日!$A$5:$A$40,0)),"")) | H6: =IF(H5="","",IFERROR(INDEX(祝日!$C$5:$C$40,MATCH(H5,祝日!$A$5:$A$40,0)),"")) | I6: =IF(I5="","",IFERROR(INDEX(祝日!$C$5:$C$40,MATCH(I5,祝日!$A$5:$A$40,0)),""))
B7: 終日
B8: 0.25
B9: 0.29166667 | K9: TO DO やること
B10: 0.33333333 | K10: ☐
B11: 0.375 | K11: ☐
B12: 0.41666667 | K12: ☐
B13: 0.45833333 | K13: ☐
B14: 0.5 | K14: ☐
B15: 0.54166667 | K15: ☐
B16: 0.58333333 | K16: ☐
B17: 0.625
B18: 0.66666667 | K18: MEMO メモ
B19: 0.70833333
B20: 0.75
B21: 0.79166667
B22: 0.83333333
B23: 0.875
B24: 0.91666667
B25: 0.95833333

Sheet 第51週
B2: 第51週 | E2: 12/20(月) – 12/26(日) | H2: DECEMBER 2027 | K2: ← 目次へ
C4: 月 | D4: 火 | E4: 水 | F4: 木 | G4: 金 | H4: 土 | I4: 日
C5: 46741 | D5: 46742 | E5: 46743 | F5: 46744 | G5: 46745 | H5: 46746 | I5: 46747 | K5: GOAL 今週の目標
C6: =IF(C5="","",IFERROR(INDEX(祝日!$C$5:$C$40,MATCH(C5,祝日!$A$5:$A$40,0)),"")) | D6: =IF(D5="","",IFERROR(INDEX(祝日!$C$5:$C$40,MATCH(D5,祝日!$A$5:$A$40,0)),"")) | E6: =IF(E5="","",IFERROR(INDEX(祝日!$C$5:$C$40,MATCH(E5,祝日!$A$5:$A$40,0)),"")) | F6: =IF(F5="","",IFERROR(INDEX(祝日!$C$5:$C$40,MATCH(F5,祝日!$A$5:$A$40,0)),"")) | G6: =IF(G5="","",IFERROR(INDEX(祝日!$C$5:$C$40,MATCH(G5,祝日!$A$5:$A$40,0)),"")) | H6: =IF(H5="","",IFERROR(INDEX(祝日!$C$5:$C$40,MATCH(H5,祝日!$A$5:$A$40,0)),"")) | I6: =IF(I5="","",IFERROR(INDEX(祝日!$C$5:$C$40,MATCH(I5,祝日!$A$5:$A$40,0)),""))
B7: 終日
B8: 0.25
B9: 0.29166667 | K9: TO DO やること
B10: 0.33333333 | K10: ☐
B11: 0.375 | K11: ☐
B12: 0.41666667 | K12: ☐
B13: 0.45833333 | K13: ☐
B14: 0.5 | K14: ☐
B15: 0.54166667 | K15: ☐
B16: 0.58333333 | K16: ☐
B17: 0.625
B18: 0.66666667 | K18: MEMO メモ
B19: 0.70833333
B20: 0.75
B21: 0.79166667
B22: 0.83333333
B23: 0.875
B24: 0.91666667
B25: 0.95833333

Sheet 第52週
B2: 第52週 | E2: 12/27(月) – 1/2(日) | H2: JANUARY 2027 | K2: ← 目次へ
C4: 月 | D4: 火 | E4: 水 | F4: 木 | G4: 金 | H4: 土 | I4: 日
